BEGIN:VCALENDAR
VERSION:2.0
PRODID:-//Bonjour Genève - ECPv6.15.17//NONSGML v1.0//EN
CALSCALE:GREGORIAN
METHOD:PUBLISH
X-WR-CALNAME:Bonjour Genève
X-ORIGINAL-URL:https://bonjourgeneve.ch/en/
X-WR-CALDESC:Events for Bonjour Genève
REFRESH-INTERVAL;VALUE=DURATION:PT1H
X-Robots-Tag:noindex
X-PUBLISHED-TTL:PT1H
BEGIN:VTIMEZONE
TZID:Europe/Paris
BEGIN:DAYLIGHT
TZOFFSETFROM:+0100
TZOFFSETTO:+0200
TZNAME:CEST
DTSTART:20230326T010000
END:DAYLIGHT
BEGIN:STANDARD
TZOFFSETFROM:+0200
TZOFFSETTO:+0100
TZNAME:CET
DTSTART:20231029T010000
END:STANDARD
BEGIN:DAYLIGHT
TZOFFSETFROM:+0100
TZOFFSETTO:+0200
TZNAME:CEST
DTSTART:20240331T010000
END:DAYLIGHT
BEGIN:STANDARD
TZOFFSETFROM:+0200
TZOFFSETTO:+0100
TZNAME:CET
DTSTART:20241027T010000
END:STANDARD
BEGIN:DAYLIGHT
TZOFFSETFROM:+0100
TZOFFSETTO:+0200
TZNAME:CEST
DTSTART:20250330T010000
END:DAYLIGHT
BEGIN:STANDARD
TZOFFSETFROM:+0200
TZOFFSETTO:+0100
TZNAME:CET
DTSTART:20251026T010000
END:STANDARD
BEGIN:DAYLIGHT
TZOFFSETFROM:+0100
TZOFFSETTO:+0200
TZNAME:CEST
DTSTART:20260329T010000
END:DAYLIGHT
BEGIN:STANDARD
TZOFFSETFROM:+0200
TZOFFSETTO:+0100
TZNAME:CET
DTSTART:20261025T010000
END:STANDARD
END:VTIMEZONE
BEGIN:VEVENT
DTSTART;TZID=Europe/Paris:20250130T163000
DTEND;TZID=Europe/Paris:20250130T180000
DTSTAMP:20260426T044727
CREATED:20241017T125127Z
LAST-MODIFIED:20251008T085047Z
UID:10078932-1738254600-1738260000@bonjourgeneve.ch
SUMMARY:Atelier "Buisness English" B1-B2
DESCRIPTION:
URL:https://bonjourgeneve.ch/en/evenement/atelier-interactive-english-for-career-personal-development-intermediate-level-b1/2025-01-30/
LOCATION:Centre d’accueil de jour pour les personnes réfugiées\, 67C Rue de Lausanne\, Genève\, 1202
ATTACH;FMTTYPE=image/png:https://bonjourgeneve.ch/wp-content/uploads/2025/10/Anglais-Buisness.png
END:VEVENT
BEGIN:VEVENT
DTSTART;TZID=Europe/Paris:20250123T163000
DTEND;TZID=Europe/Paris:20250123T180000
DTSTAMP:20260426T044727
CREATED:20241017T125127Z
LAST-MODIFIED:20251008T085047Z
UID:10078931-1737649800-1737655200@bonjourgeneve.ch
SUMMARY:Atelier "Buisness English" B1-B2
DESCRIPTION:
URL:https://bonjourgeneve.ch/en/evenement/atelier-interactive-english-for-career-personal-development-intermediate-level-b1/2025-01-23/
LOCATION:Centre d’accueil de jour pour les personnes réfugiées\, 67C Rue de Lausanne\, Genève\, 1202
ATTACH;FMTTYPE=image/png:https://bonjourgeneve.ch/wp-content/uploads/2025/10/Anglais-Buisness.png
END:VEVENT
BEGIN:VEVENT
DTSTART;TZID=Europe/Paris:20250116T163000
DTEND;TZID=Europe/Paris:20250116T180000
DTSTAMP:20260426T044727
CREATED:20241017T125127Z
LAST-MODIFIED:20251008T085047Z
UID:10078930-1737045000-1737050400@bonjourgeneve.ch
SUMMARY:Atelier "Buisness English" B1-B2
DESCRIPTION:
URL:https://bonjourgeneve.ch/en/evenement/atelier-interactive-english-for-career-personal-development-intermediate-level-b1/2025-01-16/
LOCATION:Centre d’accueil de jour pour les personnes réfugiées\, 67C Rue de Lausanne\, Genève\, 1202
ATTACH;FMTTYPE=image/png:https://bonjourgeneve.ch/wp-content/uploads/2025/10/Anglais-Buisness.png
END:VEVENT
BEGIN:VEVENT
DTSTART;TZID=Europe/Paris:20250109T163000
DTEND;TZID=Europe/Paris:20250109T180000
DTSTAMP:20260426T044727
CREATED:20241017T125127Z
LAST-MODIFIED:20251008T085047Z
UID:10078929-1736440200-1736445600@bonjourgeneve.ch
SUMMARY:Atelier "Buisness English" B1-B2
DESCRIPTION:
URL:https://bonjourgeneve.ch/en/evenement/atelier-interactive-english-for-career-personal-development-intermediate-level-b1/2025-01-09/
LOCATION:Centre d’accueil de jour pour les personnes réfugiées\, 67C Rue de Lausanne\, Genève\, 1202
ATTACH;FMTTYPE=image/png:https://bonjourgeneve.ch/wp-content/uploads/2025/10/Anglais-Buisness.png
END:VEVENT
BEGIN:VEVENT
DTSTART;TZID=Europe/Paris:20250102T163000
DTEND;TZID=Europe/Paris:20250102T180000
DTSTAMP:20260426T044727
CREATED:20241017T125127Z
LAST-MODIFIED:20251008T085047Z
UID:10078928-1735835400-1735840800@bonjourgeneve.ch
SUMMARY:Atelier "Buisness English" B1-B2
DESCRIPTION:
URL:https://bonjourgeneve.ch/en/evenement/atelier-interactive-english-for-career-personal-development-intermediate-level-b1/2025-01-02/
LOCATION:Centre d’accueil de jour pour les personnes réfugiées\, 67C Rue de Lausanne\, Genève\, 1202
ATTACH;FMTTYPE=image/png:https://bonjourgeneve.ch/wp-content/uploads/2025/10/Anglais-Buisness.png
END:VEVENT
BEGIN:VEVENT
DTSTART;TZID=Europe/Paris:20241226T163000
DTEND;TZID=Europe/Paris:20241226T180000
DTSTAMP:20260426T044727
CREATED:20241017T125127Z
LAST-MODIFIED:20251008T085047Z
UID:10078927-1735230600-1735236000@bonjourgeneve.ch
SUMMARY:Atelier "Buisness English" B1-B2
DESCRIPTION:
URL:https://bonjourgeneve.ch/en/evenement/atelier-interactive-english-for-career-personal-development-intermediate-level-b1/2024-12-26/
LOCATION:Centre d’accueil de jour pour les personnes réfugiées\, 67C Rue de Lausanne\, Genève\, 1202
ATTACH;FMTTYPE=image/png:https://bonjourgeneve.ch/wp-content/uploads/2025/10/Anglais-Buisness.png
END:VEVENT
BEGIN:VEVENT
DTSTART;TZID=Europe/Paris:20241219T163000
DTEND;TZID=Europe/Paris:20241219T180000
DTSTAMP:20260426T044727
CREATED:20241017T125127Z
LAST-MODIFIED:20251008T085047Z
UID:10078926-1734625800-1734631200@bonjourgeneve.ch
SUMMARY:Atelier "Buisness English" B1-B2
DESCRIPTION:
URL:https://bonjourgeneve.ch/en/evenement/atelier-interactive-english-for-career-personal-development-intermediate-level-b1/2024-12-19/
LOCATION:Centre d’accueil de jour pour les personnes réfugiées\, 67C Rue de Lausanne\, Genève\, 1202
ATTACH;FMTTYPE=image/png:https://bonjourgeneve.ch/wp-content/uploads/2025/10/Anglais-Buisness.png
END:VEVENT
BEGIN:VEVENT
DTSTART;TZID=Europe/Paris:20241212T163000
DTEND;TZID=Europe/Paris:20241212T180000
DTSTAMP:20260426T044727
CREATED:20241017T125127Z
LAST-MODIFIED:20251008T085047Z
UID:10078925-1734021000-1734026400@bonjourgeneve.ch
SUMMARY:Atelier "Buisness English" B1-B2
DESCRIPTION:
URL:https://bonjourgeneve.ch/en/evenement/atelier-interactive-english-for-career-personal-development-intermediate-level-b1/2024-12-12/
LOCATION:Centre d’accueil de jour pour les personnes réfugiées\, 67C Rue de Lausanne\, Genève\, 1202
ATTACH;FMTTYPE=image/png:https://bonjourgeneve.ch/wp-content/uploads/2025/10/Anglais-Buisness.png
END:VEVENT
BEGIN:VEVENT
DTSTART;TZID=Europe/Paris:20241205T163000
DTEND;TZID=Europe/Paris:20241205T180000
DTSTAMP:20260426T044727
CREATED:20241017T125127Z
LAST-MODIFIED:20251008T085047Z
UID:10078924-1733416200-1733421600@bonjourgeneve.ch
SUMMARY:Atelier "Buisness English" B1-B2
DESCRIPTION:
URL:https://bonjourgeneve.ch/en/evenement/atelier-interactive-english-for-career-personal-development-intermediate-level-b1/2024-12-05/
LOCATION:Centre d’accueil de jour pour les personnes réfugiées\, 67C Rue de Lausanne\, Genève\, 1202
ATTACH;FMTTYPE=image/png:https://bonjourgeneve.ch/wp-content/uploads/2025/10/Anglais-Buisness.png
END:VEVENT
BEGIN:VEVENT
DTSTART;TZID=Europe/Paris:20241128T163000
DTEND;TZID=Europe/Paris:20241128T180000
DTSTAMP:20260426T044727
CREATED:20241017T125127Z
LAST-MODIFIED:20251008T085047Z
UID:10078923-1732811400-1732816800@bonjourgeneve.ch
SUMMARY:Atelier "Buisness English" B1-B2
DESCRIPTION:
URL:https://bonjourgeneve.ch/en/evenement/atelier-interactive-english-for-career-personal-development-intermediate-level-b1/2024-11-28/
LOCATION:Centre d’accueil de jour pour les personnes réfugiées\, 67C Rue de Lausanne\, Genève\, 1202
ATTACH;FMTTYPE=image/png:https://bonjourgeneve.ch/wp-content/uploads/2025/10/Anglais-Buisness.png
END:VEVENT
BEGIN:VEVENT
DTSTART;TZID=Europe/Paris:20241121T163000
DTEND;TZID=Europe/Paris:20241121T180000
DTSTAMP:20260426T044727
CREATED:20241017T125127Z
LAST-MODIFIED:20251008T085047Z
UID:10078922-1732206600-1732212000@bonjourgeneve.ch
SUMMARY:Atelier "Buisness English" B1-B2
DESCRIPTION:
URL:https://bonjourgeneve.ch/en/evenement/atelier-interactive-english-for-career-personal-development-intermediate-level-b1/2024-11-21/
LOCATION:Centre d’accueil de jour pour les personnes réfugiées\, 67C Rue de Lausanne\, Genève\, 1202
ATTACH;FMTTYPE=image/png:https://bonjourgeneve.ch/wp-content/uploads/2025/10/Anglais-Buisness.png
END:VEVENT
BEGIN:VEVENT
DTSTART;TZID=Europe/Paris:20241114T163000
DTEND;TZID=Europe/Paris:20241114T180000
DTSTAMP:20260426T044727
CREATED:20241017T125127Z
LAST-MODIFIED:20251008T085047Z
UID:10078921-1731601800-1731607200@bonjourgeneve.ch
SUMMARY:Atelier "Buisness English" B1-B2
DESCRIPTION:
URL:https://bonjourgeneve.ch/en/evenement/atelier-interactive-english-for-career-personal-development-intermediate-level-b1/2024-11-14/
LOCATION:Centre d’accueil de jour pour les personnes réfugiées\, 67C Rue de Lausanne\, Genève\, 1202
ATTACH;FMTTYPE=image/png:https://bonjourgeneve.ch/wp-content/uploads/2025/10/Anglais-Buisness.png
END:VEVENT
BEGIN:VEVENT
DTSTART;TZID=Europe/Paris:20241107T163000
DTEND;TZID=Europe/Paris:20241107T180000
DTSTAMP:20260426T044727
CREATED:20241017T125127Z
LAST-MODIFIED:20251008T085047Z
UID:10078920-1730997000-1731002400@bonjourgeneve.ch
SUMMARY:Atelier "Buisness English" B1-B2
DESCRIPTION:
URL:https://bonjourgeneve.ch/en/evenement/atelier-interactive-english-for-career-personal-development-intermediate-level-b1/2024-11-07/
LOCATION:Centre d’accueil de jour pour les personnes réfugiées\, 67C Rue de Lausanne\, Genève\, 1202
ATTACH;FMTTYPE=image/png:https://bonjourgeneve.ch/wp-content/uploads/2025/10/Anglais-Buisness.png
END:VEVENT
BEGIN:VEVENT
DTSTART;TZID=Europe/Paris:20241031T163000
DTEND;TZID=Europe/Paris:20241031T180000
DTSTAMP:20260426T044727
CREATED:20241017T125127Z
LAST-MODIFIED:20251008T085047Z
UID:10078919-1730392200-1730397600@bonjourgeneve.ch
SUMMARY:Atelier "Buisness English" B1-B2
DESCRIPTION:
URL:https://bonjourgeneve.ch/en/evenement/atelier-interactive-english-for-career-personal-development-intermediate-level-b1/2024-10-31/
LOCATION:Centre d’accueil de jour pour les personnes réfugiées\, 67C Rue de Lausanne\, Genève\, 1202
ATTACH;FMTTYPE=image/png:https://bonjourgeneve.ch/wp-content/uploads/2025/10/Anglais-Buisness.png
END:VEVENT
BEGIN:VEVENT
DTSTART;TZID=Europe/Paris:20241024T163000
DTEND;TZID=Europe/Paris:20241024T180000
DTSTAMP:20260426T044727
CREATED:20241017T125127Z
LAST-MODIFIED:20251008T085047Z
UID:10078918-1729787400-1729792800@bonjourgeneve.ch
SUMMARY:Atelier "Buisness English" B1-B2
DESCRIPTION:
URL:https://bonjourgeneve.ch/en/evenement/atelier-interactive-english-for-career-personal-development-intermediate-level-b1/2024-10-24/
LOCATION:Centre d’accueil de jour pour les personnes réfugiées\, 67C Rue de Lausanne\, Genève\, 1202
ATTACH;FMTTYPE=image/png:https://bonjourgeneve.ch/wp-content/uploads/2025/10/Anglais-Buisness.png
END:VEVENT
BEGIN:VEVENT
DTSTART;TZID=Europe/Paris:20241017T163000
DTEND;TZID=Europe/Paris:20241017T180000
DTSTAMP:20260426T044727
CREATED:20241017T125127Z
LAST-MODIFIED:20251008T085047Z
UID:10078917-1729182600-1729188000@bonjourgeneve.ch
SUMMARY:Atelier "Buisness English" B1-B2
DESCRIPTION:
URL:https://bonjourgeneve.ch/en/evenement/atelier-interactive-english-for-career-personal-development-intermediate-level-b1/2024-10-17/
LOCATION:Centre d’accueil de jour pour les personnes réfugiées\, 67C Rue de Lausanne\, Genève\, 1202
ATTACH;FMTTYPE=image/png:https://bonjourgeneve.ch/wp-content/uploads/2025/10/Anglais-Buisness.png
END:VEVENT
END:VCALENDAR