BEGIN:VCALENDAR
VERSION:2.0
PRODID:-//Bonjour Genève - ECPv6.15.17//NONSGML v1.0//EN
CALSCALE:GREGORIAN
METHOD:PUBLISH
X-WR-CALNAME:Bonjour Genève
X-ORIGINAL-URL:https://bonjourgeneve.ch/en/
X-WR-CALDESC:Events for Bonjour Genève
REFRESH-INTERVAL;VALUE=DURATION:PT1H
X-Robots-Tag:noindex
X-PUBLISHED-TTL:PT1H
BEGIN:VTIMEZONE
TZID:Europe/Paris
BEGIN:DAYLIGHT
TZOFFSETFROM:+0100
TZOFFSETTO:+0200
TZNAME:CEST
DTSTART:20240331T010000
END:DAYLIGHT
BEGIN:STANDARD
TZOFFSETFROM:+0200
TZOFFSETTO:+0100
TZNAME:CET
DTSTART:20241027T010000
END:STANDARD
BEGIN:DAYLIGHT
TZOFFSETFROM:+0100
TZOFFSETTO:+0200
TZNAME:CEST
DTSTART:20250330T010000
END:DAYLIGHT
BEGIN:STANDARD
TZOFFSETFROM:+0200
TZOFFSETTO:+0100
TZNAME:CET
DTSTART:20251026T010000
END:STANDARD
BEGIN:DAYLIGHT
TZOFFSETFROM:+0100
TZOFFSETTO:+0200
TZNAME:CEST
DTSTART:20260329T010000
END:DAYLIGHT
BEGIN:STANDARD
TZOFFSETFROM:+0200
TZOFFSETTO:+0100
TZNAME:CET
DTSTART:20261025T010000
END:STANDARD
END:VTIMEZONE
BEGIN:VEVENT
DTSTART;TZID=Europe/Paris:20250828T163000
DTEND;TZID=Europe/Paris:20250828T180000
DTSTAMP:20260425T162620
CREATED:20241017T125127Z
LAST-MODIFIED:20251008T085047Z
UID:10078962-1756398600-1756404000@bonjourgeneve.ch
SUMMARY:Atelier "Buisness English" B1-B2
DESCRIPTION:
URL:https://bonjourgeneve.ch/en/evenement/atelier-interactive-english-for-career-personal-development-intermediate-level-b1/2025-08-28/
LOCATION:Centre d’accueil de jour pour les personnes réfugiées\, 67C Rue de Lausanne\, Genève\, 1202
ATTACH;FMTTYPE=image/png:https://bonjourgeneve.ch/wp-content/uploads/2025/10/Anglais-Buisness.png
END:VEVENT
BEGIN:VEVENT
DTSTART;TZID=Europe/Paris:20250821T163000
DTEND;TZID=Europe/Paris:20250821T180000
DTSTAMP:20260425T162621
CREATED:20241017T125127Z
LAST-MODIFIED:20251008T085047Z
UID:10078961-1755793800-1755799200@bonjourgeneve.ch
SUMMARY:Atelier "Buisness English" B1-B2
DESCRIPTION:
URL:https://bonjourgeneve.ch/en/evenement/atelier-interactive-english-for-career-personal-development-intermediate-level-b1/2025-08-21/
LOCATION:Centre d’accueil de jour pour les personnes réfugiées\, 67C Rue de Lausanne\, Genève\, 1202
ATTACH;FMTTYPE=image/png:https://bonjourgeneve.ch/wp-content/uploads/2025/10/Anglais-Buisness.png
END:VEVENT
BEGIN:VEVENT
DTSTART;TZID=Europe/Paris:20250814T163000
DTEND;TZID=Europe/Paris:20250814T180000
DTSTAMP:20260425T162621
CREATED:20241017T125127Z
LAST-MODIFIED:20251008T085047Z
UID:10078960-1755189000-1755194400@bonjourgeneve.ch
SUMMARY:Atelier "Buisness English" B1-B2
DESCRIPTION:
URL:https://bonjourgeneve.ch/en/evenement/atelier-interactive-english-for-career-personal-development-intermediate-level-b1/2025-08-14/
LOCATION:Centre d’accueil de jour pour les personnes réfugiées\, 67C Rue de Lausanne\, Genève\, 1202
ATTACH;FMTTYPE=image/png:https://bonjourgeneve.ch/wp-content/uploads/2025/10/Anglais-Buisness.png
END:VEVENT
BEGIN:VEVENT
DTSTART;TZID=Europe/Paris:20250807T163000
DTEND;TZID=Europe/Paris:20250807T180000
DTSTAMP:20260425T162621
CREATED:20241017T125127Z
LAST-MODIFIED:20251008T085047Z
UID:10078959-1754584200-1754589600@bonjourgeneve.ch
SUMMARY:Atelier "Buisness English" B1-B2
DESCRIPTION:
URL:https://bonjourgeneve.ch/en/evenement/atelier-interactive-english-for-career-personal-development-intermediate-level-b1/2025-08-07/
LOCATION:Centre d’accueil de jour pour les personnes réfugiées\, 67C Rue de Lausanne\, Genève\, 1202
ATTACH;FMTTYPE=image/png:https://bonjourgeneve.ch/wp-content/uploads/2025/10/Anglais-Buisness.png
END:VEVENT
BEGIN:VEVENT
DTSTART;TZID=Europe/Paris:20250731T163000
DTEND;TZID=Europe/Paris:20250731T180000
DTSTAMP:20260425T162621
CREATED:20241017T125127Z
LAST-MODIFIED:20251008T085047Z
UID:10078958-1753979400-1753984800@bonjourgeneve.ch
SUMMARY:Atelier "Buisness English" B1-B2
DESCRIPTION:
URL:https://bonjourgeneve.ch/en/evenement/atelier-interactive-english-for-career-personal-development-intermediate-level-b1/2025-07-31/
LOCATION:Centre d’accueil de jour pour les personnes réfugiées\, 67C Rue de Lausanne\, Genève\, 1202
ATTACH;FMTTYPE=image/png:https://bonjourgeneve.ch/wp-content/uploads/2025/10/Anglais-Buisness.png
END:VEVENT
BEGIN:VEVENT
DTSTART;TZID=Europe/Paris:20250724T163000
DTEND;TZID=Europe/Paris:20250724T180000
DTSTAMP:20260425T162621
CREATED:20241017T125127Z
LAST-MODIFIED:20251008T085047Z
UID:10078957-1753374600-1753380000@bonjourgeneve.ch
SUMMARY:Atelier "Buisness English" B1-B2
DESCRIPTION:
URL:https://bonjourgeneve.ch/en/evenement/atelier-interactive-english-for-career-personal-development-intermediate-level-b1/2025-07-24/
LOCATION:Centre d’accueil de jour pour les personnes réfugiées\, 67C Rue de Lausanne\, Genève\, 1202
ATTACH;FMTTYPE=image/png:https://bonjourgeneve.ch/wp-content/uploads/2025/10/Anglais-Buisness.png
END:VEVENT
BEGIN:VEVENT
DTSTART;TZID=Europe/Paris:20250717T163000
DTEND;TZID=Europe/Paris:20250717T180000
DTSTAMP:20260425T162621
CREATED:20241017T125127Z
LAST-MODIFIED:20251008T085047Z
UID:10078956-1752769800-1752775200@bonjourgeneve.ch
SUMMARY:Atelier "Buisness English" B1-B2
DESCRIPTION:
URL:https://bonjourgeneve.ch/en/evenement/atelier-interactive-english-for-career-personal-development-intermediate-level-b1/2025-07-17/
LOCATION:Centre d’accueil de jour pour les personnes réfugiées\, 67C Rue de Lausanne\, Genève\, 1202
ATTACH;FMTTYPE=image/png:https://bonjourgeneve.ch/wp-content/uploads/2025/10/Anglais-Buisness.png
END:VEVENT
BEGIN:VEVENT
DTSTART;TZID=Europe/Paris:20250710T163000
DTEND;TZID=Europe/Paris:20250710T180000
DTSTAMP:20260425T162621
CREATED:20241017T125127Z
LAST-MODIFIED:20251008T085047Z
UID:10078955-1752165000-1752170400@bonjourgeneve.ch
SUMMARY:Atelier "Buisness English" B1-B2
DESCRIPTION:
URL:https://bonjourgeneve.ch/en/evenement/atelier-interactive-english-for-career-personal-development-intermediate-level-b1/2025-07-10/
LOCATION:Centre d’accueil de jour pour les personnes réfugiées\, 67C Rue de Lausanne\, Genève\, 1202
ATTACH;FMTTYPE=image/png:https://bonjourgeneve.ch/wp-content/uploads/2025/10/Anglais-Buisness.png
END:VEVENT
BEGIN:VEVENT
DTSTART;TZID=Europe/Paris:20250703T163000
DTEND;TZID=Europe/Paris:20250703T180000
DTSTAMP:20260425T162621
CREATED:20241017T125127Z
LAST-MODIFIED:20251008T085047Z
UID:10078954-1751560200-1751565600@bonjourgeneve.ch
SUMMARY:Atelier "Buisness English" B1-B2
DESCRIPTION:
URL:https://bonjourgeneve.ch/en/evenement/atelier-interactive-english-for-career-personal-development-intermediate-level-b1/2025-07-03/
LOCATION:Centre d’accueil de jour pour les personnes réfugiées\, 67C Rue de Lausanne\, Genève\, 1202
ATTACH;FMTTYPE=image/png:https://bonjourgeneve.ch/wp-content/uploads/2025/10/Anglais-Buisness.png
END:VEVENT
BEGIN:VEVENT
DTSTART;TZID=Europe/Paris:20250626T163000
DTEND;TZID=Europe/Paris:20250626T180000
DTSTAMP:20260425T162621
CREATED:20241017T125127Z
LAST-MODIFIED:20251008T085047Z
UID:10078953-1750955400-1750960800@bonjourgeneve.ch
SUMMARY:Atelier "Buisness English" B1-B2
DESCRIPTION:
URL:https://bonjourgeneve.ch/en/evenement/atelier-interactive-english-for-career-personal-development-intermediate-level-b1/2025-06-26/
LOCATION:Centre d’accueil de jour pour les personnes réfugiées\, 67C Rue de Lausanne\, Genève\, 1202
ATTACH;FMTTYPE=image/png:https://bonjourgeneve.ch/wp-content/uploads/2025/10/Anglais-Buisness.png
END:VEVENT
BEGIN:VEVENT
DTSTART;TZID=Europe/Paris:20250619T163000
DTEND;TZID=Europe/Paris:20250619T180000
DTSTAMP:20260425T162621
CREATED:20241017T125127Z
LAST-MODIFIED:20251008T085047Z
UID:10078952-1750350600-1750356000@bonjourgeneve.ch
SUMMARY:Atelier "Buisness English" B1-B2
DESCRIPTION:
URL:https://bonjourgeneve.ch/en/evenement/atelier-interactive-english-for-career-personal-development-intermediate-level-b1/2025-06-19/
LOCATION:Centre d’accueil de jour pour les personnes réfugiées\, 67C Rue de Lausanne\, Genève\, 1202
ATTACH;FMTTYPE=image/png:https://bonjourgeneve.ch/wp-content/uploads/2025/10/Anglais-Buisness.png
END:VEVENT
BEGIN:VEVENT
DTSTART;TZID=Europe/Paris:20250612T163000
DTEND;TZID=Europe/Paris:20250612T180000
DTSTAMP:20260425T162621
CREATED:20241017T125127Z
LAST-MODIFIED:20251008T085047Z
UID:10078951-1749745800-1749751200@bonjourgeneve.ch
SUMMARY:Atelier "Buisness English" B1-B2
DESCRIPTION:
URL:https://bonjourgeneve.ch/en/evenement/atelier-interactive-english-for-career-personal-development-intermediate-level-b1/2025-06-12/
LOCATION:Centre d’accueil de jour pour les personnes réfugiées\, 67C Rue de Lausanne\, Genève\, 1202
ATTACH;FMTTYPE=image/png:https://bonjourgeneve.ch/wp-content/uploads/2025/10/Anglais-Buisness.png
END:VEVENT
BEGIN:VEVENT
DTSTART;TZID=Europe/Paris:20250605T163000
DTEND;TZID=Europe/Paris:20250605T180000
DTSTAMP:20260425T162621
CREATED:20241017T125127Z
LAST-MODIFIED:20251008T085047Z
UID:10078950-1749141000-1749146400@bonjourgeneve.ch
SUMMARY:Atelier "Buisness English" B1-B2
DESCRIPTION:
URL:https://bonjourgeneve.ch/en/evenement/atelier-interactive-english-for-career-personal-development-intermediate-level-b1/2025-06-05/
LOCATION:Centre d’accueil de jour pour les personnes réfugiées\, 67C Rue de Lausanne\, Genève\, 1202
ATTACH;FMTTYPE=image/png:https://bonjourgeneve.ch/wp-content/uploads/2025/10/Anglais-Buisness.png
END:VEVENT
BEGIN:VEVENT
DTSTART;TZID=Europe/Paris:20250529T163000
DTEND;TZID=Europe/Paris:20250529T180000
DTSTAMP:20260425T162621
CREATED:20241017T125127Z
LAST-MODIFIED:20251008T085047Z
UID:10078949-1748536200-1748541600@bonjourgeneve.ch
SUMMARY:Atelier "Buisness English" B1-B2
DESCRIPTION:
URL:https://bonjourgeneve.ch/en/evenement/atelier-interactive-english-for-career-personal-development-intermediate-level-b1/2025-05-29/
LOCATION:Centre d’accueil de jour pour les personnes réfugiées\, 67C Rue de Lausanne\, Genève\, 1202
ATTACH;FMTTYPE=image/png:https://bonjourgeneve.ch/wp-content/uploads/2025/10/Anglais-Buisness.png
END:VEVENT
BEGIN:VEVENT
DTSTART;TZID=Europe/Paris:20250522T163000
DTEND;TZID=Europe/Paris:20250522T180000
DTSTAMP:20260425T162621
CREATED:20241017T125127Z
LAST-MODIFIED:20251008T085047Z
UID:10078948-1747931400-1747936800@bonjourgeneve.ch
SUMMARY:Atelier "Buisness English" B1-B2
DESCRIPTION:
URL:https://bonjourgeneve.ch/en/evenement/atelier-interactive-english-for-career-personal-development-intermediate-level-b1/2025-05-22/
LOCATION:Centre d’accueil de jour pour les personnes réfugiées\, 67C Rue de Lausanne\, Genève\, 1202
ATTACH;FMTTYPE=image/png:https://bonjourgeneve.ch/wp-content/uploads/2025/10/Anglais-Buisness.png
END:VEVENT
BEGIN:VEVENT
DTSTART;TZID=Europe/Paris:20250515T163000
DTEND;TZID=Europe/Paris:20250515T180000
DTSTAMP:20260425T162621
CREATED:20241017T125127Z
LAST-MODIFIED:20251008T085047Z
UID:10078947-1747326600-1747332000@bonjourgeneve.ch
SUMMARY:Atelier "Buisness English" B1-B2
DESCRIPTION:
URL:https://bonjourgeneve.ch/en/evenement/atelier-interactive-english-for-career-personal-development-intermediate-level-b1/2025-05-15/
LOCATION:Centre d’accueil de jour pour les personnes réfugiées\, 67C Rue de Lausanne\, Genève\, 1202
ATTACH;FMTTYPE=image/png:https://bonjourgeneve.ch/wp-content/uploads/2025/10/Anglais-Buisness.png
END:VEVENT
BEGIN:VEVENT
DTSTART;TZID=Europe/Paris:20250508T163000
DTEND;TZID=Europe/Paris:20250508T180000
DTSTAMP:20260425T162621
CREATED:20241017T125127Z
LAST-MODIFIED:20251008T085047Z
UID:10078946-1746721800-1746727200@bonjourgeneve.ch
SUMMARY:Atelier "Buisness English" B1-B2
DESCRIPTION:
URL:https://bonjourgeneve.ch/en/evenement/atelier-interactive-english-for-career-personal-development-intermediate-level-b1/2025-05-08/
LOCATION:Centre d’accueil de jour pour les personnes réfugiées\, 67C Rue de Lausanne\, Genève\, 1202
ATTACH;FMTTYPE=image/png:https://bonjourgeneve.ch/wp-content/uploads/2025/10/Anglais-Buisness.png
END:VEVENT
BEGIN:VEVENT
DTSTART;TZID=Europe/Paris:20250501T163000
DTEND;TZID=Europe/Paris:20250501T180000
DTSTAMP:20260425T162621
CREATED:20241017T125127Z
LAST-MODIFIED:20251008T085047Z
UID:10078945-1746117000-1746122400@bonjourgeneve.ch
SUMMARY:Atelier "Buisness English" B1-B2
DESCRIPTION:
URL:https://bonjourgeneve.ch/en/evenement/atelier-interactive-english-for-career-personal-development-intermediate-level-b1/2025-05-01/
LOCATION:Centre d’accueil de jour pour les personnes réfugiées\, 67C Rue de Lausanne\, Genève\, 1202
ATTACH;FMTTYPE=image/png:https://bonjourgeneve.ch/wp-content/uploads/2025/10/Anglais-Buisness.png
END:VEVENT
BEGIN:VEVENT
DTSTART;TZID=Europe/Paris:20250424T163000
DTEND;TZID=Europe/Paris:20250424T180000
DTSTAMP:20260425T162621
CREATED:20241017T125127Z
LAST-MODIFIED:20251008T085047Z
UID:10078944-1745512200-1745517600@bonjourgeneve.ch
SUMMARY:Atelier "Buisness English" B1-B2
DESCRIPTION:
URL:https://bonjourgeneve.ch/en/evenement/atelier-interactive-english-for-career-personal-development-intermediate-level-b1/2025-04-24/
LOCATION:Centre d’accueil de jour pour les personnes réfugiées\, 67C Rue de Lausanne\, Genève\, 1202
ATTACH;FMTTYPE=image/png:https://bonjourgeneve.ch/wp-content/uploads/2025/10/Anglais-Buisness.png
END:VEVENT
BEGIN:VEVENT
DTSTART;TZID=Europe/Paris:20250417T163000
DTEND;TZID=Europe/Paris:20250417T180000
DTSTAMP:20260425T162621
CREATED:20241017T125127Z
LAST-MODIFIED:20251008T085047Z
UID:10078943-1744907400-1744912800@bonjourgeneve.ch
SUMMARY:Atelier "Buisness English" B1-B2
DESCRIPTION:
URL:https://bonjourgeneve.ch/en/evenement/atelier-interactive-english-for-career-personal-development-intermediate-level-b1/2025-04-17/
LOCATION:Centre d’accueil de jour pour les personnes réfugiées\, 67C Rue de Lausanne\, Genève\, 1202
ATTACH;FMTTYPE=image/png:https://bonjourgeneve.ch/wp-content/uploads/2025/10/Anglais-Buisness.png
END:VEVENT
BEGIN:VEVENT
DTSTART;TZID=Europe/Paris:20250410T163000
DTEND;TZID=Europe/Paris:20250410T180000
DTSTAMP:20260425T162621
CREATED:20241017T125127Z
LAST-MODIFIED:20251008T085047Z
UID:10078942-1744302600-1744308000@bonjourgeneve.ch
SUMMARY:Atelier "Buisness English" B1-B2
DESCRIPTION:
URL:https://bonjourgeneve.ch/en/evenement/atelier-interactive-english-for-career-personal-development-intermediate-level-b1/2025-04-10/
LOCATION:Centre d’accueil de jour pour les personnes réfugiées\, 67C Rue de Lausanne\, Genève\, 1202
ATTACH;FMTTYPE=image/png:https://bonjourgeneve.ch/wp-content/uploads/2025/10/Anglais-Buisness.png
END:VEVENT
BEGIN:VEVENT
DTSTART;TZID=Europe/Paris:20250403T163000
DTEND;TZID=Europe/Paris:20250403T180000
DTSTAMP:20260425T162621
CREATED:20241017T125127Z
LAST-MODIFIED:20251008T085047Z
UID:10078941-1743697800-1743703200@bonjourgeneve.ch
SUMMARY:Atelier "Buisness English" B1-B2
DESCRIPTION:
URL:https://bonjourgeneve.ch/en/evenement/atelier-interactive-english-for-career-personal-development-intermediate-level-b1/2025-04-03/
LOCATION:Centre d’accueil de jour pour les personnes réfugiées\, 67C Rue de Lausanne\, Genève\, 1202
ATTACH;FMTTYPE=image/png:https://bonjourgeneve.ch/wp-content/uploads/2025/10/Anglais-Buisness.png
END:VEVENT
BEGIN:VEVENT
DTSTART;TZID=Europe/Paris:20250327T163000
DTEND;TZID=Europe/Paris:20250327T180000
DTSTAMP:20260425T162621
CREATED:20241017T125127Z
LAST-MODIFIED:20251008T085047Z
UID:10078940-1743093000-1743098400@bonjourgeneve.ch
SUMMARY:Atelier "Buisness English" B1-B2
DESCRIPTION:
URL:https://bonjourgeneve.ch/en/evenement/atelier-interactive-english-for-career-personal-development-intermediate-level-b1/2025-03-27/
LOCATION:Centre d’accueil de jour pour les personnes réfugiées\, 67C Rue de Lausanne\, Genève\, 1202
ATTACH;FMTTYPE=image/png:https://bonjourgeneve.ch/wp-content/uploads/2025/10/Anglais-Buisness.png
END:VEVENT
BEGIN:VEVENT
DTSTART;TZID=Europe/Paris:20250320T163000
DTEND;TZID=Europe/Paris:20250320T180000
DTSTAMP:20260425T162621
CREATED:20241017T125127Z
LAST-MODIFIED:20251008T085047Z
UID:10078939-1742488200-1742493600@bonjourgeneve.ch
SUMMARY:Atelier "Buisness English" B1-B2
DESCRIPTION:
URL:https://bonjourgeneve.ch/en/evenement/atelier-interactive-english-for-career-personal-development-intermediate-level-b1/2025-03-20/
LOCATION:Centre d’accueil de jour pour les personnes réfugiées\, 67C Rue de Lausanne\, Genève\, 1202
ATTACH;FMTTYPE=image/png:https://bonjourgeneve.ch/wp-content/uploads/2025/10/Anglais-Buisness.png
END:VEVENT
BEGIN:VEVENT
DTSTART;TZID=Europe/Paris:20250313T163000
DTEND;TZID=Europe/Paris:20250313T180000
DTSTAMP:20260425T162621
CREATED:20241017T125127Z
LAST-MODIFIED:20251008T085047Z
UID:10078938-1741883400-1741888800@bonjourgeneve.ch
SUMMARY:Atelier "Buisness English" B1-B2
DESCRIPTION:
URL:https://bonjourgeneve.ch/en/evenement/atelier-interactive-english-for-career-personal-development-intermediate-level-b1/2025-03-13/
LOCATION:Centre d’accueil de jour pour les personnes réfugiées\, 67C Rue de Lausanne\, Genève\, 1202
ATTACH;FMTTYPE=image/png:https://bonjourgeneve.ch/wp-content/uploads/2025/10/Anglais-Buisness.png
END:VEVENT
BEGIN:VEVENT
DTSTART;TZID=Europe/Paris:20250306T163000
DTEND;TZID=Europe/Paris:20250306T180000
DTSTAMP:20260425T162621
CREATED:20241017T125127Z
LAST-MODIFIED:20251008T085047Z
UID:10078937-1741278600-1741284000@bonjourgeneve.ch
SUMMARY:Atelier "Buisness English" B1-B2
DESCRIPTION:
URL:https://bonjourgeneve.ch/en/evenement/atelier-interactive-english-for-career-personal-development-intermediate-level-b1/2025-03-06/
LOCATION:Centre d’accueil de jour pour les personnes réfugiées\, 67C Rue de Lausanne\, Genève\, 1202
ATTACH;FMTTYPE=image/png:https://bonjourgeneve.ch/wp-content/uploads/2025/10/Anglais-Buisness.png
END:VEVENT
BEGIN:VEVENT
DTSTART;TZID=Europe/Paris:20250227T163000
DTEND;TZID=Europe/Paris:20250227T180000
DTSTAMP:20260425T162621
CREATED:20241017T125127Z
LAST-MODIFIED:20251008T085047Z
UID:10078936-1740673800-1740679200@bonjourgeneve.ch
SUMMARY:Atelier "Buisness English" B1-B2
DESCRIPTION:
URL:https://bonjourgeneve.ch/en/evenement/atelier-interactive-english-for-career-personal-development-intermediate-level-b1/2025-02-27/
LOCATION:Centre d’accueil de jour pour les personnes réfugiées\, 67C Rue de Lausanne\, Genève\, 1202
ATTACH;FMTTYPE=image/png:https://bonjourgeneve.ch/wp-content/uploads/2025/10/Anglais-Buisness.png
END:VEVENT
BEGIN:VEVENT
DTSTART;TZID=Europe/Paris:20250220T163000
DTEND;TZID=Europe/Paris:20250220T180000
DTSTAMP:20260425T162621
CREATED:20241017T125127Z
LAST-MODIFIED:20251008T085047Z
UID:10078935-1740069000-1740074400@bonjourgeneve.ch
SUMMARY:Atelier "Buisness English" B1-B2
DESCRIPTION:
URL:https://bonjourgeneve.ch/en/evenement/atelier-interactive-english-for-career-personal-development-intermediate-level-b1/2025-02-20/
LOCATION:Centre d’accueil de jour pour les personnes réfugiées\, 67C Rue de Lausanne\, Genève\, 1202
ATTACH;FMTTYPE=image/png:https://bonjourgeneve.ch/wp-content/uploads/2025/10/Anglais-Buisness.png
END:VEVENT
BEGIN:VEVENT
DTSTART;TZID=Europe/Paris:20250213T163000
DTEND;TZID=Europe/Paris:20250213T180000
DTSTAMP:20260425T162621
CREATED:20241017T125127Z
LAST-MODIFIED:20251008T085047Z
UID:10078934-1739464200-1739469600@bonjourgeneve.ch
SUMMARY:Atelier "Buisness English" B1-B2
DESCRIPTION:
URL:https://bonjourgeneve.ch/en/evenement/atelier-interactive-english-for-career-personal-development-intermediate-level-b1/2025-02-13/
LOCATION:Centre d’accueil de jour pour les personnes réfugiées\, 67C Rue de Lausanne\, Genève\, 1202
ATTACH;FMTTYPE=image/png:https://bonjourgeneve.ch/wp-content/uploads/2025/10/Anglais-Buisness.png
END:VEVENT
BEGIN:VEVENT
DTSTART;TZID=Europe/Paris:20250206T163000
DTEND;TZID=Europe/Paris:20250206T180000
DTSTAMP:20260425T162621
CREATED:20241017T125127Z
LAST-MODIFIED:20251008T085047Z
UID:10078933-1738859400-1738864800@bonjourgeneve.ch
SUMMARY:Atelier "Buisness English" B1-B2
DESCRIPTION:
URL:https://bonjourgeneve.ch/en/evenement/atelier-interactive-english-for-career-personal-development-intermediate-level-b1/2025-02-06/
LOCATION:Centre d’accueil de jour pour les personnes réfugiées\, 67C Rue de Lausanne\, Genève\, 1202
ATTACH;FMTTYPE=image/png:https://bonjourgeneve.ch/wp-content/uploads/2025/10/Anglais-Buisness.png
END:VEVENT
END:VCALENDAR