BEGIN:VCALENDAR
VERSION:2.0
PRODID:-//Bonjour Genève - ECPv6.15.17//NONSGML v1.0//EN
CALSCALE:GREGORIAN
METHOD:PUBLISH
X-WR-CALNAME:Bonjour Genève
X-ORIGINAL-URL:https://bonjourgeneve.ch/en/
X-WR-CALDESC:Events for Bonjour Genève
REFRESH-INTERVAL;VALUE=DURATION:PT1H
X-Robots-Tag:noindex
X-PUBLISHED-TTL:PT1H
BEGIN:VTIMEZONE
TZID:Europe/Paris
BEGIN:DAYLIGHT
TZOFFSETFROM:+0100
TZOFFSETTO:+0200
TZNAME:CEST
DTSTART:20240331T010000
END:DAYLIGHT
BEGIN:STANDARD
TZOFFSETFROM:+0200
TZOFFSETTO:+0100
TZNAME:CET
DTSTART:20241027T010000
END:STANDARD
BEGIN:DAYLIGHT
TZOFFSETFROM:+0100
TZOFFSETTO:+0200
TZNAME:CEST
DTSTART:20250330T010000
END:DAYLIGHT
BEGIN:STANDARD
TZOFFSETFROM:+0200
TZOFFSETTO:+0100
TZNAME:CET
DTSTART:20251026T010000
END:STANDARD
BEGIN:DAYLIGHT
TZOFFSETFROM:+0100
TZOFFSETTO:+0200
TZNAME:CEST
DTSTART:20260329T010000
END:DAYLIGHT
BEGIN:STANDARD
TZOFFSETFROM:+0200
TZOFFSETTO:+0100
TZNAME:CET
DTSTART:20261025T010000
END:STANDARD
END:VTIMEZONE
BEGIN:VEVENT
DTSTART;TZID=Europe/Paris:20251031T160000
DTEND;TZID=Europe/Paris:20251031T173000
DTSTAMP:20260425T130355
CREATED:20251009T095659Z
LAST-MODIFIED:20251009T095659Z
UID:10095493-1761926400-1761931800@bonjourgeneve.ch
SUMMARY:Atelier de conversation en français - niveau débutant - A1
DESCRIPTION:
URL:https://bonjourgeneve.ch/en/evenement/atelier-de-conversation-en-francais-niveau-debutant-a1/2025-10-31/
LOCATION:Centre d’accueil de jour pour les personnes réfugiées\, 67C Rue de Lausanne\, Genève\, 1202
ATTACH;FMTTYPE=image/png:https://bonjourgeneve.ch/wp-content/uploads/2025/10/FR-A1vendredi.png
END:VEVENT
BEGIN:VEVENT
DTSTART;TZID=Europe/Paris:20251031T150000
DTEND;TZID=Europe/Paris:20251031T163000
DTSTAMP:20260425T130355
CREATED:20251009T101447Z
LAST-MODIFIED:20251009T101447Z
UID:10096798-1761922800-1761928200@bonjourgeneve.ch
SUMMARY:Atolye ya destpêkê a fransî asta destpêk'ê
DESCRIPTION:
URL:https://bonjourgeneve.ch/en/evenement/atolye-ya-destpeke-a-fransi-asta-destpeke/2025-10-31/
LOCATION:Centre d’accueil de jour pour les personnes réfugiées\, 67C Rue de Lausanne\, Genève\, 1202
END:VEVENT
BEGIN:VEVENT
DTSTART;TZID=Europe/Paris:20251031T140000
DTEND;TZID=Europe/Paris:20251031T160000
DTSTAMP:20260425T130355
CREATED:20251009T100640Z
LAST-MODIFIED:20251114T132623Z
UID:10096276-1761919200-1761926400@bonjourgeneve.ch
SUMMARY:Permanence aide à la recherche logement
DESCRIPTION:
URL:https://bonjourgeneve.ch/en/evenement/permanence-aide-a-la-recherche-logement-3/2025-10-31/
LOCATION:Centre d’accueil de jour pour les personnes réfugiées\, 67C Rue de Lausanne\, Genève\, 1202
ATTACH;FMTTYPE=image/png:https://bonjourgeneve.ch/wp-content/uploads/2025/10/logement-vendredi.png
END:VEVENT
BEGIN:VEVENT
DTSTART;TZID=Europe/Paris:20251031T120000
DTEND;TZID=Europe/Paris:20251031T130000
DTSTAMP:20260425T130355
CREATED:20251009T095914Z
LAST-MODIFIED:20251009T095914Z
UID:10095754-1761912000-1761915600@bonjourgeneve.ch
SUMMARY:Atelier de danse pour femmes
DESCRIPTION:
URL:https://bonjourgeneve.ch/en/evenement/atelier-de-danse-pour-femmes/2025-10-31/
LOCATION:Centre d’accueil de jour pour les personnes réfugiées\, 67C Rue de Lausanne\, Genève\, 1202
ATTACH;FMTTYPE=image/png:https://bonjourgeneve.ch/wp-content/uploads/2025/10/Danse.png
END:VEVENT
BEGIN:VEVENT
DTSTART;TZID=Europe/Paris:20251030T170000
DTEND;TZID=Europe/Paris:20251030T180000
DTSTAMP:20260425T130355
CREATED:20251009T094928Z
LAST-MODIFIED:20251009T094928Z
UID:10094970-1761843600-1761847200@bonjourgeneve.ch
SUMMARY:Atelier d'anglais pour les enfants (de 5 à 8 ans)
DESCRIPTION:
URL:https://bonjourgeneve.ch/en/evenement/atelier-danglais-pour-les-enfants-de-5-a-8-ans/2025-10-30/
LOCATION:Centre d’accueil de jour pour les personnes réfugiées\, 67C Rue de Lausanne\, Genève\, 1202
ATTACH;FMTTYPE=image/png:https://bonjourgeneve.ch/wp-content/uploads/2025/10/Anglais-enfants.png
END:VEVENT
BEGIN:VEVENT
DTSTART;TZID=Europe/Paris:20251030T163000
DTEND;TZID=Europe/Paris:20251030T180000
DTSTAMP:20260425T130355
CREATED:20241017T125127Z
LAST-MODIFIED:20251008T085047Z
UID:10078971-1761841800-1761847200@bonjourgeneve.ch
SUMMARY:Atelier "Buisness English" B1-B2
DESCRIPTION:
URL:https://bonjourgeneve.ch/en/evenement/atelier-interactive-english-for-career-personal-development-intermediate-level-b1/2025-10-30/
LOCATION:Centre d’accueil de jour pour les personnes réfugiées\, 67C Rue de Lausanne\, Genève\, 1202
ATTACH;FMTTYPE=image/png:https://bonjourgeneve.ch/wp-content/uploads/2025/10/Anglais-Buisness.png
END:VEVENT
BEGIN:VEVENT
DTSTART;TZID=Europe/Paris:20251030T140000
DTEND;TZID=Europe/Paris:20251030T160000
DTSTAMP:20260425T130355
CREATED:20251009T095355Z
LAST-MODIFIED:20251009T095355Z
UID:10095232-1761832800-1761840000@bonjourgeneve.ch
SUMMARY:Atelier de français « Citoyenneté et écriture »
DESCRIPTION:
URL:https://bonjourgeneve.ch/en/evenement/atelier-de-francais-citoyennete-et-ecriture/2025-10-30/
LOCATION:Centre d’accueil de jour pour les personnes réfugiées\, 67C Rue de Lausanne\, Genève\, 1202
ATTACH;FMTTYPE=image/png:https://bonjourgeneve.ch/wp-content/uploads/2025/10/FR-B2C1.png
END:VEVENT
BEGIN:VEVENT
DTSTART;TZID=Europe/Paris:20251030T103000
DTEND;TZID=Europe/Paris:20251030T120000
DTSTAMP:20260425T130355
CREATED:20251009T121533Z
LAST-MODIFIED:20251009T121533Z
UID:10099668-1761820200-1761825600@bonjourgeneve.ch
SUMMARY:Atelier de conversation en français – niveau intermédiaire – A2
DESCRIPTION:
URL:https://bonjourgeneve.ch/en/evenement/atelier-de-conversation-en-francais-niveau-intermediaire-a2-2/2025-10-30/
LOCATION:Centre d’accueil de jour pour les personnes réfugiées\, 67C Rue de Lausanne\, Genève\, 1202
ATTACH;FMTTYPE=image/png:https://bonjourgeneve.ch/wp-content/uploads/2025/10/FR-A2.png
END:VEVENT
BEGIN:VEVENT
DTSTART;TZID=Europe/Paris:20251029T190000
DTEND;TZID=Europe/Paris:20251029T200000
DTSTAMP:20260425T130355
CREATED:20251009T122154Z
LAST-MODIFIED:20251009T122154Z
UID:10100189-1761764400-1761768000@bonjourgeneve.ch
SUMMARY:Volley-ball
DESCRIPTION:
URL:https://bonjourgeneve.ch/en/evenement/volley-ball/2025-10-29/
LOCATION:Cycle d’orientation des Sécheron\, Avenue Blanc 1\, Genève\, 1202\, Suisse
ATTACH;FMTTYPE=image/png:https://bonjourgeneve.ch/wp-content/uploads/2025/10/Volley-ball.png
END:VEVENT
BEGIN:VEVENT
DTSTART;TZID=Europe/Paris:20251029T160000
DTEND;TZID=Europe/Paris:20251029T180000
DTSTAMP:20260425T130355
CREATED:20251009T122004Z
LAST-MODIFIED:20251114T111850Z
UID:10099928-1761753600-1761760800@bonjourgeneve.ch
SUMMARY:Pratique libre d'échecs
DESCRIPTION:
URL:https://bonjourgeneve.ch/en/evenement/atelier-dechecs/2025-10-29/
LOCATION:Centre d’accueil de jour pour les personnes réfugiées\, 67C Rue de Lausanne\, Genève\, 1202
ATTACH;FMTTYPE=image/png:https://bonjourgeneve.ch/wp-content/uploads/2025/10/echecs-1.png
END:VEVENT
BEGIN:VEVENT
DTSTART;TZID=Europe/Paris:20251029T160000
DTEND;TZID=Europe/Paris:20251029T170000
DTSTAMP:20260425T130355
CREATED:20251008T095228Z
LAST-MODIFIED:20251008T095449Z
UID:10094448-1761753600-1761757200@bonjourgeneve.ch
SUMMARY:Atelier artistique pour adultes et enfants (à partir de 4 ans)
DESCRIPTION:
URL:https://bonjourgeneve.ch/en/evenement/atelier-artistique-pour-adultes-et-enfants-a-partir-de-4-ans/2025-10-29/
LOCATION:Centre d’accueil de jour pour les personnes réfugiées\, 67C Rue de Lausanne\, Genève\, 1202
ATTACH;FMTTYPE=image/png:https://bonjourgeneve.ch/wp-content/uploads/2025/10/Atelier-Artistique.png
END:VEVENT
BEGIN:VEVENT
DTSTART;TZID=Europe/Paris:20251029T140000
DTEND;TZID=Europe/Paris:20251029T160000
DTSTAMP:20260425T130355
CREATED:20251008T094806Z
LAST-MODIFIED:20251008T094806Z
UID:10093926-1761746400-1761753600@bonjourgeneve.ch
SUMMARY:Atelier de couture
DESCRIPTION:
URL:https://bonjourgeneve.ch/en/evenement/atelier-de-couture/2025-10-29/
LOCATION:Centre d’accueil de jour pour les personnes réfugiées\, 67C Rue de Lausanne\, Genève\, 1202
ATTACH;FMTTYPE=image/png:https://bonjourgeneve.ch/wp-content/uploads/2025/10/Couture.png
END:VEVENT
BEGIN:VEVENT
DTSTART;TZID=Europe/Paris:20251029T133000
DTEND;TZID=Europe/Paris:20251029T150000
DTSTAMP:20260425T130355
CREATED:20251009T123222Z
LAST-MODIFIED:20251009T123222Z
UID:10100450-1761744600-1761750000@bonjourgeneve.ch
SUMMARY:حصة لغة فرنسية – مستوى مبتدئ المستوى A0 A1
DESCRIPTION:
URL:https://bonjourgeneve.ch/en/evenement/%d8%ad%d8%b5%d8%a9-%d9%84%d8%ba%d8%a9-%d9%81%d8%b1%d9%86%d8%b3%d9%8a%d8%a9-%d9%85%d8%b3%d8%aa%d9%88%d9%89-%d9%85%d8%a8%d8%aa%d8%af%d8%a6-%d8%a7%d9%84%d9%85%d8%b3%d8%aa%d9%88%d9%89-a0-a1/2025-10-29/
LOCATION:Centre d’accueil de jour pour les personnes réfugiées\, 67C Rue de Lausanne\, Genève\, 1202
ATTACH;FMTTYPE=image/png:https://bonjourgeneve.ch/wp-content/uploads/2025/10/FR-ARABE.png
END:VEVENT
BEGIN:VEVENT
DTSTART;TZID=Europe/Paris:20251029T124500
DTEND;TZID=Europe/Paris:20251029T140000
DTSTAMP:20260425T130355
CREATED:20251009T120435Z
LAST-MODIFIED:20251009T120435Z
UID:10099146-1761741900-1761746400@bonjourgeneve.ch
SUMMARY:Chorale
DESCRIPTION:
URL:https://bonjourgeneve.ch/en/evenement/chorale/2025-10-29/
LOCATION:Centre d’accueil de jour pour les personnes réfugiées\, 67C Rue de Lausanne\, Genève\, 1202
ATTACH;FMTTYPE=image/png:https://bonjourgeneve.ch/wp-content/uploads/2025/10/Chorale.png
END:VEVENT
BEGIN:VEVENT
DTSTART;TZID=Europe/Paris:20251029T103000
DTEND;TZID=Europe/Paris:20251029T120000
DTSTAMP:20260425T130355
CREATED:20251009T121217Z
LAST-MODIFIED:20251009T121217Z
UID:10099407-1761733800-1761739200@bonjourgeneve.ch
SUMMARY:Atelier de conversation en français - niveau débutant - A1
DESCRIPTION:
URL:https://bonjourgeneve.ch/en/evenement/atelier-de-conversation-en-francais-niveau-debutant-a1-2/2025-10-29/
LOCATION:Centre d’accueil de jour pour les personnes réfugiées\, 67C Rue de Lausanne\, Genève\, 1202
ATTACH;FMTTYPE=image/png:https://bonjourgeneve.ch/wp-content/uploads/2025/10/FR-A1mercredi.png
END:VEVENT
BEGIN:VEVENT
DTSTART;TZID=Europe/Paris:20251028T170000
DTEND;TZID=Europe/Paris:20251028T180000
DTSTAMP:20260425T130355
CREATED:20251009T120212Z
LAST-MODIFIED:20251009T120212Z
UID:10098885-1761670800-1761674400@bonjourgeneve.ch
SUMMARY:Atelier de Yoga
DESCRIPTION:
URL:https://bonjourgeneve.ch/en/evenement/atelier-de-yoga/2025-10-28/
LOCATION:Centre d’accueil de jour pour les personnes réfugiées\, 67C Rue de Lausanne\, Genève\, 1202
END:VEVENT
BEGIN:VEVENT
DTSTART;TZID=Europe/Paris:20251028T150000
DTEND;TZID=Europe/Paris:20251028T163000
DTSTAMP:20260425T130355
CREATED:20251009T115959Z
LAST-MODIFIED:20251009T115959Z
UID:10098624-1761663600-1761669000@bonjourgeneve.ch
SUMMARY:Giris atölyesi franzisca - baslangiç seviyesi - A0 A1
DESCRIPTION:
URL:https://bonjourgeneve.ch/en/evenement/giris-atolyesi-franzisca-baslangic-seviyesi-a0-a1/2025-10-28/
LOCATION:Centre d’accueil de jour pour les personnes réfugiées\, 67C Rue de Lausanne\, Genève\, 1202
ATTACH;FMTTYPE=image/png:https://bonjourgeneve.ch/wp-content/uploads/2025/10/FR-TURC.png
END:VEVENT
BEGIN:VEVENT
DTSTART;TZID=Europe/Paris:20251028T133000
DTEND;TZID=Europe/Paris:20251028T150000
DTSTAMP:20260425T130355
CREATED:20251009T115609Z
LAST-MODIFIED:20251009T115609Z
UID:10098363-1761658200-1761663600@bonjourgeneve.ch
SUMMARY:Atelier de conversation en français - niveau intermédiaire - A2
DESCRIPTION:
URL:https://bonjourgeneve.ch/en/evenement/atelier-de-conversation-en-francais-niveau-intermediaire-a2/2025-10-28/
LOCATION:Centre d’accueil de jour pour les personnes réfugiées\, 67C Rue de Lausanne\, Genève\, 1202
ATTACH;FMTTYPE=image/png:https://bonjourgeneve.ch/wp-content/uploads/2025/10/FR-A2mardi.png
END:VEVENT
BEGIN:VEVENT
DTSTART;TZID=Europe/Paris:20251028T123000
DTEND;TZID=Europe/Paris:20251028T133000
DTSTAMP:20260425T130355
CREATED:20251009T094554Z
LAST-MODIFIED:20251009T094554Z
UID:10094708-1761654600-1761658200@bonjourgeneve.ch
SUMMARY:Atelier de mémoire (donné en ukrainien/russe))
DESCRIPTION:
URL:https://bonjourgeneve.ch/en/evenement/atelier-de-memoire-donne-en-ukrainien-russe/2025-10-28/
LOCATION:Centre d’accueil de jour pour les personnes réfugiées\, 67C Rue de Lausanne\, Genève\, 1202
ATTACH;FMTTYPE=image/png:https://bonjourgeneve.ch/wp-content/uploads/2025/10/Atelier-memoire-ukrainien.png
END:VEVENT
BEGIN:VEVENT
DTSTART;TZID=Europe/Paris:20251028T103000
DTEND;TZID=Europe/Paris:20251028T123000
DTSTAMP:20260425T130355
CREATED:20251009T100805Z
LAST-MODIFIED:20251114T132738Z
UID:10096536-1761647400-1761654600@bonjourgeneve.ch
SUMMARY:Permanence aide à la recherche logement
DESCRIPTION:
URL:https://bonjourgeneve.ch/en/evenement/permanence-aide-a-la-recherche-logement-2-2/2025-10-28/
LOCATION:Centre d’accueil de jour pour les personnes réfugiées\, 67C Rue de Lausanne\, Genève\, 1202
ATTACH;FMTTYPE=image/png:https://bonjourgeneve.ch/wp-content/uploads/2025/10/logement-mardi.png
END:VEVENT
BEGIN:VEVENT
DTSTART;TZID=Europe/Paris:20251028T103000
DTEND;TZID=Europe/Paris:20251028T113000
DTSTAMP:20260425T130355
CREATED:20251009T115335Z
LAST-MODIFIED:20251009T115335Z
UID:10098102-1761647400-1761651000@bonjourgeneve.ch
SUMMARY:Atelier de français - niveau débutant - A0
DESCRIPTION:
URL:https://bonjourgeneve.ch/en/evenement/atelier-de-francais-niveau-debutant-a0/2025-10-28/
LOCATION:Centre d’accueil de jour pour les personnes réfugiées\, 67C Rue de Lausanne\, Genève\, 1202
ATTACH;FMTTYPE=image/png:https://bonjourgeneve.ch/wp-content/uploads/2025/10/FR-AO.png
END:VEVENT
BEGIN:VEVENT
DTSTART;TZID=Europe/Paris:20251027T163000
DTEND;TZID=Europe/Paris:20251027T180000
DTSTAMP:20260425T130355
CREATED:20251009T115127Z
LAST-MODIFIED:20251009T115127Z
UID:10097841-1761582600-1761588000@bonjourgeneve.ch
SUMMARY:Atelier de conversation en anglais - niveau intermédiaire - A2
DESCRIPTION:
URL:https://bonjourgeneve.ch/en/evenement/atelier-de-conversation-en-anglais-niveau-intermediaire-a2/2025-10-27/
LOCATION:Centre d’accueil de jour pour les personnes réfugiées\, 67C Rue de Lausanne\, Genève\, 1202
ATTACH;FMTTYPE=image/png:https://bonjourgeneve.ch/wp-content/uploads/2025/10/Anglais-A2.png
END:VEVENT
BEGIN:VEVENT
DTSTART;TZID=Europe/Paris:20251027T143000
DTEND;TZID=Europe/Paris:20251027T160000
DTSTAMP:20260425T130355
CREATED:20251009T114958Z
LAST-MODIFIED:20251009T114958Z
UID:10097580-1761575400-1761580800@bonjourgeneve.ch
SUMMARY:Atelier de conversation en anglais - niveau débutant - A0 A1
DESCRIPTION:
URL:https://bonjourgeneve.ch/en/evenement/atelier-de-conversation-en-anglais-niveau-debutant-a0-a1/2025-10-27/
LOCATION:Centre d’accueil de jour pour les personnes réfugiées\, 67C Rue de Lausanne\, Genève\, 1202
ATTACH;FMTTYPE=image/png:https://bonjourgeneve.ch/wp-content/uploads/2025/10/Anglais-A1.png
END:VEVENT
BEGIN:VEVENT
DTSTART;TZID=Europe/Paris:20251027T143000
DTEND;TZID=Europe/Paris:20251027T160000
DTSTAMP:20260425T130355
CREATED:20251009T114727Z
LAST-MODIFIED:20251009T114727Z
UID:10097319-1761575400-1761580800@bonjourgeneve.ch
SUMMARY:Atelier de conversation en français - niveau avancé - B1
DESCRIPTION:
URL:https://bonjourgeneve.ch/en/evenement/atelier-de-conversation-en-francais-niveau-avance-b1/2025-10-27/
LOCATION:Centre d’accueil de jour pour les personnes réfugiées\, 67C Rue de Lausanne\, Genève\, 1202
ATTACH;FMTTYPE=image/png:https://bonjourgeneve.ch/wp-content/uploads/2025/10/FR-B1.png
END:VEVENT
BEGIN:VEVENT
DTSTART;TZID=Europe/Paris:20251027T130000
DTEND;TZID=Europe/Paris:20251027T143000
DTSTAMP:20260425T130355
CREATED:20251009T101713Z
LAST-MODIFIED:20251009T101713Z
UID:10097058-1761570000-1761575400@bonjourgeneve.ch
SUMMARY:ФРАНЦУЗЬКА ДЛЯ ПОЧАТКІВЦІВ УКРАЇНСЬКОЮ\, РОСІЙСЬКОЮ ТА ФРАНЦУЗЬКОЮ РІВЕНЬ A0–A1
DESCRIPTION:
URL:https://bonjourgeneve.ch/en/evenement/%d1%84%d1%80%d0%b0%d0%bd%d1%86%d1%83%d0%b7%d1%8c%d0%ba%d0%b0-%d0%b4%d0%bb%d1%8f-%d0%bf%d0%be%d1%87%d0%b0%d1%82%d0%ba%d1%96%d0%b2%d1%86%d1%96%d0%b2-%d1%83%d0%ba%d1%80%d0%b0%d1%97%d0%bd%d1%81%d1%8c/2025-10-27/
LOCATION:Centre d’accueil de jour pour les personnes réfugiées\, 67C Rue de Lausanne\, Genève\, 1202
ATTACH;FMTTYPE=image/png:https://bonjourgeneve.ch/wp-content/uploads/2025/10/FR-UKR.png
END:VEVENT
BEGIN:VEVENT
DTSTART;TZID=Europe/Paris:20251027T103000
DTEND;TZID=Europe/Paris:20251027T120000
DTSTAMP:20260425T130355
CREATED:20251008T091522Z
LAST-MODIFIED:20251008T091614Z
UID:10092881-1761561000-1761566400@bonjourgeneve.ch
SUMMARY:Groupe de parole et mandala
DESCRIPTION:
URL:https://bonjourgeneve.ch/en/evenement/groupe-de-parole-et-mandala/2025-10-27/
LOCATION:Centre d’accueil de jour pour les personnes réfugiées\, 67C Rue de Lausanne\, Genève\, 1202
ATTACH;FMTTYPE=image/png:https://bonjourgeneve.ch/wp-content/uploads/2025/10/mandala.png
END:VEVENT
BEGIN:VEVENT
DTSTART;TZID=Europe/Paris:20251027T100000
DTEND;TZID=Europe/Paris:20251027T110000
DTSTAMP:20260425T130355
CREATED:20251008T093206Z
LAST-MODIFIED:20251008T093721Z
UID:10093142-1761559200-1761562800@bonjourgeneve.ch
SUMMARY:Petit-déjeuner
DESCRIPTION:
URL:https://bonjourgeneve.ch/en/evenement/petit-dejeuner/2025-10-27/
LOCATION:Centre d’accueil de jour pour les personnes réfugiées\, 67C Rue de Lausanne\, Genève\, 1202
ATTACH;FMTTYPE=image/png:https://bonjourgeneve.ch/wp-content/uploads/2025/10/Petit-dejeuner.png
END:VEVENT
BEGIN:VEVENT
DTSTART;TZID=Europe/Paris:20251024T160000
DTEND;TZID=Europe/Paris:20251024T173000
DTSTAMP:20260425T130355
CREATED:20251009T095659Z
LAST-MODIFIED:20251009T095659Z
UID:10095492-1761321600-1761327000@bonjourgeneve.ch
SUMMARY:Atelier de conversation en français - niveau débutant - A1
DESCRIPTION:
URL:https://bonjourgeneve.ch/en/evenement/atelier-de-conversation-en-francais-niveau-debutant-a1/2025-10-24/
LOCATION:Centre d’accueil de jour pour les personnes réfugiées\, 67C Rue de Lausanne\, Genève\, 1202
ATTACH;FMTTYPE=image/png:https://bonjourgeneve.ch/wp-content/uploads/2025/10/FR-A1vendredi.png
END:VEVENT
BEGIN:VEVENT
DTSTART;TZID=Europe/Paris:20251024T150000
DTEND;TZID=Europe/Paris:20251024T163000
DTSTAMP:20260425T130355
CREATED:20251009T101447Z
LAST-MODIFIED:20251009T101447Z
UID:10096797-1761318000-1761323400@bonjourgeneve.ch
SUMMARY:Atolye ya destpêkê a fransî asta destpêk'ê
DESCRIPTION:
URL:https://bonjourgeneve.ch/en/evenement/atolye-ya-destpeke-a-fransi-asta-destpeke/2025-10-24/
LOCATION:Centre d’accueil de jour pour les personnes réfugiées\, 67C Rue de Lausanne\, Genève\, 1202
END:VEVENT
BEGIN:VEVENT
DTSTART;TZID=Europe/Paris:20251024T140000
DTEND;TZID=Europe/Paris:20251024T160000
DTSTAMP:20260425T130355
CREATED:20251009T100640Z
LAST-MODIFIED:20251114T132623Z
UID:10096275-1761314400-1761321600@bonjourgeneve.ch
SUMMARY:Permanence aide à la recherche logement
DESCRIPTION:
URL:https://bonjourgeneve.ch/en/evenement/permanence-aide-a-la-recherche-logement-3/2025-10-24/
LOCATION:Centre d’accueil de jour pour les personnes réfugiées\, 67C Rue de Lausanne\, Genève\, 1202
ATTACH;FMTTYPE=image/png:https://bonjourgeneve.ch/wp-content/uploads/2025/10/logement-vendredi.png
END:VEVENT
END:VCALENDAR