BEGIN:VCALENDAR
VERSION:2.0
PRODID:-//Bonjour Genève - ECPv6.15.17//NONSGML v1.0//EN
CALSCALE:GREGORIAN
METHOD:PUBLISH
X-WR-CALNAME:Bonjour Genève
X-ORIGINAL-URL:https://bonjourgeneve.ch/en/
X-WR-CALDESC:Events for Bonjour Genève
REFRESH-INTERVAL;VALUE=DURATION:PT1H
X-Robots-Tag:noindex
X-PUBLISHED-TTL:PT1H
BEGIN:VTIMEZONE
TZID:Europe/Paris
BEGIN:DAYLIGHT
TZOFFSETFROM:+0100
TZOFFSETTO:+0200
TZNAME:CEST
DTSTART:20240331T010000
END:DAYLIGHT
BEGIN:STANDARD
TZOFFSETFROM:+0200
TZOFFSETTO:+0100
TZNAME:CET
DTSTART:20241027T010000
END:STANDARD
BEGIN:DAYLIGHT
TZOFFSETFROM:+0100
TZOFFSETTO:+0200
TZNAME:CEST
DTSTART:20250330T010000
END:DAYLIGHT
BEGIN:STANDARD
TZOFFSETFROM:+0200
TZOFFSETTO:+0100
TZNAME:CET
DTSTART:20251026T010000
END:STANDARD
BEGIN:DAYLIGHT
TZOFFSETFROM:+0100
TZOFFSETTO:+0200
TZNAME:CEST
DTSTART:20260329T010000
END:DAYLIGHT
BEGIN:STANDARD
TZOFFSETFROM:+0200
TZOFFSETTO:+0100
TZNAME:CET
DTSTART:20261025T010000
END:STANDARD
END:VTIMEZONE
BEGIN:VEVENT
DTSTART;TZID=Europe/Paris:20250807T163000
DTEND;TZID=Europe/Paris:20250807T180000
DTSTAMP:20260425T173816
CREATED:20241017T125127Z
LAST-MODIFIED:20251008T085047Z
UID:10078959-1754584200-1754589600@bonjourgeneve.ch
SUMMARY:Atelier "Buisness English" B1-B2
DESCRIPTION:
URL:https://bonjourgeneve.ch/en/evenement/atelier-interactive-english-for-career-personal-development-intermediate-level-b1/2025-08-07/
LOCATION:Centre d’accueil de jour pour les personnes réfugiées\, 67C Rue de Lausanne\, Genève\, 1202
ATTACH;FMTTYPE=image/png:https://bonjourgeneve.ch/wp-content/uploads/2025/10/Anglais-Buisness.png
END:VEVENT
BEGIN:VEVENT
DTSTART;TZID=Europe/Paris:20250814T163000
DTEND;TZID=Europe/Paris:20250814T180000
DTSTAMP:20260425T173816
CREATED:20241017T125127Z
LAST-MODIFIED:20251008T085047Z
UID:10078960-1755189000-1755194400@bonjourgeneve.ch
SUMMARY:Atelier "Buisness English" B1-B2
DESCRIPTION:
URL:https://bonjourgeneve.ch/en/evenement/atelier-interactive-english-for-career-personal-development-intermediate-level-b1/2025-08-14/
LOCATION:Centre d’accueil de jour pour les personnes réfugiées\, 67C Rue de Lausanne\, Genève\, 1202
ATTACH;FMTTYPE=image/png:https://bonjourgeneve.ch/wp-content/uploads/2025/10/Anglais-Buisness.png
END:VEVENT
BEGIN:VEVENT
DTSTART;TZID=Europe/Paris:20250821T163000
DTEND;TZID=Europe/Paris:20250821T180000
DTSTAMP:20260425T173816
CREATED:20241017T125127Z
LAST-MODIFIED:20251008T085047Z
UID:10078961-1755793800-1755799200@bonjourgeneve.ch
SUMMARY:Atelier "Buisness English" B1-B2
DESCRIPTION:
URL:https://bonjourgeneve.ch/en/evenement/atelier-interactive-english-for-career-personal-development-intermediate-level-b1/2025-08-21/
LOCATION:Centre d’accueil de jour pour les personnes réfugiées\, 67C Rue de Lausanne\, Genève\, 1202
ATTACH;FMTTYPE=image/png:https://bonjourgeneve.ch/wp-content/uploads/2025/10/Anglais-Buisness.png
END:VEVENT
BEGIN:VEVENT
DTSTART;TZID=Europe/Paris:20250828T163000
DTEND;TZID=Europe/Paris:20250828T180000
DTSTAMP:20260425T173816
CREATED:20241017T125127Z
LAST-MODIFIED:20251008T085047Z
UID:10078962-1756398600-1756404000@bonjourgeneve.ch
SUMMARY:Atelier "Buisness English" B1-B2
DESCRIPTION:
URL:https://bonjourgeneve.ch/en/evenement/atelier-interactive-english-for-career-personal-development-intermediate-level-b1/2025-08-28/
LOCATION:Centre d’accueil de jour pour les personnes réfugiées\, 67C Rue de Lausanne\, Genève\, 1202
ATTACH;FMTTYPE=image/png:https://bonjourgeneve.ch/wp-content/uploads/2025/10/Anglais-Buisness.png
END:VEVENT
BEGIN:VEVENT
DTSTART;TZID=Europe/Paris:20250903T144500
DTEND;TZID=Europe/Paris:20250903T161500
DTSTAMP:20260425T173816
CREATED:20250825T125205Z
LAST-MODIFIED:20250825T144507Z
UID:10092170-1756910700-1756916100@bonjourgeneve.ch
SUMMARY:Atelier p'tits chefs - Les tomates\, c'est l'éclate!
DESCRIPTION:Tomatoes are a blast!\nIt’s back-to-school season\, and particularly the end of tomato season\, which is found in large quantities on the shelves. The team of little chefs\, under the watchful eye of experienced chefs\, will discover the many ways to cook them! Observing the flavors and colors\, all while showing off their creativity. And it’s even better when you have some little professional secrets. \nThis workshop is suitable for children aged 6 to 12. \nWorkshop fee: CHF 10.- per child \nWorkshop duration: 1.5 hours \nFor more information about our workshops: reservation@swissfoodacademy.ch or +41 22 558 06 56 \nNeighborhood space hours and addresses: \n\nWednesday\, September 3 at 2:45 p.m. – 📍 Neighborhood space Le 99\, Rue de Lyon 99\, 1203 Geneva\nWednesday\, September 10 at 2:45 p.m. – 📍 Neighborhood space of Plainpalais\, Rue des Minoteries 3\, 1205 Geneva\n//FULL// Wednesday\, September 17 at 2:45 p.m. – 📍 Neighborhood space of Eaux-Vives\, Rue de Montchoisy 46\, 1207 Geneva
URL:https://bonjourgeneve.ch/en/evenement/atelier-ptits-chefs-les-tomates-cest-leclate/2025-09-03/
ATTACH;FMTTYPE=image/png:https://bonjourgeneve.ch/wp-content/uploads/2025/08/tomate-SFA.png
END:VEVENT
BEGIN:VEVENT
DTSTART;TZID=Europe/Paris:20250904T163000
DTEND;TZID=Europe/Paris:20250904T180000
DTSTAMP:20260425T173816
CREATED:20241017T125127Z
LAST-MODIFIED:20251008T085047Z
UID:10078963-1757003400-1757008800@bonjourgeneve.ch
SUMMARY:Atelier "Buisness English" B1-B2
DESCRIPTION:
URL:https://bonjourgeneve.ch/en/evenement/atelier-interactive-english-for-career-personal-development-intermediate-level-b1/2025-09-04/
LOCATION:Centre d’accueil de jour pour les personnes réfugiées\, 67C Rue de Lausanne\, Genève\, 1202
ATTACH;FMTTYPE=image/png:https://bonjourgeneve.ch/wp-content/uploads/2025/10/Anglais-Buisness.png
END:VEVENT
BEGIN:VEVENT
DTSTART;TZID=Europe/Paris:20250910T144500
DTEND;TZID=Europe/Paris:20250910T161500
DTSTAMP:20260425T173816
CREATED:20250825T125205Z
LAST-MODIFIED:20250825T144507Z
UID:10092171-1757515500-1757520900@bonjourgeneve.ch
SUMMARY:Atelier p'tits chefs - Les tomates\, c'est l'éclate!
DESCRIPTION:Tomatoes are a blast!\nIt’s back-to-school season\, and particularly the end of tomato season\, which is found in large quantities on the shelves. The team of little chefs\, under the watchful eye of experienced chefs\, will discover the many ways to cook them! Observing the flavors and colors\, all while showing off their creativity. And it’s even better when you have some little professional secrets. \nThis workshop is suitable for children aged 6 to 12. \nWorkshop fee: CHF 10.- per child \nWorkshop duration: 1.5 hours \nFor more information about our workshops: reservation@swissfoodacademy.ch or +41 22 558 06 56 \nNeighborhood space hours and addresses: \n\nWednesday\, September 3 at 2:45 p.m. – 📍 Neighborhood space Le 99\, Rue de Lyon 99\, 1203 Geneva\nWednesday\, September 10 at 2:45 p.m. – 📍 Neighborhood space of Plainpalais\, Rue des Minoteries 3\, 1205 Geneva\n//FULL// Wednesday\, September 17 at 2:45 p.m. – 📍 Neighborhood space of Eaux-Vives\, Rue de Montchoisy 46\, 1207 Geneva
URL:https://bonjourgeneve.ch/en/evenement/atelier-ptits-chefs-les-tomates-cest-leclate/2025-09-10/
ATTACH;FMTTYPE=image/png:https://bonjourgeneve.ch/wp-content/uploads/2025/08/tomate-SFA.png
END:VEVENT
BEGIN:VEVENT
DTSTART;TZID=Europe/Paris:20250911T163000
DTEND;TZID=Europe/Paris:20250911T180000
DTSTAMP:20260425T173816
CREATED:20241017T125127Z
LAST-MODIFIED:20251008T085047Z
UID:10078964-1757608200-1757613600@bonjourgeneve.ch
SUMMARY:Atelier "Buisness English" B1-B2
DESCRIPTION:
URL:https://bonjourgeneve.ch/en/evenement/atelier-interactive-english-for-career-personal-development-intermediate-level-b1/2025-09-11/
LOCATION:Centre d’accueil de jour pour les personnes réfugiées\, 67C Rue de Lausanne\, Genève\, 1202
ATTACH;FMTTYPE=image/png:https://bonjourgeneve.ch/wp-content/uploads/2025/10/Anglais-Buisness.png
END:VEVENT
BEGIN:VEVENT
DTSTART;TZID=Europe/Paris:20250917T144500
DTEND;TZID=Europe/Paris:20250917T161500
DTSTAMP:20260425T173816
CREATED:20250825T125205Z
LAST-MODIFIED:20250825T144507Z
UID:10092172-1758120300-1758125700@bonjourgeneve.ch
SUMMARY:Atelier p'tits chefs - Les tomates\, c'est l'éclate!
DESCRIPTION:Tomatoes are a blast!\nIt’s back-to-school season\, and particularly the end of tomato season\, which is found in large quantities on the shelves. The team of little chefs\, under the watchful eye of experienced chefs\, will discover the many ways to cook them! Observing the flavors and colors\, all while showing off their creativity. And it’s even better when you have some little professional secrets. \nThis workshop is suitable for children aged 6 to 12. \nWorkshop fee: CHF 10.- per child \nWorkshop duration: 1.5 hours \nFor more information about our workshops: reservation@swissfoodacademy.ch or +41 22 558 06 56 \nNeighborhood space hours and addresses: \n\nWednesday\, September 3 at 2:45 p.m. – 📍 Neighborhood space Le 99\, Rue de Lyon 99\, 1203 Geneva\nWednesday\, September 10 at 2:45 p.m. – 📍 Neighborhood space of Plainpalais\, Rue des Minoteries 3\, 1205 Geneva\n//FULL// Wednesday\, September 17 at 2:45 p.m. – 📍 Neighborhood space of Eaux-Vives\, Rue de Montchoisy 46\, 1207 Geneva
URL:https://bonjourgeneve.ch/en/evenement/atelier-ptits-chefs-les-tomates-cest-leclate/2025-09-17/
ATTACH;FMTTYPE=image/png:https://bonjourgeneve.ch/wp-content/uploads/2025/08/tomate-SFA.png
END:VEVENT
BEGIN:VEVENT
DTSTART;TZID=Europe/Paris:20250918T163000
DTEND;TZID=Europe/Paris:20250918T180000
DTSTAMP:20260425T173816
CREATED:20241017T125127Z
LAST-MODIFIED:20251008T085047Z
UID:10078965-1758213000-1758218400@bonjourgeneve.ch
SUMMARY:Atelier "Buisness English" B1-B2
DESCRIPTION:
URL:https://bonjourgeneve.ch/en/evenement/atelier-interactive-english-for-career-personal-development-intermediate-level-b1/2025-09-18/
LOCATION:Centre d’accueil de jour pour les personnes réfugiées\, 67C Rue de Lausanne\, Genève\, 1202
ATTACH;FMTTYPE=image/png:https://bonjourgeneve.ch/wp-content/uploads/2025/10/Anglais-Buisness.png
END:VEVENT
BEGIN:VEVENT
DTSTART;TZID=Europe/Paris:20250925T163000
DTEND;TZID=Europe/Paris:20250925T180000
DTSTAMP:20260425T173816
CREATED:20241017T125127Z
LAST-MODIFIED:20251008T085047Z
UID:10078966-1758817800-1758823200@bonjourgeneve.ch
SUMMARY:Atelier "Buisness English" B1-B2
DESCRIPTION:
URL:https://bonjourgeneve.ch/en/evenement/atelier-interactive-english-for-career-personal-development-intermediate-level-b1/2025-09-25/
LOCATION:Centre d’accueil de jour pour les personnes réfugiées\, 67C Rue de Lausanne\, Genève\, 1202
ATTACH;FMTTYPE=image/png:https://bonjourgeneve.ch/wp-content/uploads/2025/10/Anglais-Buisness.png
END:VEVENT
BEGIN:VEVENT
DTSTART;TZID=Europe/Paris:20251001T144500
DTEND;TZID=Europe/Paris:20251001T161500
DTSTAMP:20260425T173816
CREATED:20250825T131721Z
LAST-MODIFIED:20250828T124143Z
UID:10092225-1759329900-1759335300@bonjourgeneve.ch
SUMMARY:Atelier p'tits jardiniers - Patati patata au jardin
DESCRIPTION:Patati et patata au jardin\n  \nQui dit vacances de patate\, dit découverte de ce qu’est la patate. Les p’tits jardiniers sont attendus pour découvrir cet aliment qu’ils connaissent pourtant bien\, sans le connaître vraiment. \nLa pomme de terre est à la base des frites\, des chips\, de la purée\, des potatoes et d’autres plats très appréciés par les enfants. Lors de cet atelier les enfants découvriront plus en détail ce féculent aux multiples facettes. \n  \nCet atelier est adapté pour des enfants âgés de 6 à 12 ans \nTarif de l’atelier : 10.- par enfant \nDurée de l’atelier : 1h30 \n  \nPour plus d’informations sur nos ateliers : reservation@swissfoodacademy.ch ou +41 22 558 06 56 \nHoraires et adresses des espaces de quartier : \n\n Mercredi 1er octobre à 14h45 – 📍 Espace de quartier Le 99\, Rue de Lyon 99\, 1203 Genève\n Mercredi 8 octobre à 14h45 – 📍 Espace de quartier Plainpalais\, Rue des Minoteries 3\, 1205 Genève\n Mercredi 15 octobre à 14h45 – 📍 Espace de quartier Eaux-Vives\, Rue de Montchoisy 46\, 1207 Genève\n\n 
URL:https://bonjourgeneve.ch/en/evenement/atelier-ptits-jardiniers-patati-patata-au-jardin/2025-10-01/
ATTACH;FMTTYPE=image/png:https://bonjourgeneve.ch/wp-content/uploads/2025/08/patate-SFA.png
END:VEVENT
BEGIN:VEVENT
DTSTART;TZID=Europe/Paris:20251002T163000
DTEND;TZID=Europe/Paris:20251002T180000
DTSTAMP:20260425T173816
CREATED:20241017T125127Z
LAST-MODIFIED:20251008T085047Z
UID:10078967-1759422600-1759428000@bonjourgeneve.ch
SUMMARY:Atelier "Buisness English" B1-B2
DESCRIPTION:
URL:https://bonjourgeneve.ch/en/evenement/atelier-interactive-english-for-career-personal-development-intermediate-level-b1/2025-10-02/
LOCATION:Centre d’accueil de jour pour les personnes réfugiées\, 67C Rue de Lausanne\, Genève\, 1202
ATTACH;FMTTYPE=image/png:https://bonjourgeneve.ch/wp-content/uploads/2025/10/Anglais-Buisness.png
END:VEVENT
BEGIN:VEVENT
DTSTART;TZID=Europe/Paris:20251008T140000
DTEND;TZID=Europe/Paris:20251008T160000
DTSTAMP:20260425T173816
CREATED:20251008T094806Z
LAST-MODIFIED:20251008T094806Z
UID:10093923-1759932000-1759939200@bonjourgeneve.ch
SUMMARY:Atelier de couture
DESCRIPTION:
URL:https://bonjourgeneve.ch/en/evenement/atelier-de-couture/2025-10-08/
LOCATION:Centre d’accueil de jour pour les personnes réfugiées\, 67C Rue de Lausanne\, Genève\, 1202
ATTACH;FMTTYPE=image/png:https://bonjourgeneve.ch/wp-content/uploads/2025/10/Couture.png
END:VEVENT
BEGIN:VEVENT
DTSTART;TZID=Europe/Paris:20251008T144500
DTEND;TZID=Europe/Paris:20251008T161500
DTSTAMP:20260425T173816
CREATED:20250825T131721Z
LAST-MODIFIED:20250828T124143Z
UID:10092226-1759934700-1759940100@bonjourgeneve.ch
SUMMARY:Atelier p'tits jardiniers - Patati patata au jardin
DESCRIPTION:Patati et patata au jardin\n  \nQui dit vacances de patate\, dit découverte de ce qu’est la patate. Les p’tits jardiniers sont attendus pour découvrir cet aliment qu’ils connaissent pourtant bien\, sans le connaître vraiment. \nLa pomme de terre est à la base des frites\, des chips\, de la purée\, des potatoes et d’autres plats très appréciés par les enfants. Lors de cet atelier les enfants découvriront plus en détail ce féculent aux multiples facettes. \n  \nCet atelier est adapté pour des enfants âgés de 6 à 12 ans \nTarif de l’atelier : 10.- par enfant \nDurée de l’atelier : 1h30 \n  \nPour plus d’informations sur nos ateliers : reservation@swissfoodacademy.ch ou +41 22 558 06 56 \nHoraires et adresses des espaces de quartier : \n\n Mercredi 1er octobre à 14h45 – 📍 Espace de quartier Le 99\, Rue de Lyon 99\, 1203 Genève\n Mercredi 8 octobre à 14h45 – 📍 Espace de quartier Plainpalais\, Rue des Minoteries 3\, 1205 Genève\n Mercredi 15 octobre à 14h45 – 📍 Espace de quartier Eaux-Vives\, Rue de Montchoisy 46\, 1207 Genève\n\n 
URL:https://bonjourgeneve.ch/en/evenement/atelier-ptits-jardiniers-patati-patata-au-jardin/2025-10-08/
ATTACH;FMTTYPE=image/png:https://bonjourgeneve.ch/wp-content/uploads/2025/08/patate-SFA.png
END:VEVENT
BEGIN:VEVENT
DTSTART;TZID=Europe/Paris:20251008T160000
DTEND;TZID=Europe/Paris:20251008T170000
DTSTAMP:20260425T173816
CREATED:20251008T095228Z
LAST-MODIFIED:20251008T095449Z
UID:10094445-1759939200-1759942800@bonjourgeneve.ch
SUMMARY:Atelier artistique pour adultes et enfants (à partir de 4 ans)
DESCRIPTION:
URL:https://bonjourgeneve.ch/en/evenement/atelier-artistique-pour-adultes-et-enfants-a-partir-de-4-ans/2025-10-08/
LOCATION:Centre d’accueil de jour pour les personnes réfugiées\, 67C Rue de Lausanne\, Genève\, 1202
ATTACH;FMTTYPE=image/png:https://bonjourgeneve.ch/wp-content/uploads/2025/10/Atelier-Artistique.png
END:VEVENT
BEGIN:VEVENT
DTSTART;TZID=Europe/Paris:20251009T080000
DTEND;TZID=Europe/Paris:20251009T170000
DTSTAMP:20260425T173816
CREATED:20251009T095120Z
LAST-MODIFIED:20251009T095120Z
UID:10095228-1759996800-1760029200@bonjourgeneve.ch
SUMMARY:Atelier de backgammon
DESCRIPTION:
URL:https://bonjourgeneve.ch/en/evenement/atelier-de-backgammon/
LOCATION:Centre d’accueil de jour pour les personnes réfugiées\, 67C Rue de Lausanne\, Genève\, 1202
ATTACH;FMTTYPE=image/png:https://bonjourgeneve.ch/wp-content/uploads/2025/10/Backgammon.png
END:VEVENT
BEGIN:VEVENT
DTSTART;TZID=Europe/Paris:20251009T140000
DTEND;TZID=Europe/Paris:20251009T160000
DTSTAMP:20260425T173816
CREATED:20251009T095355Z
LAST-MODIFIED:20251009T095355Z
UID:10095229-1760018400-1760025600@bonjourgeneve.ch
SUMMARY:Atelier de français « Citoyenneté et écriture »
DESCRIPTION:
URL:https://bonjourgeneve.ch/en/evenement/atelier-de-francais-citoyennete-et-ecriture/2025-10-09/
LOCATION:Centre d’accueil de jour pour les personnes réfugiées\, 67C Rue de Lausanne\, Genève\, 1202
ATTACH;FMTTYPE=image/png:https://bonjourgeneve.ch/wp-content/uploads/2025/10/FR-B2C1.png
END:VEVENT
BEGIN:VEVENT
DTSTART;TZID=Europe/Paris:20251009T163000
DTEND;TZID=Europe/Paris:20251009T180000
DTSTAMP:20260425T173816
CREATED:20241017T125127Z
LAST-MODIFIED:20251008T085047Z
UID:10078968-1760027400-1760032800@bonjourgeneve.ch
SUMMARY:Atelier "Buisness English" B1-B2
DESCRIPTION:
URL:https://bonjourgeneve.ch/en/evenement/atelier-interactive-english-for-career-personal-development-intermediate-level-b1/2025-10-09/
LOCATION:Centre d’accueil de jour pour les personnes réfugiées\, 67C Rue de Lausanne\, Genève\, 1202
ATTACH;FMTTYPE=image/png:https://bonjourgeneve.ch/wp-content/uploads/2025/10/Anglais-Buisness.png
END:VEVENT
BEGIN:VEVENT
DTSTART;TZID=Europe/Paris:20251009T170000
DTEND;TZID=Europe/Paris:20251009T180000
DTSTAMP:20260425T173816
CREATED:20251009T094928Z
LAST-MODIFIED:20251009T094928Z
UID:10094967-1760029200-1760032800@bonjourgeneve.ch
SUMMARY:Atelier d'anglais pour les enfants (de 5 à 8 ans)
DESCRIPTION:
URL:https://bonjourgeneve.ch/en/evenement/atelier-danglais-pour-les-enfants-de-5-a-8-ans/2025-10-09/
LOCATION:Centre d’accueil de jour pour les personnes réfugiées\, 67C Rue de Lausanne\, Genève\, 1202
ATTACH;FMTTYPE=image/png:https://bonjourgeneve.ch/wp-content/uploads/2025/10/Anglais-enfants.png
END:VEVENT
BEGIN:VEVENT
DTSTART;TZID=Europe/Paris:20251010T120000
DTEND;TZID=Europe/Paris:20251010T130000
DTSTAMP:20260425T173816
CREATED:20251009T095914Z
LAST-MODIFIED:20251009T095914Z
UID:10095751-1760097600-1760101200@bonjourgeneve.ch
SUMMARY:Atelier de danse pour femmes
DESCRIPTION:
URL:https://bonjourgeneve.ch/en/evenement/atelier-de-danse-pour-femmes/2025-10-10/
LOCATION:Centre d’accueil de jour pour les personnes réfugiées\, 67C Rue de Lausanne\, Genève\, 1202
ATTACH;FMTTYPE=image/png:https://bonjourgeneve.ch/wp-content/uploads/2025/10/Danse.png
END:VEVENT
BEGIN:VEVENT
DTSTART;TZID=Europe/Paris:20251010T140000
DTEND;TZID=Europe/Paris:20251010T160000
DTSTAMP:20260425T173816
CREATED:20251009T100640Z
LAST-MODIFIED:20251114T132623Z
UID:10096273-1760104800-1760112000@bonjourgeneve.ch
SUMMARY:Permanence aide à la recherche logement
DESCRIPTION:
URL:https://bonjourgeneve.ch/en/evenement/permanence-aide-a-la-recherche-logement-3/2025-10-10/
LOCATION:Centre d’accueil de jour pour les personnes réfugiées\, 67C Rue de Lausanne\, Genève\, 1202
ATTACH;FMTTYPE=image/png:https://bonjourgeneve.ch/wp-content/uploads/2025/10/logement-vendredi.png
END:VEVENT
BEGIN:VEVENT
DTSTART;TZID=Europe/Paris:20251010T150000
DTEND;TZID=Europe/Paris:20251010T163000
DTSTAMP:20260425T173816
CREATED:20251009T101447Z
LAST-MODIFIED:20251009T101447Z
UID:10096795-1760108400-1760113800@bonjourgeneve.ch
SUMMARY:Atolye ya destpêkê a fransî asta destpêk'ê
DESCRIPTION:
URL:https://bonjourgeneve.ch/en/evenement/atolye-ya-destpeke-a-fransi-asta-destpeke/2025-10-10/
LOCATION:Centre d’accueil de jour pour les personnes réfugiées\, 67C Rue de Lausanne\, Genève\, 1202
END:VEVENT
BEGIN:VEVENT
DTSTART;TZID=Europe/Paris:20251010T160000
DTEND;TZID=Europe/Paris:20251010T173000
DTSTAMP:20260425T173816
CREATED:20251009T095659Z
LAST-MODIFIED:20251009T095659Z
UID:10095490-1760112000-1760117400@bonjourgeneve.ch
SUMMARY:Atelier de conversation en français - niveau débutant - A1
DESCRIPTION:
URL:https://bonjourgeneve.ch/en/evenement/atelier-de-conversation-en-francais-niveau-debutant-a1/2025-10-10/
LOCATION:Centre d’accueil de jour pour les personnes réfugiées\, 67C Rue de Lausanne\, Genève\, 1202
ATTACH;FMTTYPE=image/png:https://bonjourgeneve.ch/wp-content/uploads/2025/10/FR-A1vendredi.png
END:VEVENT
BEGIN:VEVENT
DTSTART;TZID=Europe/Paris:20251013T100000
DTEND;TZID=Europe/Paris:20251013T110000
DTSTAMP:20260425T173816
CREATED:20251008T093206Z
LAST-MODIFIED:20251008T093721Z
UID:10093140-1760349600-1760353200@bonjourgeneve.ch
SUMMARY:Petit-déjeuner
DESCRIPTION:
URL:https://bonjourgeneve.ch/en/evenement/petit-dejeuner/2025-10-13/
LOCATION:Centre d’accueil de jour pour les personnes réfugiées\, 67C Rue de Lausanne\, Genève\, 1202
ATTACH;FMTTYPE=image/png:https://bonjourgeneve.ch/wp-content/uploads/2025/10/Petit-dejeuner.png
END:VEVENT
BEGIN:VEVENT
DTSTART;TZID=Europe/Paris:20251013T103000
DTEND;TZID=Europe/Paris:20251013T120000
DTSTAMP:20260425T173816
CREATED:20251008T091522Z
LAST-MODIFIED:20251008T091614Z
UID:10092879-1760351400-1760356800@bonjourgeneve.ch
SUMMARY:Groupe de parole et mandala
DESCRIPTION:
URL:https://bonjourgeneve.ch/en/evenement/groupe-de-parole-et-mandala/2025-10-13/
LOCATION:Centre d’accueil de jour pour les personnes réfugiées\, 67C Rue de Lausanne\, Genève\, 1202
ATTACH;FMTTYPE=image/png:https://bonjourgeneve.ch/wp-content/uploads/2025/10/mandala.png
END:VEVENT
BEGIN:VEVENT
DTSTART;TZID=Europe/Paris:20251013T130000
DTEND;TZID=Europe/Paris:20251013T143000
DTSTAMP:20260425T173816
CREATED:20251009T101713Z
LAST-MODIFIED:20251009T101713Z
UID:10097056-1760360400-1760365800@bonjourgeneve.ch
SUMMARY:ФРАНЦУЗЬКА ДЛЯ ПОЧАТКІВЦІВ УКРАЇНСЬКОЮ\, РОСІЙСЬКОЮ ТА ФРАНЦУЗЬКОЮ РІВЕНЬ A0–A1
DESCRIPTION:
URL:https://bonjourgeneve.ch/en/evenement/%d1%84%d1%80%d0%b0%d0%bd%d1%86%d1%83%d0%b7%d1%8c%d0%ba%d0%b0-%d0%b4%d0%bb%d1%8f-%d0%bf%d0%be%d1%87%d0%b0%d1%82%d0%ba%d1%96%d0%b2%d1%86%d1%96%d0%b2-%d1%83%d0%ba%d1%80%d0%b0%d1%97%d0%bd%d1%81%d1%8c/2025-10-13/
LOCATION:Centre d’accueil de jour pour les personnes réfugiées\, 67C Rue de Lausanne\, Genève\, 1202
ATTACH;FMTTYPE=image/png:https://bonjourgeneve.ch/wp-content/uploads/2025/10/FR-UKR.png
END:VEVENT
BEGIN:VEVENT
DTSTART;TZID=Europe/Paris:20251013T143000
DTEND;TZID=Europe/Paris:20251013T160000
DTSTAMP:20260425T173816
CREATED:20251009T114958Z
LAST-MODIFIED:20251009T114958Z
UID:10097578-1760365800-1760371200@bonjourgeneve.ch
SUMMARY:Atelier de conversation en anglais - niveau débutant - A0 A1
DESCRIPTION:
URL:https://bonjourgeneve.ch/en/evenement/atelier-de-conversation-en-anglais-niveau-debutant-a0-a1/2025-10-13/
LOCATION:Centre d’accueil de jour pour les personnes réfugiées\, 67C Rue de Lausanne\, Genève\, 1202
ATTACH;FMTTYPE=image/png:https://bonjourgeneve.ch/wp-content/uploads/2025/10/Anglais-A1.png
END:VEVENT
BEGIN:VEVENT
DTSTART;TZID=Europe/Paris:20251013T143000
DTEND;TZID=Europe/Paris:20251013T160000
DTSTAMP:20260425T173817
CREATED:20251009T114727Z
LAST-MODIFIED:20251009T114727Z
UID:10097317-1760365800-1760371200@bonjourgeneve.ch
SUMMARY:Atelier de conversation en français - niveau avancé - B1
DESCRIPTION:
URL:https://bonjourgeneve.ch/en/evenement/atelier-de-conversation-en-francais-niveau-avance-b1/2025-10-13/
LOCATION:Centre d’accueil de jour pour les personnes réfugiées\, 67C Rue de Lausanne\, Genève\, 1202
ATTACH;FMTTYPE=image/png:https://bonjourgeneve.ch/wp-content/uploads/2025/10/FR-B1.png
END:VEVENT
BEGIN:VEVENT
DTSTART;TZID=Europe/Paris:20251013T163000
DTEND;TZID=Europe/Paris:20251013T180000
DTSTAMP:20260425T173817
CREATED:20251009T115127Z
LAST-MODIFIED:20251009T115127Z
UID:10097839-1760373000-1760378400@bonjourgeneve.ch
SUMMARY:Atelier de conversation en anglais - niveau intermédiaire - A2
DESCRIPTION:
URL:https://bonjourgeneve.ch/en/evenement/atelier-de-conversation-en-anglais-niveau-intermediaire-a2/2025-10-13/
LOCATION:Centre d’accueil de jour pour les personnes réfugiées\, 67C Rue de Lausanne\, Genève\, 1202
ATTACH;FMTTYPE=image/png:https://bonjourgeneve.ch/wp-content/uploads/2025/10/Anglais-A2.png
END:VEVENT
END:VCALENDAR