BEGIN:VCALENDAR
VERSION:2.0
PRODID:-//Bonjour Genève - ECPv6.15.17//NONSGML v1.0//EN
CALSCALE:GREGORIAN
METHOD:PUBLISH
X-ORIGINAL-URL:https://bonjourgeneve.ch/en/
X-WR-CALDESC:Events for Bonjour Genève
REFRESH-INTERVAL;VALUE=DURATION:PT1H
X-Robots-Tag:noindex
X-PUBLISHED-TTL:PT1H
BEGIN:VTIMEZONE
TZID:Europe/Paris
BEGIN:DAYLIGHT
TZOFFSETFROM:+0100
TZOFFSETTO:+0200
TZNAME:CEST
DTSTART:20240331T010000
END:DAYLIGHT
BEGIN:STANDARD
TZOFFSETFROM:+0200
TZOFFSETTO:+0100
TZNAME:CET
DTSTART:20241027T010000
END:STANDARD
BEGIN:DAYLIGHT
TZOFFSETFROM:+0100
TZOFFSETTO:+0200
TZNAME:CEST
DTSTART:20250330T010000
END:DAYLIGHT
BEGIN:STANDARD
TZOFFSETFROM:+0200
TZOFFSETTO:+0100
TZNAME:CET
DTSTART:20251026T010000
END:STANDARD
BEGIN:DAYLIGHT
TZOFFSETFROM:+0100
TZOFFSETTO:+0200
TZNAME:CEST
DTSTART:20260329T010000
END:DAYLIGHT
BEGIN:STANDARD
TZOFFSETFROM:+0200
TZOFFSETTO:+0100
TZNAME:CET
DTSTART:20261025T010000
END:STANDARD
END:VTIMEZONE
BEGIN:VEVENT
DTSTART;TZID=Europe/Paris:20251010T160000
DTEND;TZID=Europe/Paris:20251010T173000
DTSTAMP:20260425T155723
CREATED:20251009T095659Z
LAST-MODIFIED:20251009T095659Z
UID:10095490-1760112000-1760117400@bonjourgeneve.ch
SUMMARY:Atelier de conversation en français - niveau débutant - A1
DESCRIPTION:
URL:https://bonjourgeneve.ch/en/evenement/atelier-de-conversation-en-francais-niveau-debutant-a1/2025-10-10/
LOCATION:Centre d’accueil de jour pour les personnes réfugiées\, 67C Rue de Lausanne\, Genève\, 1202
ATTACH;FMTTYPE=image/png:https://bonjourgeneve.ch/wp-content/uploads/2025/10/FR-A1vendredi.png
END:VEVENT
BEGIN:VEVENT
DTSTART;TZID=Europe/Paris:20251013T100000
DTEND;TZID=Europe/Paris:20251013T110000
DTSTAMP:20260425T155723
CREATED:20251008T093206Z
LAST-MODIFIED:20251008T093721Z
UID:10093140-1760349600-1760353200@bonjourgeneve.ch
SUMMARY:Petit-déjeuner
DESCRIPTION:
URL:https://bonjourgeneve.ch/en/evenement/petit-dejeuner/2025-10-13/
LOCATION:Centre d’accueil de jour pour les personnes réfugiées\, 67C Rue de Lausanne\, Genève\, 1202
ATTACH;FMTTYPE=image/png:https://bonjourgeneve.ch/wp-content/uploads/2025/10/Petit-dejeuner.png
END:VEVENT
BEGIN:VEVENT
DTSTART;TZID=Europe/Paris:20251013T103000
DTEND;TZID=Europe/Paris:20251013T120000
DTSTAMP:20260425T155723
CREATED:20251008T091522Z
LAST-MODIFIED:20251008T091614Z
UID:10092879-1760351400-1760356800@bonjourgeneve.ch
SUMMARY:Groupe de parole et mandala
DESCRIPTION:
URL:https://bonjourgeneve.ch/en/evenement/groupe-de-parole-et-mandala/2025-10-13/
LOCATION:Centre d’accueil de jour pour les personnes réfugiées\, 67C Rue de Lausanne\, Genève\, 1202
ATTACH;FMTTYPE=image/png:https://bonjourgeneve.ch/wp-content/uploads/2025/10/mandala.png
END:VEVENT
BEGIN:VEVENT
DTSTART;TZID=Europe/Paris:20251013T130000
DTEND;TZID=Europe/Paris:20251013T143000
DTSTAMP:20260425T155723
CREATED:20251009T101713Z
LAST-MODIFIED:20251009T101713Z
UID:10097056-1760360400-1760365800@bonjourgeneve.ch
SUMMARY:ФРАНЦУЗЬКА ДЛЯ ПОЧАТКІВЦІВ УКРАЇНСЬКОЮ\, РОСІЙСЬКОЮ ТА ФРАНЦУЗЬКОЮ РІВЕНЬ A0–A1
DESCRIPTION:
URL:https://bonjourgeneve.ch/en/evenement/%d1%84%d1%80%d0%b0%d0%bd%d1%86%d1%83%d0%b7%d1%8c%d0%ba%d0%b0-%d0%b4%d0%bb%d1%8f-%d0%bf%d0%be%d1%87%d0%b0%d1%82%d0%ba%d1%96%d0%b2%d1%86%d1%96%d0%b2-%d1%83%d0%ba%d1%80%d0%b0%d1%97%d0%bd%d1%81%d1%8c/2025-10-13/
LOCATION:Centre d’accueil de jour pour les personnes réfugiées\, 67C Rue de Lausanne\, Genève\, 1202
ATTACH;FMTTYPE=image/png:https://bonjourgeneve.ch/wp-content/uploads/2025/10/FR-UKR.png
END:VEVENT
BEGIN:VEVENT
DTSTART;TZID=Europe/Paris:20251013T143000
DTEND;TZID=Europe/Paris:20251013T160000
DTSTAMP:20260425T155723
CREATED:20251009T114958Z
LAST-MODIFIED:20251009T114958Z
UID:10097578-1760365800-1760371200@bonjourgeneve.ch
SUMMARY:Atelier de conversation en anglais - niveau débutant - A0 A1
DESCRIPTION:
URL:https://bonjourgeneve.ch/en/evenement/atelier-de-conversation-en-anglais-niveau-debutant-a0-a1/2025-10-13/
LOCATION:Centre d’accueil de jour pour les personnes réfugiées\, 67C Rue de Lausanne\, Genève\, 1202
ATTACH;FMTTYPE=image/png:https://bonjourgeneve.ch/wp-content/uploads/2025/10/Anglais-A1.png
END:VEVENT
BEGIN:VEVENT
DTSTART;TZID=Europe/Paris:20251013T143000
DTEND;TZID=Europe/Paris:20251013T160000
DTSTAMP:20260425T155723
CREATED:20251009T114727Z
LAST-MODIFIED:20251009T114727Z
UID:10097317-1760365800-1760371200@bonjourgeneve.ch
SUMMARY:Atelier de conversation en français - niveau avancé - B1
DESCRIPTION:
URL:https://bonjourgeneve.ch/en/evenement/atelier-de-conversation-en-francais-niveau-avance-b1/2025-10-13/
LOCATION:Centre d’accueil de jour pour les personnes réfugiées\, 67C Rue de Lausanne\, Genève\, 1202
ATTACH;FMTTYPE=image/png:https://bonjourgeneve.ch/wp-content/uploads/2025/10/FR-B1.png
END:VEVENT
BEGIN:VEVENT
DTSTART;TZID=Europe/Paris:20251013T163000
DTEND;TZID=Europe/Paris:20251013T180000
DTSTAMP:20260425T155723
CREATED:20251009T115127Z
LAST-MODIFIED:20251009T115127Z
UID:10097839-1760373000-1760378400@bonjourgeneve.ch
SUMMARY:Atelier de conversation en anglais - niveau intermédiaire - A2
DESCRIPTION:
URL:https://bonjourgeneve.ch/en/evenement/atelier-de-conversation-en-anglais-niveau-intermediaire-a2/2025-10-13/
LOCATION:Centre d’accueil de jour pour les personnes réfugiées\, 67C Rue de Lausanne\, Genève\, 1202
ATTACH;FMTTYPE=image/png:https://bonjourgeneve.ch/wp-content/uploads/2025/10/Anglais-A2.png
END:VEVENT
BEGIN:VEVENT
DTSTART;TZID=Europe/Paris:20251014T103000
DTEND;TZID=Europe/Paris:20251014T113000
DTSTAMP:20260425T155723
CREATED:20251009T115335Z
LAST-MODIFIED:20251009T115335Z
UID:10098100-1760437800-1760441400@bonjourgeneve.ch
SUMMARY:Atelier de français - niveau débutant - A0
DESCRIPTION:
URL:https://bonjourgeneve.ch/en/evenement/atelier-de-francais-niveau-debutant-a0/2025-10-14/
LOCATION:Centre d’accueil de jour pour les personnes réfugiées\, 67C Rue de Lausanne\, Genève\, 1202
ATTACH;FMTTYPE=image/png:https://bonjourgeneve.ch/wp-content/uploads/2025/10/FR-AO.png
END:VEVENT
BEGIN:VEVENT
DTSTART;TZID=Europe/Paris:20251014T103000
DTEND;TZID=Europe/Paris:20251014T123000
DTSTAMP:20260425T155723
CREATED:20251009T100805Z
LAST-MODIFIED:20251114T132738Z
UID:10096534-1760437800-1760445000@bonjourgeneve.ch
SUMMARY:Permanence aide à la recherche logement
DESCRIPTION:
URL:https://bonjourgeneve.ch/en/evenement/permanence-aide-a-la-recherche-logement-2-2/2025-10-14/
LOCATION:Centre d’accueil de jour pour les personnes réfugiées\, 67C Rue de Lausanne\, Genève\, 1202
ATTACH;FMTTYPE=image/png:https://bonjourgeneve.ch/wp-content/uploads/2025/10/logement-mardi.png
END:VEVENT
BEGIN:VEVENT
DTSTART;TZID=Europe/Paris:20251014T123000
DTEND;TZID=Europe/Paris:20251014T133000
DTSTAMP:20260425T155723
CREATED:20251009T094554Z
LAST-MODIFIED:20251009T094554Z
UID:10094706-1760445000-1760448600@bonjourgeneve.ch
SUMMARY:Atelier de mémoire (donné en ukrainien/russe))
DESCRIPTION:
URL:https://bonjourgeneve.ch/en/evenement/atelier-de-memoire-donne-en-ukrainien-russe/2025-10-14/
LOCATION:Centre d’accueil de jour pour les personnes réfugiées\, 67C Rue de Lausanne\, Genève\, 1202
ATTACH;FMTTYPE=image/png:https://bonjourgeneve.ch/wp-content/uploads/2025/10/Atelier-memoire-ukrainien.png
END:VEVENT
BEGIN:VEVENT
DTSTART;TZID=Europe/Paris:20251014T133000
DTEND;TZID=Europe/Paris:20251014T150000
DTSTAMP:20260425T155723
CREATED:20251009T115609Z
LAST-MODIFIED:20251009T115609Z
UID:10098361-1760448600-1760454000@bonjourgeneve.ch
SUMMARY:Atelier de conversation en français - niveau intermédiaire - A2
DESCRIPTION:
URL:https://bonjourgeneve.ch/en/evenement/atelier-de-conversation-en-francais-niveau-intermediaire-a2/2025-10-14/
LOCATION:Centre d’accueil de jour pour les personnes réfugiées\, 67C Rue de Lausanne\, Genève\, 1202
ATTACH;FMTTYPE=image/png:https://bonjourgeneve.ch/wp-content/uploads/2025/10/FR-A2mardi.png
END:VEVENT
BEGIN:VEVENT
DTSTART;TZID=Europe/Paris:20251014T150000
DTEND;TZID=Europe/Paris:20251014T163000
DTSTAMP:20260425T155723
CREATED:20251009T115959Z
LAST-MODIFIED:20251009T115959Z
UID:10098622-1760454000-1760459400@bonjourgeneve.ch
SUMMARY:Giris atölyesi franzisca - baslangiç seviyesi - A0 A1
DESCRIPTION:
URL:https://bonjourgeneve.ch/en/evenement/giris-atolyesi-franzisca-baslangic-seviyesi-a0-a1/2025-10-14/
LOCATION:Centre d’accueil de jour pour les personnes réfugiées\, 67C Rue de Lausanne\, Genève\, 1202
ATTACH;FMTTYPE=image/png:https://bonjourgeneve.ch/wp-content/uploads/2025/10/FR-TURC.png
END:VEVENT
BEGIN:VEVENT
DTSTART;TZID=Europe/Paris:20251014T170000
DTEND;TZID=Europe/Paris:20251014T180000
DTSTAMP:20260425T155723
CREATED:20251009T120212Z
LAST-MODIFIED:20251009T120212Z
UID:10098883-1760461200-1760464800@bonjourgeneve.ch
SUMMARY:Atelier de Yoga
DESCRIPTION:
URL:https://bonjourgeneve.ch/en/evenement/atelier-de-yoga/2025-10-14/
LOCATION:Centre d’accueil de jour pour les personnes réfugiées\, 67C Rue de Lausanne\, Genève\, 1202
END:VEVENT
BEGIN:VEVENT
DTSTART;TZID=Europe/Paris:20251015T103000
DTEND;TZID=Europe/Paris:20251015T120000
DTSTAMP:20260425T155723
CREATED:20251009T121217Z
LAST-MODIFIED:20251009T121217Z
UID:10099405-1760524200-1760529600@bonjourgeneve.ch
SUMMARY:Atelier de conversation en français - niveau débutant - A1
DESCRIPTION:
URL:https://bonjourgeneve.ch/en/evenement/atelier-de-conversation-en-francais-niveau-debutant-a1-2/2025-10-15/
LOCATION:Centre d’accueil de jour pour les personnes réfugiées\, 67C Rue de Lausanne\, Genève\, 1202
ATTACH;FMTTYPE=image/png:https://bonjourgeneve.ch/wp-content/uploads/2025/10/FR-A1mercredi.png
END:VEVENT
BEGIN:VEVENT
DTSTART;TZID=Europe/Paris:20251015T124500
DTEND;TZID=Europe/Paris:20251015T140000
DTSTAMP:20260425T155723
CREATED:20251009T120435Z
LAST-MODIFIED:20251009T120435Z
UID:10099144-1760532300-1760536800@bonjourgeneve.ch
SUMMARY:Chorale
DESCRIPTION:
URL:https://bonjourgeneve.ch/en/evenement/chorale/2025-10-15/
LOCATION:Centre d’accueil de jour pour les personnes réfugiées\, 67C Rue de Lausanne\, Genève\, 1202
ATTACH;FMTTYPE=image/png:https://bonjourgeneve.ch/wp-content/uploads/2025/10/Chorale.png
END:VEVENT
BEGIN:VEVENT
DTSTART;TZID=Europe/Paris:20251015T133000
DTEND;TZID=Europe/Paris:20251015T150000
DTSTAMP:20260425T155723
CREATED:20251009T123222Z
LAST-MODIFIED:20251009T123222Z
UID:10100448-1760535000-1760540400@bonjourgeneve.ch
SUMMARY:حصة لغة فرنسية – مستوى مبتدئ المستوى A0 A1
DESCRIPTION:
URL:https://bonjourgeneve.ch/en/evenement/%d8%ad%d8%b5%d8%a9-%d9%84%d8%ba%d8%a9-%d9%81%d8%b1%d9%86%d8%b3%d9%8a%d8%a9-%d9%85%d8%b3%d8%aa%d9%88%d9%89-%d9%85%d8%a8%d8%aa%d8%af%d8%a6-%d8%a7%d9%84%d9%85%d8%b3%d8%aa%d9%88%d9%89-a0-a1/2025-10-15/
LOCATION:Centre d’accueil de jour pour les personnes réfugiées\, 67C Rue de Lausanne\, Genève\, 1202
ATTACH;FMTTYPE=image/png:https://bonjourgeneve.ch/wp-content/uploads/2025/10/FR-ARABE.png
END:VEVENT
BEGIN:VEVENT
DTSTART;TZID=Europe/Paris:20251015T140000
DTEND;TZID=Europe/Paris:20251015T160000
DTSTAMP:20260425T155723
CREATED:20251008T094806Z
LAST-MODIFIED:20251008T094806Z
UID:10093924-1760536800-1760544000@bonjourgeneve.ch
SUMMARY:Atelier de couture
DESCRIPTION:
URL:https://bonjourgeneve.ch/en/evenement/atelier-de-couture/2025-10-15/
LOCATION:Centre d’accueil de jour pour les personnes réfugiées\, 67C Rue de Lausanne\, Genève\, 1202
ATTACH;FMTTYPE=image/png:https://bonjourgeneve.ch/wp-content/uploads/2025/10/Couture.png
END:VEVENT
BEGIN:VEVENT
DTSTART;TZID=Europe/Paris:20251015T144500
DTEND;TZID=Europe/Paris:20251015T161500
DTSTAMP:20260425T155723
CREATED:20250825T131721Z
LAST-MODIFIED:20250828T124143Z
UID:10092227-1760539500-1760544900@bonjourgeneve.ch
SUMMARY:Atelier p'tits jardiniers - Patati patata au jardin
DESCRIPTION:Patati et patata au jardin\n  \nQui dit vacances de patate\, dit découverte de ce qu’est la patate. Les p’tits jardiniers sont attendus pour découvrir cet aliment qu’ils connaissent pourtant bien\, sans le connaître vraiment. \nLa pomme de terre est à la base des frites\, des chips\, de la purée\, des potatoes et d’autres plats très appréciés par les enfants. Lors de cet atelier les enfants découvriront plus en détail ce féculent aux multiples facettes. \n  \nCet atelier est adapté pour des enfants âgés de 6 à 12 ans \nTarif de l’atelier : 10.- par enfant \nDurée de l’atelier : 1h30 \n  \nPour plus d’informations sur nos ateliers : reservation@swissfoodacademy.ch ou +41 22 558 06 56 \nHoraires et adresses des espaces de quartier : \n\n Mercredi 1er octobre à 14h45 – 📍 Espace de quartier Le 99\, Rue de Lyon 99\, 1203 Genève\n Mercredi 8 octobre à 14h45 – 📍 Espace de quartier Plainpalais\, Rue des Minoteries 3\, 1205 Genève\n Mercredi 15 octobre à 14h45 – 📍 Espace de quartier Eaux-Vives\, Rue de Montchoisy 46\, 1207 Genève\n\n 
URL:https://bonjourgeneve.ch/en/evenement/atelier-ptits-jardiniers-patati-patata-au-jardin/2025-10-15/
ATTACH;FMTTYPE=image/png:https://bonjourgeneve.ch/wp-content/uploads/2025/08/patate-SFA.png
END:VEVENT
BEGIN:VEVENT
DTSTART;TZID=Europe/Paris:20251015T160000
DTEND;TZID=Europe/Paris:20251015T170000
DTSTAMP:20260425T155723
CREATED:20251008T095228Z
LAST-MODIFIED:20251008T095449Z
UID:10094446-1760544000-1760547600@bonjourgeneve.ch
SUMMARY:Atelier artistique pour adultes et enfants (à partir de 4 ans)
DESCRIPTION:
URL:https://bonjourgeneve.ch/en/evenement/atelier-artistique-pour-adultes-et-enfants-a-partir-de-4-ans/2025-10-15/
LOCATION:Centre d’accueil de jour pour les personnes réfugiées\, 67C Rue de Lausanne\, Genève\, 1202
ATTACH;FMTTYPE=image/png:https://bonjourgeneve.ch/wp-content/uploads/2025/10/Atelier-Artistique.png
END:VEVENT
BEGIN:VEVENT
DTSTART;TZID=Europe/Paris:20251015T160000
DTEND;TZID=Europe/Paris:20251015T180000
DTSTAMP:20260425T155723
CREATED:20251009T122004Z
LAST-MODIFIED:20251114T111850Z
UID:10099926-1760544000-1760551200@bonjourgeneve.ch
SUMMARY:Pratique libre d'échecs
DESCRIPTION:
URL:https://bonjourgeneve.ch/en/evenement/atelier-dechecs/2025-10-15/
LOCATION:Centre d’accueil de jour pour les personnes réfugiées\, 67C Rue de Lausanne\, Genève\, 1202
ATTACH;FMTTYPE=image/png:https://bonjourgeneve.ch/wp-content/uploads/2025/10/echecs-1.png
END:VEVENT
BEGIN:VEVENT
DTSTART;TZID=Europe/Paris:20251015T190000
DTEND;TZID=Europe/Paris:20251015T200000
DTSTAMP:20260425T155723
CREATED:20251009T122154Z
LAST-MODIFIED:20251009T122154Z
UID:10100187-1760554800-1760558400@bonjourgeneve.ch
SUMMARY:Volley-ball
DESCRIPTION:
URL:https://bonjourgeneve.ch/en/evenement/volley-ball/2025-10-15/
LOCATION:Cycle d’orientation des Sécheron\, Avenue Blanc 1\, Genève\, 1202\, Suisse
ATTACH;FMTTYPE=image/png:https://bonjourgeneve.ch/wp-content/uploads/2025/10/Volley-ball.png
END:VEVENT
BEGIN:VEVENT
DTSTART;TZID=Europe/Paris:20251016T103000
DTEND;TZID=Europe/Paris:20251016T120000
DTSTAMP:20260425T155723
CREATED:20251009T121533Z
LAST-MODIFIED:20251009T121533Z
UID:10099666-1760610600-1760616000@bonjourgeneve.ch
SUMMARY:Atelier de conversation en français – niveau intermédiaire – A2
DESCRIPTION:
URL:https://bonjourgeneve.ch/en/evenement/atelier-de-conversation-en-francais-niveau-intermediaire-a2-2/2025-10-16/
LOCATION:Centre d’accueil de jour pour les personnes réfugiées\, 67C Rue de Lausanne\, Genève\, 1202
ATTACH;FMTTYPE=image/png:https://bonjourgeneve.ch/wp-content/uploads/2025/10/FR-A2.png
END:VEVENT
BEGIN:VEVENT
DTSTART;TZID=Europe/Paris:20251016T140000
DTEND;TZID=Europe/Paris:20251016T160000
DTSTAMP:20260425T155723
CREATED:20251009T095355Z
LAST-MODIFIED:20251009T095355Z
UID:10095230-1760623200-1760630400@bonjourgeneve.ch
SUMMARY:Atelier de français « Citoyenneté et écriture »
DESCRIPTION:
URL:https://bonjourgeneve.ch/en/evenement/atelier-de-francais-citoyennete-et-ecriture/2025-10-16/
LOCATION:Centre d’accueil de jour pour les personnes réfugiées\, 67C Rue de Lausanne\, Genève\, 1202
ATTACH;FMTTYPE=image/png:https://bonjourgeneve.ch/wp-content/uploads/2025/10/FR-B2C1.png
END:VEVENT
BEGIN:VEVENT
DTSTART;TZID=Europe/Paris:20251016T163000
DTEND;TZID=Europe/Paris:20251016T180000
DTSTAMP:20260425T155723
CREATED:20241017T125127Z
LAST-MODIFIED:20251008T085047Z
UID:10078969-1760632200-1760637600@bonjourgeneve.ch
SUMMARY:Atelier "Buisness English" B1-B2
DESCRIPTION:
URL:https://bonjourgeneve.ch/en/evenement/atelier-interactive-english-for-career-personal-development-intermediate-level-b1/2025-10-16/
LOCATION:Centre d’accueil de jour pour les personnes réfugiées\, 67C Rue de Lausanne\, Genève\, 1202
ATTACH;FMTTYPE=image/png:https://bonjourgeneve.ch/wp-content/uploads/2025/10/Anglais-Buisness.png
END:VEVENT
BEGIN:VEVENT
DTSTART;TZID=Europe/Paris:20251016T170000
DTEND;TZID=Europe/Paris:20251016T180000
DTSTAMP:20260425T155723
CREATED:20251009T094928Z
LAST-MODIFIED:20251009T094928Z
UID:10094968-1760634000-1760637600@bonjourgeneve.ch
SUMMARY:Atelier d'anglais pour les enfants (de 5 à 8 ans)
DESCRIPTION:
URL:https://bonjourgeneve.ch/en/evenement/atelier-danglais-pour-les-enfants-de-5-a-8-ans/2025-10-16/
LOCATION:Centre d’accueil de jour pour les personnes réfugiées\, 67C Rue de Lausanne\, Genève\, 1202
ATTACH;FMTTYPE=image/png:https://bonjourgeneve.ch/wp-content/uploads/2025/10/Anglais-enfants.png
END:VEVENT
BEGIN:VEVENT
DTSTART;TZID=Europe/Paris:20251017T120000
DTEND;TZID=Europe/Paris:20251017T130000
DTSTAMP:20260425T155723
CREATED:20251009T095914Z
LAST-MODIFIED:20251009T095914Z
UID:10095752-1760702400-1760706000@bonjourgeneve.ch
SUMMARY:Atelier de danse pour femmes
DESCRIPTION:
URL:https://bonjourgeneve.ch/en/evenement/atelier-de-danse-pour-femmes/2025-10-17/
LOCATION:Centre d’accueil de jour pour les personnes réfugiées\, 67C Rue de Lausanne\, Genève\, 1202
ATTACH;FMTTYPE=image/png:https://bonjourgeneve.ch/wp-content/uploads/2025/10/Danse.png
END:VEVENT
BEGIN:VEVENT
DTSTART;TZID=Europe/Paris:20251017T140000
DTEND;TZID=Europe/Paris:20251017T160000
DTSTAMP:20260425T155723
CREATED:20251009T100640Z
LAST-MODIFIED:20251114T132623Z
UID:10096274-1760709600-1760716800@bonjourgeneve.ch
SUMMARY:Permanence aide à la recherche logement
DESCRIPTION:
URL:https://bonjourgeneve.ch/en/evenement/permanence-aide-a-la-recherche-logement-3/2025-10-17/
LOCATION:Centre d’accueil de jour pour les personnes réfugiées\, 67C Rue de Lausanne\, Genève\, 1202
ATTACH;FMTTYPE=image/png:https://bonjourgeneve.ch/wp-content/uploads/2025/10/logement-vendredi.png
END:VEVENT
BEGIN:VEVENT
DTSTART;TZID=Europe/Paris:20251017T150000
DTEND;TZID=Europe/Paris:20251017T163000
DTSTAMP:20260425T155723
CREATED:20251009T101447Z
LAST-MODIFIED:20251009T101447Z
UID:10096796-1760713200-1760718600@bonjourgeneve.ch
SUMMARY:Atolye ya destpêkê a fransî asta destpêk'ê
DESCRIPTION:
URL:https://bonjourgeneve.ch/en/evenement/atolye-ya-destpeke-a-fransi-asta-destpeke/2025-10-17/
LOCATION:Centre d’accueil de jour pour les personnes réfugiées\, 67C Rue de Lausanne\, Genève\, 1202
END:VEVENT
BEGIN:VEVENT
DTSTART;TZID=Europe/Paris:20251017T160000
DTEND;TZID=Europe/Paris:20251017T173000
DTSTAMP:20260425T155723
CREATED:20251009T095659Z
LAST-MODIFIED:20251009T095659Z
UID:10095491-1760716800-1760722200@bonjourgeneve.ch
SUMMARY:Atelier de conversation en français - niveau débutant - A1
DESCRIPTION:
URL:https://bonjourgeneve.ch/en/evenement/atelier-de-conversation-en-francais-niveau-debutant-a1/2025-10-17/
LOCATION:Centre d’accueil de jour pour les personnes réfugiées\, 67C Rue de Lausanne\, Genève\, 1202
ATTACH;FMTTYPE=image/png:https://bonjourgeneve.ch/wp-content/uploads/2025/10/FR-A1vendredi.png
END:VEVENT
BEGIN:VEVENT
DTSTART;TZID=Europe/Paris:20251020T100000
DTEND;TZID=Europe/Paris:20251020T110000
DTSTAMP:20260425T155723
CREATED:20251008T093206Z
LAST-MODIFIED:20251008T093721Z
UID:10093141-1760954400-1760958000@bonjourgeneve.ch
SUMMARY:Petit-déjeuner
DESCRIPTION:
URL:https://bonjourgeneve.ch/en/evenement/petit-dejeuner/2025-10-20/
LOCATION:Centre d’accueil de jour pour les personnes réfugiées\, 67C Rue de Lausanne\, Genève\, 1202
ATTACH;FMTTYPE=image/png:https://bonjourgeneve.ch/wp-content/uploads/2025/10/Petit-dejeuner.png
END:VEVENT
END:VCALENDAR