BEGIN:VCALENDAR
VERSION:2.0
PRODID:-//Bonjour Genève - ECPv6.15.17//NONSGML v1.0//EN
CALSCALE:GREGORIAN
METHOD:PUBLISH
X-ORIGINAL-URL:https://bonjourgeneve.ch/en/
X-WR-CALDESC:Events for Bonjour Genève
REFRESH-INTERVAL;VALUE=DURATION:PT1H
X-Robots-Tag:noindex
X-PUBLISHED-TTL:PT1H
BEGIN:VTIMEZONE
TZID:Europe/Paris
BEGIN:DAYLIGHT
TZOFFSETFROM:+0100
TZOFFSETTO:+0200
TZNAME:CEST
DTSTART:20260329T010000
END:DAYLIGHT
BEGIN:STANDARD
TZOFFSETFROM:+0200
TZOFFSETTO:+0100
TZNAME:CET
DTSTART:20261025T010000
END:STANDARD
BEGIN:DAYLIGHT
TZOFFSETFROM:+0100
TZOFFSETTO:+0200
TZNAME:CEST
DTSTART:20270328T010000
END:DAYLIGHT
BEGIN:STANDARD
TZOFFSETFROM:+0200
TZOFFSETTO:+0100
TZNAME:CET
DTSTART:20271031T010000
END:STANDARD
BEGIN:DAYLIGHT
TZOFFSETFROM:+0100
TZOFFSETTO:+0200
TZNAME:CEST
DTSTART:20280326T010000
END:DAYLIGHT
BEGIN:STANDARD
TZOFFSETFROM:+0200
TZOFFSETTO:+0100
TZNAME:CET
DTSTART:20281029T010000
END:STANDARD
END:VTIMEZONE
BEGIN:VEVENT
DTSTART;TZID=Europe/Paris:20270323T103000
DTEND;TZID=Europe/Paris:20270323T123000
DTSTAMP:20260422T234609
CREATED:20251009T100805Z
LAST-MODIFIED:20251114T132738Z
UID:10096609-1805797800-1805805000@bonjourgeneve.ch
SUMMARY:Permanence aide à la recherche logement
DESCRIPTION:
URL:https://bonjourgeneve.ch/en/evenement/permanence-aide-a-la-recherche-logement-2-2/2027-03-23/
LOCATION:Centre d’accueil de jour pour les personnes réfugiées\, 67C Rue de Lausanne\, Genève\, 1202
ATTACH;FMTTYPE=image/png:https://bonjourgeneve.ch/wp-content/uploads/2025/10/logement-mardi.png
END:VEVENT
BEGIN:VEVENT
DTSTART;TZID=Europe/Paris:20270323T123000
DTEND;TZID=Europe/Paris:20270323T133000
DTSTAMP:20260422T234609
CREATED:20251009T094554Z
LAST-MODIFIED:20251009T094554Z
UID:10094781-1805805000-1805808600@bonjourgeneve.ch
SUMMARY:Atelier de mémoire (donné en ukrainien/russe))
DESCRIPTION:
URL:https://bonjourgeneve.ch/en/evenement/atelier-de-memoire-donne-en-ukrainien-russe/2027-03-23/
LOCATION:Centre d’accueil de jour pour les personnes réfugiées\, 67C Rue de Lausanne\, Genève\, 1202
ATTACH;FMTTYPE=image/png:https://bonjourgeneve.ch/wp-content/uploads/2025/10/Atelier-memoire-ukrainien.png
END:VEVENT
BEGIN:VEVENT
DTSTART;TZID=Europe/Paris:20270323T133000
DTEND;TZID=Europe/Paris:20270323T150000
DTSTAMP:20260422T234609
CREATED:20251009T115609Z
LAST-MODIFIED:20251009T115609Z
UID:10098436-1805808600-1805814000@bonjourgeneve.ch
SUMMARY:Atelier de conversation en français - niveau intermédiaire - A2
DESCRIPTION:
URL:https://bonjourgeneve.ch/en/evenement/atelier-de-conversation-en-francais-niveau-intermediaire-a2/2027-03-23/
LOCATION:Centre d’accueil de jour pour les personnes réfugiées\, 67C Rue de Lausanne\, Genève\, 1202
ATTACH;FMTTYPE=image/png:https://bonjourgeneve.ch/wp-content/uploads/2025/10/FR-A2mardi.png
END:VEVENT
BEGIN:VEVENT
DTSTART;TZID=Europe/Paris:20270323T150000
DTEND;TZID=Europe/Paris:20270323T163000
DTSTAMP:20260422T234609
CREATED:20251009T115959Z
LAST-MODIFIED:20251009T115959Z
UID:10098697-1805814000-1805819400@bonjourgeneve.ch
SUMMARY:Giris atölyesi franzisca - baslangiç seviyesi - A0 A1
DESCRIPTION:
URL:https://bonjourgeneve.ch/en/evenement/giris-atolyesi-franzisca-baslangic-seviyesi-a0-a1/2027-03-23/
LOCATION:Centre d’accueil de jour pour les personnes réfugiées\, 67C Rue de Lausanne\, Genève\, 1202
ATTACH;FMTTYPE=image/png:https://bonjourgeneve.ch/wp-content/uploads/2025/10/FR-TURC.png
END:VEVENT
BEGIN:VEVENT
DTSTART;TZID=Europe/Paris:20270323T163000
DTEND;TZID=Europe/Paris:20270323T180000
DTSTAMP:20260422T234609
CREATED:20251114T130521Z
LAST-MODIFIED:20251114T130521Z
UID:10101829-1805819400-1805824800@bonjourgeneve.ch
SUMMARY:ФРАНЦУЗЬКА ДЛЯ ПОЧАТКІВЦІВ УКРАЇНСЬКОЮ\, РОСІЙСЬКОЮ ТА ФРАНЦУЗЬКОЮ РІВЕНЬ A0–A1
DESCRIPTION:
URL:https://bonjourgeneve.ch/en/evenement/%d1%84%d1%80%d0%b0%d0%bd%d1%86%d1%83%d0%b7%d1%8c%d0%ba%d0%b0-%d0%b4%d0%bb%d1%8f-%d0%bf%d0%be%d1%87%d0%b0%d1%82%d0%ba%d1%96%d0%b2%d1%86%d1%96%d0%b2-%d1%83%d0%ba%d1%80%d0%b0%d1%97%d0%bd%d1%81%d1%8c-2/2027-03-23/
LOCATION:Centre d’accueil de jour pour les personnes réfugiées\, 67C Rue de Lausanne\, Genève\, 1202
ATTACH;FMTTYPE=image/png:https://bonjourgeneve.ch/wp-content/uploads/2025/11/francais-ukrainien2.png
END:VEVENT
BEGIN:VEVENT
DTSTART;TZID=Europe/Paris:20270324T103000
DTEND;TZID=Europe/Paris:20270324T120000
DTSTAMP:20260422T234609
CREATED:20251009T121217Z
LAST-MODIFIED:20251009T121217Z
UID:10099480-1805884200-1805889600@bonjourgeneve.ch
SUMMARY:Atelier de conversation en français - niveau débutant - A1
DESCRIPTION:
URL:https://bonjourgeneve.ch/en/evenement/atelier-de-conversation-en-francais-niveau-debutant-a1-2/2027-03-24/
LOCATION:Centre d’accueil de jour pour les personnes réfugiées\, 67C Rue de Lausanne\, Genève\, 1202
ATTACH;FMTTYPE=image/png:https://bonjourgeneve.ch/wp-content/uploads/2025/10/FR-A1mercredi.png
END:VEVENT
BEGIN:VEVENT
DTSTART;TZID=Europe/Paris:20270324T124500
DTEND;TZID=Europe/Paris:20270324T140000
DTSTAMP:20260422T234609
CREATED:20251009T120435Z
LAST-MODIFIED:20251009T120435Z
UID:10099219-1805892300-1805896800@bonjourgeneve.ch
SUMMARY:Chorale
DESCRIPTION:
URL:https://bonjourgeneve.ch/en/evenement/chorale/2027-03-24/
LOCATION:Centre d’accueil de jour pour les personnes réfugiées\, 67C Rue de Lausanne\, Genève\, 1202
ATTACH;FMTTYPE=image/png:https://bonjourgeneve.ch/wp-content/uploads/2025/10/Chorale.png
END:VEVENT
BEGIN:VEVENT
DTSTART;TZID=Europe/Paris:20270324T133000
DTEND;TZID=Europe/Paris:20270324T150000
DTSTAMP:20260422T234609
CREATED:20251009T123222Z
LAST-MODIFIED:20251009T123222Z
UID:10100523-1805895000-1805900400@bonjourgeneve.ch
SUMMARY:حصة لغة فرنسية – مستوى مبتدئ المستوى A0 A1
DESCRIPTION:
URL:https://bonjourgeneve.ch/en/evenement/%d8%ad%d8%b5%d8%a9-%d9%84%d8%ba%d8%a9-%d9%81%d8%b1%d9%86%d8%b3%d9%8a%d8%a9-%d9%85%d8%b3%d8%aa%d9%88%d9%89-%d9%85%d8%a8%d8%aa%d8%af%d8%a6-%d8%a7%d9%84%d9%85%d8%b3%d8%aa%d9%88%d9%89-a0-a1/2027-03-24/
LOCATION:Centre d’accueil de jour pour les personnes réfugiées\, 67C Rue de Lausanne\, Genève\, 1202
ATTACH;FMTTYPE=image/png:https://bonjourgeneve.ch/wp-content/uploads/2025/10/FR-ARABE.png
END:VEVENT
BEGIN:VEVENT
DTSTART;TZID=Europe/Paris:20270324T140000
DTEND;TZID=Europe/Paris:20270324T160000
DTSTAMP:20260422T234609
CREATED:20251008T094806Z
LAST-MODIFIED:20251008T094806Z
UID:10093999-1805896800-1805904000@bonjourgeneve.ch
SUMMARY:Atelier de couture
DESCRIPTION:
URL:https://bonjourgeneve.ch/en/evenement/atelier-de-couture/2027-03-24/
LOCATION:Centre d’accueil de jour pour les personnes réfugiées\, 67C Rue de Lausanne\, Genève\, 1202
ATTACH;FMTTYPE=image/png:https://bonjourgeneve.ch/wp-content/uploads/2025/10/Couture.png
END:VEVENT
BEGIN:VEVENT
DTSTART;TZID=Europe/Paris:20270324T150000
DTEND;TZID=Europe/Paris:20270324T163000
DTSTAMP:20260422T234609
CREATED:20260122T102706Z
LAST-MODIFIED:20260122T103129Z
UID:10102855-1805900400-1805905800@bonjourgeneve.ch
SUMMARY:Atelier de français en vidéo – niveau intermédiaire – A2
DESCRIPTION:
URL:https://bonjourgeneve.ch/en/evenement/atelier-de-francais-en-video-niveau-intermediaire-a2/2027-03-24/
LOCATION:Centre d’accueil de jour pour les personnes réfugiées\, 67C Rue de Lausanne\, Genève\, 1202
ATTACH;FMTTYPE=image/png:https://bonjourgeneve.ch/wp-content/uploads/2026/01/atelier-farncais-video.png
END:VEVENT
BEGIN:VEVENT
DTSTART;TZID=Europe/Paris:20270324T160000
DTEND;TZID=Europe/Paris:20270324T170000
DTSTAMP:20260422T234609
CREATED:20251008T095228Z
LAST-MODIFIED:20251008T095449Z
UID:10094521-1805904000-1805907600@bonjourgeneve.ch
SUMMARY:Atelier artistique pour adultes et enfants (à partir de 4 ans)
DESCRIPTION:
URL:https://bonjourgeneve.ch/en/evenement/atelier-artistique-pour-adultes-et-enfants-a-partir-de-4-ans/2027-03-24/
LOCATION:Centre d’accueil de jour pour les personnes réfugiées\, 67C Rue de Lausanne\, Genève\, 1202
ATTACH;FMTTYPE=image/png:https://bonjourgeneve.ch/wp-content/uploads/2025/10/Atelier-Artistique.png
END:VEVENT
BEGIN:VEVENT
DTSTART;TZID=Europe/Paris:20270324T160000
DTEND;TZID=Europe/Paris:20270324T180000
DTSTAMP:20260422T234609
CREATED:20251009T122004Z
LAST-MODIFIED:20251114T111850Z
UID:10100001-1805904000-1805911200@bonjourgeneve.ch
SUMMARY:Pratique libre d'échecs
DESCRIPTION:
URL:https://bonjourgeneve.ch/en/evenement/atelier-dechecs/2027-03-24/
LOCATION:Centre d’accueil de jour pour les personnes réfugiées\, 67C Rue de Lausanne\, Genève\, 1202
ATTACH;FMTTYPE=image/png:https://bonjourgeneve.ch/wp-content/uploads/2025/10/echecs-1.png
END:VEVENT
BEGIN:VEVENT
DTSTART;TZID=Europe/Paris:20270324T180000
DTEND;TZID=Europe/Paris:20270324T190000
DTSTAMP:20260422T234609
CREATED:20251114T110937Z
LAST-MODIFIED:20251114T111537Z
UID:10101038-1805911200-1805914800@bonjourgeneve.ch
SUMMARY:Atelier de Yoga
DESCRIPTION:
URL:https://bonjourgeneve.ch/en/evenement/atelier-de-yoga-2/2027-03-24/
LOCATION:Cycle d’orientation des Sécheron\, Avenue Blanc 1\, Genève\, 1202\, Suisse
ATTACH;FMTTYPE=image/png:https://bonjourgeneve.ch/wp-content/uploads/2025/10/yoga-1.png
END:VEVENT
BEGIN:VEVENT
DTSTART;TZID=Europe/Paris:20270324T190000
DTEND;TZID=Europe/Paris:20270324T200000
DTSTAMP:20260422T234609
CREATED:20251009T122154Z
LAST-MODIFIED:20251009T122154Z
UID:10100262-1805914800-1805918400@bonjourgeneve.ch
SUMMARY:Volley-ball
DESCRIPTION:
URL:https://bonjourgeneve.ch/en/evenement/volley-ball/2027-03-24/
LOCATION:Cycle d’orientation des Sécheron\, Avenue Blanc 1\, Genève\, 1202\, Suisse
ATTACH;FMTTYPE=image/png:https://bonjourgeneve.ch/wp-content/uploads/2025/10/Volley-ball.png
END:VEVENT
BEGIN:VEVENT
DTSTART;TZID=Europe/Paris:20270325T103000
DTEND;TZID=Europe/Paris:20270325T120000
DTSTAMP:20260422T234609
CREATED:20251009T121533Z
LAST-MODIFIED:20251009T121533Z
UID:10099741-1805970600-1805976000@bonjourgeneve.ch
SUMMARY:Atelier de conversation en français – niveau intermédiaire – A2
DESCRIPTION:
URL:https://bonjourgeneve.ch/en/evenement/atelier-de-conversation-en-francais-niveau-intermediaire-a2-2/2027-03-25/
LOCATION:Centre d’accueil de jour pour les personnes réfugiées\, 67C Rue de Lausanne\, Genève\, 1202
ATTACH;FMTTYPE=image/png:https://bonjourgeneve.ch/wp-content/uploads/2025/10/FR-A2.png
END:VEVENT
BEGIN:VEVENT
DTSTART;TZID=Europe/Paris:20270325T140000
DTEND;TZID=Europe/Paris:20270325T160000
DTSTAMP:20260422T234609
CREATED:20251009T095355Z
LAST-MODIFIED:20251009T095355Z
UID:10095305-1805983200-1805990400@bonjourgeneve.ch
SUMMARY:Atelier de français « Citoyenneté et écriture »
DESCRIPTION:
URL:https://bonjourgeneve.ch/en/evenement/atelier-de-francais-citoyennete-et-ecriture/2027-03-25/
LOCATION:Centre d’accueil de jour pour les personnes réfugiées\, 67C Rue de Lausanne\, Genève\, 1202
ATTACH;FMTTYPE=image/png:https://bonjourgeneve.ch/wp-content/uploads/2025/10/FR-B2C1.png
END:VEVENT
BEGIN:VEVENT
DTSTART;TZID=Europe/Paris:20270325T163000
DTEND;TZID=Europe/Paris:20270325T180000
DTSTAMP:20260422T234609
CREATED:20241017T125127Z
LAST-MODIFIED:20251008T085047Z
UID:10079044-1805992200-1805997600@bonjourgeneve.ch
SUMMARY:Atelier "Buisness English" B1-B2
DESCRIPTION:
URL:https://bonjourgeneve.ch/en/evenement/atelier-interactive-english-for-career-personal-development-intermediate-level-b1/2027-03-25/
LOCATION:Centre d’accueil de jour pour les personnes réfugiées\, 67C Rue de Lausanne\, Genève\, 1202
ATTACH;FMTTYPE=image/png:https://bonjourgeneve.ch/wp-content/uploads/2025/10/Anglais-Buisness.png
END:VEVENT
BEGIN:VEVENT
DTSTART;TZID=Europe/Paris:20270325T170000
DTEND;TZID=Europe/Paris:20270325T180000
DTSTAMP:20260422T234609
CREATED:20251009T094928Z
LAST-MODIFIED:20251009T094928Z
UID:10095043-1805994000-1805997600@bonjourgeneve.ch
SUMMARY:Atelier d'anglais pour les enfants (de 5 à 8 ans)
DESCRIPTION:
URL:https://bonjourgeneve.ch/en/evenement/atelier-danglais-pour-les-enfants-de-5-a-8-ans/2027-03-25/
LOCATION:Centre d’accueil de jour pour les personnes réfugiées\, 67C Rue de Lausanne\, Genève\, 1202
ATTACH;FMTTYPE=image/png:https://bonjourgeneve.ch/wp-content/uploads/2025/10/Anglais-enfants.png
END:VEVENT
BEGIN:VEVENT
DTSTART;TZID=Europe/Paris:20270326T120000
DTEND;TZID=Europe/Paris:20270326T130000
DTSTAMP:20260422T234609
CREATED:20251009T095914Z
LAST-MODIFIED:20251009T095914Z
UID:10095827-1806062400-1806066000@bonjourgeneve.ch
SUMMARY:Atelier de danse pour femmes
DESCRIPTION:
URL:https://bonjourgeneve.ch/en/evenement/atelier-de-danse-pour-femmes/2027-03-26/
LOCATION:Centre d’accueil de jour pour les personnes réfugiées\, 67C Rue de Lausanne\, Genève\, 1202
ATTACH;FMTTYPE=image/png:https://bonjourgeneve.ch/wp-content/uploads/2025/10/Danse.png
END:VEVENT
BEGIN:VEVENT
DTSTART;TZID=Europe/Paris:20270326T140000
DTEND;TZID=Europe/Paris:20270326T160000
DTSTAMP:20260422T234609
CREATED:20251009T100640Z
LAST-MODIFIED:20251114T132623Z
UID:10096349-1806069600-1806076800@bonjourgeneve.ch
SUMMARY:Permanence aide à la recherche logement
DESCRIPTION:
URL:https://bonjourgeneve.ch/en/evenement/permanence-aide-a-la-recherche-logement-3/2027-03-26/
LOCATION:Centre d’accueil de jour pour les personnes réfugiées\, 67C Rue de Lausanne\, Genève\, 1202
ATTACH;FMTTYPE=image/png:https://bonjourgeneve.ch/wp-content/uploads/2025/10/logement-vendredi.png
END:VEVENT
BEGIN:VEVENT
DTSTART;TZID=Europe/Paris:20270326T160000
DTEND;TZID=Europe/Paris:20270326T173000
DTSTAMP:20260422T234609
CREATED:20251009T095659Z
LAST-MODIFIED:20251009T095659Z
UID:10095566-1806076800-1806082200@bonjourgeneve.ch
SUMMARY:Atelier de conversation en français - niveau débutant - A1
DESCRIPTION:
URL:https://bonjourgeneve.ch/en/evenement/atelier-de-conversation-en-francais-niveau-debutant-a1/2027-03-26/
LOCATION:Centre d’accueil de jour pour les personnes réfugiées\, 67C Rue de Lausanne\, Genève\, 1202
ATTACH;FMTTYPE=image/png:https://bonjourgeneve.ch/wp-content/uploads/2025/10/FR-A1vendredi.png
END:VEVENT
BEGIN:VEVENT
DTSTART;TZID=Europe/Paris:20270329T100000
DTEND;TZID=Europe/Paris:20270329T110000
DTSTAMP:20260422T234609
CREATED:20251008T093206Z
LAST-MODIFIED:20251008T093721Z
UID:10093216-1806314400-1806318000@bonjourgeneve.ch
SUMMARY:Petit-déjeuner
DESCRIPTION:
URL:https://bonjourgeneve.ch/en/evenement/petit-dejeuner/2027-03-29/
LOCATION:Centre d’accueil de jour pour les personnes réfugiées\, 67C Rue de Lausanne\, Genève\, 1202
ATTACH;FMTTYPE=image/png:https://bonjourgeneve.ch/wp-content/uploads/2025/10/Petit-dejeuner.png
END:VEVENT
BEGIN:VEVENT
DTSTART;TZID=Europe/Paris:20270329T103000
DTEND;TZID=Europe/Paris:20270329T120000
DTSTAMP:20260422T234609
CREATED:20251008T091522Z
LAST-MODIFIED:20251008T091614Z
UID:10092955-1806316200-1806321600@bonjourgeneve.ch
SUMMARY:Groupe de parole et mandala
DESCRIPTION:
URL:https://bonjourgeneve.ch/en/evenement/groupe-de-parole-et-mandala/2027-03-29/
LOCATION:Centre d’accueil de jour pour les personnes réfugiées\, 67C Rue de Lausanne\, Genève\, 1202
ATTACH;FMTTYPE=image/png:https://bonjourgeneve.ch/wp-content/uploads/2025/10/mandala.png
END:VEVENT
BEGIN:VEVENT
DTSTART;TZID=Europe/Paris:20270329T130000
DTEND;TZID=Europe/Paris:20270329T143000
DTSTAMP:20260422T234609
CREATED:20251009T101713Z
LAST-MODIFIED:20251009T101713Z
UID:10097132-1806325200-1806330600@bonjourgeneve.ch
SUMMARY:ФРАНЦУЗЬКА ДЛЯ ПОЧАТКІВЦІВ УКРАЇНСЬКОЮ\, РОСІЙСЬКОЮ ТА ФРАНЦУЗЬКОЮ РІВЕНЬ A0–A1
DESCRIPTION:
URL:https://bonjourgeneve.ch/en/evenement/%d1%84%d1%80%d0%b0%d0%bd%d1%86%d1%83%d0%b7%d1%8c%d0%ba%d0%b0-%d0%b4%d0%bb%d1%8f-%d0%bf%d0%be%d1%87%d0%b0%d1%82%d0%ba%d1%96%d0%b2%d1%86%d1%96%d0%b2-%d1%83%d0%ba%d1%80%d0%b0%d1%97%d0%bd%d1%81%d1%8c/2027-03-29/
LOCATION:Centre d’accueil de jour pour les personnes réfugiées\, 67C Rue de Lausanne\, Genève\, 1202
ATTACH;FMTTYPE=image/png:https://bonjourgeneve.ch/wp-content/uploads/2025/10/FR-UKR.png
END:VEVENT
BEGIN:VEVENT
DTSTART;TZID=Europe/Paris:20270329T143000
DTEND;TZID=Europe/Paris:20270329T160000
DTSTAMP:20260422T234609
CREATED:20251009T114958Z
LAST-MODIFIED:20251009T114958Z
UID:10097654-1806330600-1806336000@bonjourgeneve.ch
SUMMARY:Atelier de conversation en anglais - niveau débutant - A0 A1
DESCRIPTION:
URL:https://bonjourgeneve.ch/en/evenement/atelier-de-conversation-en-anglais-niveau-debutant-a0-a1/2027-03-29/
LOCATION:Centre d’accueil de jour pour les personnes réfugiées\, 67C Rue de Lausanne\, Genève\, 1202
ATTACH;FMTTYPE=image/png:https://bonjourgeneve.ch/wp-content/uploads/2025/10/Anglais-A1.png
END:VEVENT
BEGIN:VEVENT
DTSTART;TZID=Europe/Paris:20270329T143000
DTEND;TZID=Europe/Paris:20270329T160000
DTSTAMP:20260422T234609
CREATED:20251009T114727Z
LAST-MODIFIED:20251009T114727Z
UID:10097393-1806330600-1806336000@bonjourgeneve.ch
SUMMARY:Atelier de conversation en français - niveau avancé - B1
DESCRIPTION:
URL:https://bonjourgeneve.ch/en/evenement/atelier-de-conversation-en-francais-niveau-avance-b1/2027-03-29/
LOCATION:Centre d’accueil de jour pour les personnes réfugiées\, 67C Rue de Lausanne\, Genève\, 1202
ATTACH;FMTTYPE=image/png:https://bonjourgeneve.ch/wp-content/uploads/2025/10/FR-B1.png
END:VEVENT
BEGIN:VEVENT
DTSTART;TZID=Europe/Paris:20270329T160000
DTEND;TZID=Europe/Paris:20270329T173000
DTSTAMP:20260422T234609
CREATED:20251114T112114Z
LAST-MODIFIED:20251114T112114Z
UID:10101304-1806336000-1806341400@bonjourgeneve.ch
SUMMARY:Atolye ya destpêkê a fransî asta destpêk'ê
DESCRIPTION:
URL:https://bonjourgeneve.ch/en/evenement/atolye-ya-destpeke-a-fransi-asta-destpeke-2/2027-03-29/
LOCATION:Centre d’accueil de jour pour les personnes réfugiées\, 67C Rue de Lausanne\, Genève\, 1202
ATTACH;FMTTYPE=image/png:https://bonjourgeneve.ch/wp-content/uploads/2025/10/francais-kurde.png
END:VEVENT
BEGIN:VEVENT
DTSTART;TZID=Europe/Paris:20270329T163000
DTEND;TZID=Europe/Paris:20270329T180000
DTSTAMP:20260422T234609
CREATED:20251009T115127Z
LAST-MODIFIED:20251009T115127Z
UID:10097915-1806337800-1806343200@bonjourgeneve.ch
SUMMARY:Atelier de conversation en anglais - niveau intermédiaire - A2
DESCRIPTION:
URL:https://bonjourgeneve.ch/en/evenement/atelier-de-conversation-en-anglais-niveau-intermediaire-a2/2027-03-29/
LOCATION:Centre d’accueil de jour pour les personnes réfugiées\, 67C Rue de Lausanne\, Genève\, 1202
ATTACH;FMTTYPE=image/png:https://bonjourgeneve.ch/wp-content/uploads/2025/10/Anglais-A2.png
END:VEVENT
BEGIN:VEVENT
DTSTART;TZID=Europe/Paris:20270330T103000
DTEND;TZID=Europe/Paris:20270330T113000
DTSTAMP:20260422T234609
CREATED:20251009T115335Z
LAST-MODIFIED:20251009T115335Z
UID:10098176-1806402600-1806406200@bonjourgeneve.ch
SUMMARY:Atelier de français - niveau débutant - A0
DESCRIPTION:
URL:https://bonjourgeneve.ch/en/evenement/atelier-de-francais-niveau-debutant-a0/2027-03-30/
LOCATION:Centre d’accueil de jour pour les personnes réfugiées\, 67C Rue de Lausanne\, Genève\, 1202
ATTACH;FMTTYPE=image/png:https://bonjourgeneve.ch/wp-content/uploads/2025/10/FR-AO.png
END:VEVENT
BEGIN:VEVENT
DTSTART;TZID=Europe/Paris:20270330T103000
DTEND;TZID=Europe/Paris:20270330T123000
DTSTAMP:20260422T234609
CREATED:20251009T100805Z
LAST-MODIFIED:20251114T132738Z
UID:10096610-1806402600-1806409800@bonjourgeneve.ch
SUMMARY:Permanence aide à la recherche logement
DESCRIPTION:
URL:https://bonjourgeneve.ch/en/evenement/permanence-aide-a-la-recherche-logement-2-2/2027-03-30/
LOCATION:Centre d’accueil de jour pour les personnes réfugiées\, 67C Rue de Lausanne\, Genève\, 1202
ATTACH;FMTTYPE=image/png:https://bonjourgeneve.ch/wp-content/uploads/2025/10/logement-mardi.png
END:VEVENT
END:VCALENDAR