BEGIN:VCALENDAR
VERSION:2.0
PRODID:-//Bonjour Genève - ECPv6.15.17//NONSGML v1.0//EN
CALSCALE:GREGORIAN
METHOD:PUBLISH
X-ORIGINAL-URL:https://bonjourgeneve.ch/en/
X-WR-CALDESC:Events for Bonjour Genève
REFRESH-INTERVAL;VALUE=DURATION:PT1H
X-Robots-Tag:noindex
X-PUBLISHED-TTL:PT1H
BEGIN:VTIMEZONE
TZID:Europe/Paris
BEGIN:DAYLIGHT
TZOFFSETFROM:+0100
TZOFFSETTO:+0200
TZNAME:CEST
DTSTART:20250330T010000
END:DAYLIGHT
BEGIN:STANDARD
TZOFFSETFROM:+0200
TZOFFSETTO:+0100
TZNAME:CET
DTSTART:20251026T010000
END:STANDARD
BEGIN:DAYLIGHT
TZOFFSETFROM:+0100
TZOFFSETTO:+0200
TZNAME:CEST
DTSTART:20260329T010000
END:DAYLIGHT
BEGIN:STANDARD
TZOFFSETFROM:+0200
TZOFFSETTO:+0100
TZNAME:CET
DTSTART:20261025T010000
END:STANDARD
BEGIN:DAYLIGHT
TZOFFSETFROM:+0100
TZOFFSETTO:+0200
TZNAME:CEST
DTSTART:20270328T010000
END:DAYLIGHT
BEGIN:STANDARD
TZOFFSETFROM:+0200
TZOFFSETTO:+0100
TZNAME:CET
DTSTART:20271031T010000
END:STANDARD
END:VTIMEZONE
BEGIN:VEVENT
DTSTART;TZID=Europe/Paris:20260916T190000
DTEND;TZID=Europe/Paris:20260916T200000
DTSTAMP:20260419T191734
CREATED:20251009T122154Z
LAST-MODIFIED:20251009T122154Z
UID:10100235-1789585200-1789588800@bonjourgeneve.ch
SUMMARY:Volley-ball
DESCRIPTION:
URL:https://bonjourgeneve.ch/en/evenement/volley-ball/2026-09-16/
LOCATION:Cycle d’orientation des Sécheron\, Avenue Blanc 1\, Genève\, 1202\, Suisse
ATTACH;FMTTYPE=image/png:https://bonjourgeneve.ch/wp-content/uploads/2025/10/Volley-ball.png
END:VEVENT
BEGIN:VEVENT
DTSTART;TZID=Europe/Paris:20260917T103000
DTEND;TZID=Europe/Paris:20260917T120000
DTSTAMP:20260419T191734
CREATED:20251009T121533Z
LAST-MODIFIED:20251009T121533Z
UID:10099714-1789641000-1789646400@bonjourgeneve.ch
SUMMARY:Atelier de conversation en français – niveau intermédiaire – A2
DESCRIPTION:
URL:https://bonjourgeneve.ch/en/evenement/atelier-de-conversation-en-francais-niveau-intermediaire-a2-2/2026-09-17/
LOCATION:Centre d’accueil de jour pour les personnes réfugiées\, 67C Rue de Lausanne\, Genève\, 1202
ATTACH;FMTTYPE=image/png:https://bonjourgeneve.ch/wp-content/uploads/2025/10/FR-A2.png
END:VEVENT
BEGIN:VEVENT
DTSTART;TZID=Europe/Paris:20260917T140000
DTEND;TZID=Europe/Paris:20260917T160000
DTSTAMP:20260419T191734
CREATED:20251009T095355Z
LAST-MODIFIED:20251009T095355Z
UID:10095278-1789653600-1789660800@bonjourgeneve.ch
SUMMARY:Atelier de français « Citoyenneté et écriture »
DESCRIPTION:
URL:https://bonjourgeneve.ch/en/evenement/atelier-de-francais-citoyennete-et-ecriture/2026-09-17/
LOCATION:Centre d’accueil de jour pour les personnes réfugiées\, 67C Rue de Lausanne\, Genève\, 1202
ATTACH;FMTTYPE=image/png:https://bonjourgeneve.ch/wp-content/uploads/2025/10/FR-B2C1.png
END:VEVENT
BEGIN:VEVENT
DTSTART;TZID=Europe/Paris:20260917T163000
DTEND;TZID=Europe/Paris:20260917T180000
DTSTAMP:20260419T191734
CREATED:20241017T125127Z
LAST-MODIFIED:20251008T085047Z
UID:10079017-1789662600-1789668000@bonjourgeneve.ch
SUMMARY:Atelier "Buisness English" B1-B2
DESCRIPTION:
URL:https://bonjourgeneve.ch/en/evenement/atelier-interactive-english-for-career-personal-development-intermediate-level-b1/2026-09-17/
LOCATION:Centre d’accueil de jour pour les personnes réfugiées\, 67C Rue de Lausanne\, Genève\, 1202
ATTACH;FMTTYPE=image/png:https://bonjourgeneve.ch/wp-content/uploads/2025/10/Anglais-Buisness.png
END:VEVENT
BEGIN:VEVENT
DTSTART;TZID=Europe/Paris:20260917T170000
DTEND;TZID=Europe/Paris:20260917T180000
DTSTAMP:20260419T191734
CREATED:20251009T094928Z
LAST-MODIFIED:20251009T094928Z
UID:10095016-1789664400-1789668000@bonjourgeneve.ch
SUMMARY:Atelier d'anglais pour les enfants (de 5 à 8 ans)
DESCRIPTION:
URL:https://bonjourgeneve.ch/en/evenement/atelier-danglais-pour-les-enfants-de-5-a-8-ans/2026-09-17/
LOCATION:Centre d’accueil de jour pour les personnes réfugiées\, 67C Rue de Lausanne\, Genève\, 1202
ATTACH;FMTTYPE=image/png:https://bonjourgeneve.ch/wp-content/uploads/2025/10/Anglais-enfants.png
END:VEVENT
BEGIN:VEVENT
DTSTART;TZID=Europe/Paris:20260918T120000
DTEND;TZID=Europe/Paris:20260918T130000
DTSTAMP:20260419T191734
CREATED:20251009T095914Z
LAST-MODIFIED:20251009T095914Z
UID:10095800-1789732800-1789736400@bonjourgeneve.ch
SUMMARY:Atelier de danse pour femmes
DESCRIPTION:
URL:https://bonjourgeneve.ch/en/evenement/atelier-de-danse-pour-femmes/2026-09-18/
LOCATION:Centre d’accueil de jour pour les personnes réfugiées\, 67C Rue de Lausanne\, Genève\, 1202
ATTACH;FMTTYPE=image/png:https://bonjourgeneve.ch/wp-content/uploads/2025/10/Danse.png
END:VEVENT
BEGIN:VEVENT
DTSTART;TZID=Europe/Paris:20260918T140000
DTEND;TZID=Europe/Paris:20260918T160000
DTSTAMP:20260419T191734
CREATED:20251009T100640Z
LAST-MODIFIED:20251114T132623Z
UID:10096322-1789740000-1789747200@bonjourgeneve.ch
SUMMARY:Permanence aide à la recherche logement
DESCRIPTION:
URL:https://bonjourgeneve.ch/en/evenement/permanence-aide-a-la-recherche-logement-3/2026-09-18/
LOCATION:Centre d’accueil de jour pour les personnes réfugiées\, 67C Rue de Lausanne\, Genève\, 1202
ATTACH;FMTTYPE=image/png:https://bonjourgeneve.ch/wp-content/uploads/2025/10/logement-vendredi.png
END:VEVENT
BEGIN:VEVENT
DTSTART;TZID=Europe/Paris:20260918T160000
DTEND;TZID=Europe/Paris:20260918T173000
DTSTAMP:20260419T191734
CREATED:20251009T095659Z
LAST-MODIFIED:20251009T095659Z
UID:10095539-1789747200-1789752600@bonjourgeneve.ch
SUMMARY:Atelier de conversation en français - niveau débutant - A1
DESCRIPTION:
URL:https://bonjourgeneve.ch/en/evenement/atelier-de-conversation-en-francais-niveau-debutant-a1/2026-09-18/
LOCATION:Centre d’accueil de jour pour les personnes réfugiées\, 67C Rue de Lausanne\, Genève\, 1202
ATTACH;FMTTYPE=image/png:https://bonjourgeneve.ch/wp-content/uploads/2025/10/FR-A1vendredi.png
END:VEVENT
BEGIN:VEVENT
DTSTART;TZID=Europe/Paris:20260921T100000
DTEND;TZID=Europe/Paris:20260921T110000
DTSTAMP:20260419T191734
CREATED:20251008T093206Z
LAST-MODIFIED:20251008T093721Z
UID:10093189-1789984800-1789988400@bonjourgeneve.ch
SUMMARY:Petit-déjeuner
DESCRIPTION:
URL:https://bonjourgeneve.ch/en/evenement/petit-dejeuner/2026-09-21/
LOCATION:Centre d’accueil de jour pour les personnes réfugiées\, 67C Rue de Lausanne\, Genève\, 1202
ATTACH;FMTTYPE=image/png:https://bonjourgeneve.ch/wp-content/uploads/2025/10/Petit-dejeuner.png
END:VEVENT
BEGIN:VEVENT
DTSTART;TZID=Europe/Paris:20260921T103000
DTEND;TZID=Europe/Paris:20260921T120000
DTSTAMP:20260419T191734
CREATED:20251008T091522Z
LAST-MODIFIED:20251008T091614Z
UID:10092928-1789986600-1789992000@bonjourgeneve.ch
SUMMARY:Groupe de parole et mandala
DESCRIPTION:
URL:https://bonjourgeneve.ch/en/evenement/groupe-de-parole-et-mandala/2026-09-21/
LOCATION:Centre d’accueil de jour pour les personnes réfugiées\, 67C Rue de Lausanne\, Genève\, 1202
ATTACH;FMTTYPE=image/png:https://bonjourgeneve.ch/wp-content/uploads/2025/10/mandala.png
END:VEVENT
BEGIN:VEVENT
DTSTART;TZID=Europe/Paris:20260921T130000
DTEND;TZID=Europe/Paris:20260921T143000
DTSTAMP:20260419T191734
CREATED:20251009T101713Z
LAST-MODIFIED:20251009T101713Z
UID:10097105-1789995600-1790001000@bonjourgeneve.ch
SUMMARY:ФРАНЦУЗЬКА ДЛЯ ПОЧАТКІВЦІВ УКРАЇНСЬКОЮ\, РОСІЙСЬКОЮ ТА ФРАНЦУЗЬКОЮ РІВЕНЬ A0–A1
DESCRIPTION:
URL:https://bonjourgeneve.ch/en/evenement/%d1%84%d1%80%d0%b0%d0%bd%d1%86%d1%83%d0%b7%d1%8c%d0%ba%d0%b0-%d0%b4%d0%bb%d1%8f-%d0%bf%d0%be%d1%87%d0%b0%d1%82%d0%ba%d1%96%d0%b2%d1%86%d1%96%d0%b2-%d1%83%d0%ba%d1%80%d0%b0%d1%97%d0%bd%d1%81%d1%8c/2026-09-21/
LOCATION:Centre d’accueil de jour pour les personnes réfugiées\, 67C Rue de Lausanne\, Genève\, 1202
ATTACH;FMTTYPE=image/png:https://bonjourgeneve.ch/wp-content/uploads/2025/10/FR-UKR.png
END:VEVENT
BEGIN:VEVENT
DTSTART;TZID=Europe/Paris:20260921T143000
DTEND;TZID=Europe/Paris:20260921T160000
DTSTAMP:20260419T191734
CREATED:20251009T114958Z
LAST-MODIFIED:20251009T114958Z
UID:10097627-1790001000-1790006400@bonjourgeneve.ch
SUMMARY:Atelier de conversation en anglais - niveau débutant - A0 A1
DESCRIPTION:
URL:https://bonjourgeneve.ch/en/evenement/atelier-de-conversation-en-anglais-niveau-debutant-a0-a1/2026-09-21/
LOCATION:Centre d’accueil de jour pour les personnes réfugiées\, 67C Rue de Lausanne\, Genève\, 1202
ATTACH;FMTTYPE=image/png:https://bonjourgeneve.ch/wp-content/uploads/2025/10/Anglais-A1.png
END:VEVENT
BEGIN:VEVENT
DTSTART;TZID=Europe/Paris:20260921T143000
DTEND;TZID=Europe/Paris:20260921T160000
DTSTAMP:20260419T191734
CREATED:20251009T114727Z
LAST-MODIFIED:20251009T114727Z
UID:10097366-1790001000-1790006400@bonjourgeneve.ch
SUMMARY:Atelier de conversation en français - niveau avancé - B1
DESCRIPTION:
URL:https://bonjourgeneve.ch/en/evenement/atelier-de-conversation-en-francais-niveau-avance-b1/2026-09-21/
LOCATION:Centre d’accueil de jour pour les personnes réfugiées\, 67C Rue de Lausanne\, Genève\, 1202
ATTACH;FMTTYPE=image/png:https://bonjourgeneve.ch/wp-content/uploads/2025/10/FR-B1.png
END:VEVENT
BEGIN:VEVENT
DTSTART;TZID=Europe/Paris:20260921T160000
DTEND;TZID=Europe/Paris:20260921T173000
DTSTAMP:20260419T191734
CREATED:20251114T112114Z
LAST-MODIFIED:20251114T112114Z
UID:10101277-1790006400-1790011800@bonjourgeneve.ch
SUMMARY:Atolye ya destpêkê a fransî asta destpêk'ê
DESCRIPTION:
URL:https://bonjourgeneve.ch/en/evenement/atolye-ya-destpeke-a-fransi-asta-destpeke-2/2026-09-21/
LOCATION:Centre d’accueil de jour pour les personnes réfugiées\, 67C Rue de Lausanne\, Genève\, 1202
ATTACH;FMTTYPE=image/png:https://bonjourgeneve.ch/wp-content/uploads/2025/10/francais-kurde.png
END:VEVENT
BEGIN:VEVENT
DTSTART;TZID=Europe/Paris:20260921T163000
DTEND;TZID=Europe/Paris:20260921T180000
DTSTAMP:20260419T191734
CREATED:20251009T115127Z
LAST-MODIFIED:20251009T115127Z
UID:10097888-1790008200-1790013600@bonjourgeneve.ch
SUMMARY:Atelier de conversation en anglais - niveau intermédiaire - A2
DESCRIPTION:
URL:https://bonjourgeneve.ch/en/evenement/atelier-de-conversation-en-anglais-niveau-intermediaire-a2/2026-09-21/
LOCATION:Centre d’accueil de jour pour les personnes réfugiées\, 67C Rue de Lausanne\, Genève\, 1202
ATTACH;FMTTYPE=image/png:https://bonjourgeneve.ch/wp-content/uploads/2025/10/Anglais-A2.png
END:VEVENT
BEGIN:VEVENT
DTSTART;TZID=Europe/Paris:20260922T103000
DTEND;TZID=Europe/Paris:20260922T113000
DTSTAMP:20260419T191734
CREATED:20251009T115335Z
LAST-MODIFIED:20251009T115335Z
UID:10098149-1790073000-1790076600@bonjourgeneve.ch
SUMMARY:Atelier de français - niveau débutant - A0
DESCRIPTION:
URL:https://bonjourgeneve.ch/en/evenement/atelier-de-francais-niveau-debutant-a0/2026-09-22/
LOCATION:Centre d’accueil de jour pour les personnes réfugiées\, 67C Rue de Lausanne\, Genève\, 1202
ATTACH;FMTTYPE=image/png:https://bonjourgeneve.ch/wp-content/uploads/2025/10/FR-AO.png
END:VEVENT
BEGIN:VEVENT
DTSTART;TZID=Europe/Paris:20260922T103000
DTEND;TZID=Europe/Paris:20260922T123000
DTSTAMP:20260419T191734
CREATED:20251009T100805Z
LAST-MODIFIED:20251114T132738Z
UID:10096583-1790073000-1790080200@bonjourgeneve.ch
SUMMARY:Permanence aide à la recherche logement
DESCRIPTION:
URL:https://bonjourgeneve.ch/en/evenement/permanence-aide-a-la-recherche-logement-2-2/2026-09-22/
LOCATION:Centre d’accueil de jour pour les personnes réfugiées\, 67C Rue de Lausanne\, Genève\, 1202
ATTACH;FMTTYPE=image/png:https://bonjourgeneve.ch/wp-content/uploads/2025/10/logement-mardi.png
END:VEVENT
BEGIN:VEVENT
DTSTART;TZID=Europe/Paris:20260922T123000
DTEND;TZID=Europe/Paris:20260922T133000
DTSTAMP:20260419T191735
CREATED:20251009T094554Z
LAST-MODIFIED:20251009T094554Z
UID:10094755-1790080200-1790083800@bonjourgeneve.ch
SUMMARY:Atelier de mémoire (donné en ukrainien/russe))
DESCRIPTION:
URL:https://bonjourgeneve.ch/en/evenement/atelier-de-memoire-donne-en-ukrainien-russe/2026-09-22/
LOCATION:Centre d’accueil de jour pour les personnes réfugiées\, 67C Rue de Lausanne\, Genève\, 1202
ATTACH;FMTTYPE=image/png:https://bonjourgeneve.ch/wp-content/uploads/2025/10/Atelier-memoire-ukrainien.png
END:VEVENT
BEGIN:VEVENT
DTSTART;TZID=Europe/Paris:20260922T133000
DTEND;TZID=Europe/Paris:20260922T150000
DTSTAMP:20260419T191735
CREATED:20251009T115609Z
LAST-MODIFIED:20251009T115609Z
UID:10098410-1790083800-1790089200@bonjourgeneve.ch
SUMMARY:Atelier de conversation en français - niveau intermédiaire - A2
DESCRIPTION:
URL:https://bonjourgeneve.ch/en/evenement/atelier-de-conversation-en-francais-niveau-intermediaire-a2/2026-09-22/
LOCATION:Centre d’accueil de jour pour les personnes réfugiées\, 67C Rue de Lausanne\, Genève\, 1202
ATTACH;FMTTYPE=image/png:https://bonjourgeneve.ch/wp-content/uploads/2025/10/FR-A2mardi.png
END:VEVENT
BEGIN:VEVENT
DTSTART;TZID=Europe/Paris:20260922T150000
DTEND;TZID=Europe/Paris:20260922T163000
DTSTAMP:20260419T191735
CREATED:20251009T115959Z
LAST-MODIFIED:20251009T115959Z
UID:10098671-1790089200-1790094600@bonjourgeneve.ch
SUMMARY:Giris atölyesi franzisca - baslangiç seviyesi - A0 A1
DESCRIPTION:
URL:https://bonjourgeneve.ch/en/evenement/giris-atolyesi-franzisca-baslangic-seviyesi-a0-a1/2026-09-22/
LOCATION:Centre d’accueil de jour pour les personnes réfugiées\, 67C Rue de Lausanne\, Genève\, 1202
ATTACH;FMTTYPE=image/png:https://bonjourgeneve.ch/wp-content/uploads/2025/10/FR-TURC.png
END:VEVENT
BEGIN:VEVENT
DTSTART;TZID=Europe/Paris:20260922T163000
DTEND;TZID=Europe/Paris:20260922T180000
DTSTAMP:20260419T191735
CREATED:20251114T130521Z
LAST-MODIFIED:20251114T130521Z
UID:10101803-1790094600-1790100000@bonjourgeneve.ch
SUMMARY:ФРАНЦУЗЬКА ДЛЯ ПОЧАТКІВЦІВ УКРАЇНСЬКОЮ\, РОСІЙСЬКОЮ ТА ФРАНЦУЗЬКОЮ РІВЕНЬ A0–A1
DESCRIPTION:
URL:https://bonjourgeneve.ch/en/evenement/%d1%84%d1%80%d0%b0%d0%bd%d1%86%d1%83%d0%b7%d1%8c%d0%ba%d0%b0-%d0%b4%d0%bb%d1%8f-%d0%bf%d0%be%d1%87%d0%b0%d1%82%d0%ba%d1%96%d0%b2%d1%86%d1%96%d0%b2-%d1%83%d0%ba%d1%80%d0%b0%d1%97%d0%bd%d1%81%d1%8c-2/2026-09-22/
LOCATION:Centre d’accueil de jour pour les personnes réfugiées\, 67C Rue de Lausanne\, Genève\, 1202
ATTACH;FMTTYPE=image/png:https://bonjourgeneve.ch/wp-content/uploads/2025/11/francais-ukrainien2.png
END:VEVENT
BEGIN:VEVENT
DTSTART;TZID=Europe/Paris:20260923T103000
DTEND;TZID=Europe/Paris:20260923T120000
DTSTAMP:20260419T191735
CREATED:20251009T121217Z
LAST-MODIFIED:20251009T121217Z
UID:10099454-1790159400-1790164800@bonjourgeneve.ch
SUMMARY:Atelier de conversation en français - niveau débutant - A1
DESCRIPTION:
URL:https://bonjourgeneve.ch/en/evenement/atelier-de-conversation-en-francais-niveau-debutant-a1-2/2026-09-23/
LOCATION:Centre d’accueil de jour pour les personnes réfugiées\, 67C Rue de Lausanne\, Genève\, 1202
ATTACH;FMTTYPE=image/png:https://bonjourgeneve.ch/wp-content/uploads/2025/10/FR-A1mercredi.png
END:VEVENT
BEGIN:VEVENT
DTSTART;TZID=Europe/Paris:20260923T124500
DTEND;TZID=Europe/Paris:20260923T140000
DTSTAMP:20260419T191735
CREATED:20251009T120435Z
LAST-MODIFIED:20251009T120435Z
UID:10099193-1790167500-1790172000@bonjourgeneve.ch
SUMMARY:Chorale
DESCRIPTION:
URL:https://bonjourgeneve.ch/en/evenement/chorale/2026-09-23/
LOCATION:Centre d’accueil de jour pour les personnes réfugiées\, 67C Rue de Lausanne\, Genève\, 1202
ATTACH;FMTTYPE=image/png:https://bonjourgeneve.ch/wp-content/uploads/2025/10/Chorale.png
END:VEVENT
BEGIN:VEVENT
DTSTART;TZID=Europe/Paris:20260923T133000
DTEND;TZID=Europe/Paris:20260923T150000
DTSTAMP:20260419T191735
CREATED:20251009T123222Z
LAST-MODIFIED:20251009T123222Z
UID:10100497-1790170200-1790175600@bonjourgeneve.ch
SUMMARY:حصة لغة فرنسية – مستوى مبتدئ المستوى A0 A1
DESCRIPTION:
URL:https://bonjourgeneve.ch/en/evenement/%d8%ad%d8%b5%d8%a9-%d9%84%d8%ba%d8%a9-%d9%81%d8%b1%d9%86%d8%b3%d9%8a%d8%a9-%d9%85%d8%b3%d8%aa%d9%88%d9%89-%d9%85%d8%a8%d8%aa%d8%af%d8%a6-%d8%a7%d9%84%d9%85%d8%b3%d8%aa%d9%88%d9%89-a0-a1/2026-09-23/
LOCATION:Centre d’accueil de jour pour les personnes réfugiées\, 67C Rue de Lausanne\, Genève\, 1202
ATTACH;FMTTYPE=image/png:https://bonjourgeneve.ch/wp-content/uploads/2025/10/FR-ARABE.png
END:VEVENT
BEGIN:VEVENT
DTSTART;TZID=Europe/Paris:20260923T140000
DTEND;TZID=Europe/Paris:20260923T160000
DTSTAMP:20260419T191735
CREATED:20251008T094806Z
LAST-MODIFIED:20251008T094806Z
UID:10093973-1790172000-1790179200@bonjourgeneve.ch
SUMMARY:Atelier de couture
DESCRIPTION:
URL:https://bonjourgeneve.ch/en/evenement/atelier-de-couture/2026-09-23/
LOCATION:Centre d’accueil de jour pour les personnes réfugiées\, 67C Rue de Lausanne\, Genève\, 1202
ATTACH;FMTTYPE=image/png:https://bonjourgeneve.ch/wp-content/uploads/2025/10/Couture.png
END:VEVENT
BEGIN:VEVENT
DTSTART;TZID=Europe/Paris:20260923T150000
DTEND;TZID=Europe/Paris:20260923T163000
DTSTAMP:20260419T191735
CREATED:20260122T102706Z
LAST-MODIFIED:20260122T103129Z
UID:10102829-1790175600-1790181000@bonjourgeneve.ch
SUMMARY:Atelier de français en vidéo – niveau intermédiaire – A2
DESCRIPTION:
URL:https://bonjourgeneve.ch/en/evenement/atelier-de-francais-en-video-niveau-intermediaire-a2/2026-09-23/
LOCATION:Centre d’accueil de jour pour les personnes réfugiées\, 67C Rue de Lausanne\, Genève\, 1202
ATTACH;FMTTYPE=image/png:https://bonjourgeneve.ch/wp-content/uploads/2026/01/atelier-farncais-video.png
END:VEVENT
BEGIN:VEVENT
DTSTART;TZID=Europe/Paris:20260923T160000
DTEND;TZID=Europe/Paris:20260923T170000
DTSTAMP:20260419T191735
CREATED:20251008T095228Z
LAST-MODIFIED:20251008T095449Z
UID:10094495-1790179200-1790182800@bonjourgeneve.ch
SUMMARY:Atelier artistique pour adultes et enfants (à partir de 4 ans)
DESCRIPTION:
URL:https://bonjourgeneve.ch/en/evenement/atelier-artistique-pour-adultes-et-enfants-a-partir-de-4-ans/2026-09-23/
LOCATION:Centre d’accueil de jour pour les personnes réfugiées\, 67C Rue de Lausanne\, Genève\, 1202
ATTACH;FMTTYPE=image/png:https://bonjourgeneve.ch/wp-content/uploads/2025/10/Atelier-Artistique.png
END:VEVENT
BEGIN:VEVENT
DTSTART;TZID=Europe/Paris:20260923T160000
DTEND;TZID=Europe/Paris:20260923T180000
DTSTAMP:20260419T191735
CREATED:20251009T122004Z
LAST-MODIFIED:20251114T111850Z
UID:10099975-1790179200-1790186400@bonjourgeneve.ch
SUMMARY:Pratique libre d'échecs
DESCRIPTION:
URL:https://bonjourgeneve.ch/en/evenement/atelier-dechecs/2026-09-23/
LOCATION:Centre d’accueil de jour pour les personnes réfugiées\, 67C Rue de Lausanne\, Genève\, 1202
ATTACH;FMTTYPE=image/png:https://bonjourgeneve.ch/wp-content/uploads/2025/10/echecs-1.png
END:VEVENT
BEGIN:VEVENT
DTSTART;TZID=Europe/Paris:20260923T180000
DTEND;TZID=Europe/Paris:20260923T190000
DTSTAMP:20260419T191735
CREATED:20251114T110937Z
LAST-MODIFIED:20251114T111537Z
UID:10101012-1790186400-1790190000@bonjourgeneve.ch
SUMMARY:Atelier de Yoga
DESCRIPTION:
URL:https://bonjourgeneve.ch/en/evenement/atelier-de-yoga-2/2026-09-23/
LOCATION:Cycle d’orientation des Sécheron\, Avenue Blanc 1\, Genève\, 1202\, Suisse
ATTACH;FMTTYPE=image/png:https://bonjourgeneve.ch/wp-content/uploads/2025/10/yoga-1.png
END:VEVENT
BEGIN:VEVENT
DTSTART;TZID=Europe/Paris:20260923T190000
DTEND;TZID=Europe/Paris:20260923T200000
DTSTAMP:20260419T191735
CREATED:20251009T122154Z
LAST-MODIFIED:20251009T122154Z
UID:10100236-1790190000-1790193600@bonjourgeneve.ch
SUMMARY:Volley-ball
DESCRIPTION:
URL:https://bonjourgeneve.ch/en/evenement/volley-ball/2026-09-23/
LOCATION:Cycle d’orientation des Sécheron\, Avenue Blanc 1\, Genève\, 1202\, Suisse
ATTACH;FMTTYPE=image/png:https://bonjourgeneve.ch/wp-content/uploads/2025/10/Volley-ball.png
END:VEVENT
END:VCALENDAR