BEGIN:VCALENDAR
VERSION:2.0
PRODID:-//Bonjour Genève - ECPv6.15.17//NONSGML v1.0//EN
CALSCALE:GREGORIAN
METHOD:PUBLISH
X-WR-CALNAME:Bonjour Genève
X-ORIGINAL-URL:https://bonjourgeneve.ch/en/
X-WR-CALDESC:Events for Bonjour Genève
REFRESH-INTERVAL;VALUE=DURATION:PT1H
X-Robots-Tag:noindex
X-PUBLISHED-TTL:PT1H
BEGIN:VTIMEZONE
TZID:Europe/Paris
BEGIN:DAYLIGHT
TZOFFSETFROM:+0100
TZOFFSETTO:+0200
TZNAME:CEST
DTSTART:20250330T010000
END:DAYLIGHT
BEGIN:STANDARD
TZOFFSETFROM:+0200
TZOFFSETTO:+0100
TZNAME:CET
DTSTART:20251026T010000
END:STANDARD
BEGIN:DAYLIGHT
TZOFFSETFROM:+0100
TZOFFSETTO:+0200
TZNAME:CEST
DTSTART:20260329T010000
END:DAYLIGHT
BEGIN:STANDARD
TZOFFSETFROM:+0200
TZOFFSETTO:+0100
TZNAME:CET
DTSTART:20261025T010000
END:STANDARD
BEGIN:DAYLIGHT
TZOFFSETFROM:+0100
TZOFFSETTO:+0200
TZNAME:CEST
DTSTART:20270328T010000
END:DAYLIGHT
BEGIN:STANDARD
TZOFFSETFROM:+0200
TZOFFSETTO:+0100
TZNAME:CET
DTSTART:20271031T010000
END:STANDARD
END:VTIMEZONE
BEGIN:VEVENT
DTSTART;TZID=Europe/Paris:20260923T140000
DTEND;TZID=Europe/Paris:20260923T160000
DTSTAMP:20260419T230411
CREATED:20251008T094806Z
LAST-MODIFIED:20251008T094806Z
UID:10093973-1790172000-1790179200@bonjourgeneve.ch
SUMMARY:Atelier de couture
DESCRIPTION:
URL:https://bonjourgeneve.ch/en/evenement/atelier-de-couture/2026-09-23/
LOCATION:Centre d’accueil de jour pour les personnes réfugiées\, 67C Rue de Lausanne\, Genève\, 1202
ATTACH;FMTTYPE=image/png:https://bonjourgeneve.ch/wp-content/uploads/2025/10/Couture.png
END:VEVENT
BEGIN:VEVENT
DTSTART;TZID=Europe/Paris:20260923T150000
DTEND;TZID=Europe/Paris:20260923T163000
DTSTAMP:20260419T230411
CREATED:20260122T102706Z
LAST-MODIFIED:20260122T103129Z
UID:10102829-1790175600-1790181000@bonjourgeneve.ch
SUMMARY:Atelier de français en vidéo – niveau intermédiaire – A2
DESCRIPTION:
URL:https://bonjourgeneve.ch/en/evenement/atelier-de-francais-en-video-niveau-intermediaire-a2/2026-09-23/
LOCATION:Centre d’accueil de jour pour les personnes réfugiées\, 67C Rue de Lausanne\, Genève\, 1202
ATTACH;FMTTYPE=image/png:https://bonjourgeneve.ch/wp-content/uploads/2026/01/atelier-farncais-video.png
END:VEVENT
BEGIN:VEVENT
DTSTART;TZID=Europe/Paris:20260923T160000
DTEND;TZID=Europe/Paris:20260923T170000
DTSTAMP:20260419T230411
CREATED:20251008T095228Z
LAST-MODIFIED:20251008T095449Z
UID:10094495-1790179200-1790182800@bonjourgeneve.ch
SUMMARY:Atelier artistique pour adultes et enfants (à partir de 4 ans)
DESCRIPTION:
URL:https://bonjourgeneve.ch/en/evenement/atelier-artistique-pour-adultes-et-enfants-a-partir-de-4-ans/2026-09-23/
LOCATION:Centre d’accueil de jour pour les personnes réfugiées\, 67C Rue de Lausanne\, Genève\, 1202
ATTACH;FMTTYPE=image/png:https://bonjourgeneve.ch/wp-content/uploads/2025/10/Atelier-Artistique.png
END:VEVENT
BEGIN:VEVENT
DTSTART;TZID=Europe/Paris:20260923T160000
DTEND;TZID=Europe/Paris:20260923T180000
DTSTAMP:20260419T230411
CREATED:20251009T122004Z
LAST-MODIFIED:20251114T111850Z
UID:10099975-1790179200-1790186400@bonjourgeneve.ch
SUMMARY:Pratique libre d'échecs
DESCRIPTION:
URL:https://bonjourgeneve.ch/en/evenement/atelier-dechecs/2026-09-23/
LOCATION:Centre d’accueil de jour pour les personnes réfugiées\, 67C Rue de Lausanne\, Genève\, 1202
ATTACH;FMTTYPE=image/png:https://bonjourgeneve.ch/wp-content/uploads/2025/10/echecs-1.png
END:VEVENT
BEGIN:VEVENT
DTSTART;TZID=Europe/Paris:20260923T180000
DTEND;TZID=Europe/Paris:20260923T190000
DTSTAMP:20260419T230411
CREATED:20251114T110937Z
LAST-MODIFIED:20251114T111537Z
UID:10101012-1790186400-1790190000@bonjourgeneve.ch
SUMMARY:Atelier de Yoga
DESCRIPTION:
URL:https://bonjourgeneve.ch/en/evenement/atelier-de-yoga-2/2026-09-23/
LOCATION:Cycle d’orientation des Sécheron\, Avenue Blanc 1\, Genève\, 1202\, Suisse
ATTACH;FMTTYPE=image/png:https://bonjourgeneve.ch/wp-content/uploads/2025/10/yoga-1.png
END:VEVENT
BEGIN:VEVENT
DTSTART;TZID=Europe/Paris:20260923T190000
DTEND;TZID=Europe/Paris:20260923T200000
DTSTAMP:20260419T230411
CREATED:20251009T122154Z
LAST-MODIFIED:20251009T122154Z
UID:10100236-1790190000-1790193600@bonjourgeneve.ch
SUMMARY:Volley-ball
DESCRIPTION:
URL:https://bonjourgeneve.ch/en/evenement/volley-ball/2026-09-23/
LOCATION:Cycle d’orientation des Sécheron\, Avenue Blanc 1\, Genève\, 1202\, Suisse
ATTACH;FMTTYPE=image/png:https://bonjourgeneve.ch/wp-content/uploads/2025/10/Volley-ball.png
END:VEVENT
BEGIN:VEVENT
DTSTART;TZID=Europe/Paris:20260924T103000
DTEND;TZID=Europe/Paris:20260924T120000
DTSTAMP:20260419T230411
CREATED:20251009T121533Z
LAST-MODIFIED:20251009T121533Z
UID:10099715-1790245800-1790251200@bonjourgeneve.ch
SUMMARY:Atelier de conversation en français – niveau intermédiaire – A2
DESCRIPTION:
URL:https://bonjourgeneve.ch/en/evenement/atelier-de-conversation-en-francais-niveau-intermediaire-a2-2/2026-09-24/
LOCATION:Centre d’accueil de jour pour les personnes réfugiées\, 67C Rue de Lausanne\, Genève\, 1202
ATTACH;FMTTYPE=image/png:https://bonjourgeneve.ch/wp-content/uploads/2025/10/FR-A2.png
END:VEVENT
BEGIN:VEVENT
DTSTART;TZID=Europe/Paris:20260924T140000
DTEND;TZID=Europe/Paris:20260924T160000
DTSTAMP:20260419T230411
CREATED:20251009T095355Z
LAST-MODIFIED:20251009T095355Z
UID:10095279-1790258400-1790265600@bonjourgeneve.ch
SUMMARY:Atelier de français « Citoyenneté et écriture »
DESCRIPTION:
URL:https://bonjourgeneve.ch/en/evenement/atelier-de-francais-citoyennete-et-ecriture/2026-09-24/
LOCATION:Centre d’accueil de jour pour les personnes réfugiées\, 67C Rue de Lausanne\, Genève\, 1202
ATTACH;FMTTYPE=image/png:https://bonjourgeneve.ch/wp-content/uploads/2025/10/FR-B2C1.png
END:VEVENT
BEGIN:VEVENT
DTSTART;TZID=Europe/Paris:20260924T163000
DTEND;TZID=Europe/Paris:20260924T180000
DTSTAMP:20260419T230411
CREATED:20241017T125127Z
LAST-MODIFIED:20251008T085047Z
UID:10079018-1790267400-1790272800@bonjourgeneve.ch
SUMMARY:Atelier "Buisness English" B1-B2
DESCRIPTION:
URL:https://bonjourgeneve.ch/en/evenement/atelier-interactive-english-for-career-personal-development-intermediate-level-b1/2026-09-24/
LOCATION:Centre d’accueil de jour pour les personnes réfugiées\, 67C Rue de Lausanne\, Genève\, 1202
ATTACH;FMTTYPE=image/png:https://bonjourgeneve.ch/wp-content/uploads/2025/10/Anglais-Buisness.png
END:VEVENT
BEGIN:VEVENT
DTSTART;TZID=Europe/Paris:20260924T170000
DTEND;TZID=Europe/Paris:20260924T180000
DTSTAMP:20260419T230411
CREATED:20251009T094928Z
LAST-MODIFIED:20251009T094928Z
UID:10095017-1790269200-1790272800@bonjourgeneve.ch
SUMMARY:Atelier d'anglais pour les enfants (de 5 à 8 ans)
DESCRIPTION:
URL:https://bonjourgeneve.ch/en/evenement/atelier-danglais-pour-les-enfants-de-5-a-8-ans/2026-09-24/
LOCATION:Centre d’accueil de jour pour les personnes réfugiées\, 67C Rue de Lausanne\, Genève\, 1202
ATTACH;FMTTYPE=image/png:https://bonjourgeneve.ch/wp-content/uploads/2025/10/Anglais-enfants.png
END:VEVENT
BEGIN:VEVENT
DTSTART;TZID=Europe/Paris:20260925T120000
DTEND;TZID=Europe/Paris:20260925T130000
DTSTAMP:20260419T230411
CREATED:20251009T095914Z
LAST-MODIFIED:20251009T095914Z
UID:10095801-1790337600-1790341200@bonjourgeneve.ch
SUMMARY:Atelier de danse pour femmes
DESCRIPTION:
URL:https://bonjourgeneve.ch/en/evenement/atelier-de-danse-pour-femmes/2026-09-25/
LOCATION:Centre d’accueil de jour pour les personnes réfugiées\, 67C Rue de Lausanne\, Genève\, 1202
ATTACH;FMTTYPE=image/png:https://bonjourgeneve.ch/wp-content/uploads/2025/10/Danse.png
END:VEVENT
BEGIN:VEVENT
DTSTART;TZID=Europe/Paris:20260925T140000
DTEND;TZID=Europe/Paris:20260925T160000
DTSTAMP:20260419T230411
CREATED:20251009T100640Z
LAST-MODIFIED:20251114T132623Z
UID:10096323-1790344800-1790352000@bonjourgeneve.ch
SUMMARY:Permanence aide à la recherche logement
DESCRIPTION:
URL:https://bonjourgeneve.ch/en/evenement/permanence-aide-a-la-recherche-logement-3/2026-09-25/
LOCATION:Centre d’accueil de jour pour les personnes réfugiées\, 67C Rue de Lausanne\, Genève\, 1202
ATTACH;FMTTYPE=image/png:https://bonjourgeneve.ch/wp-content/uploads/2025/10/logement-vendredi.png
END:VEVENT
BEGIN:VEVENT
DTSTART;TZID=Europe/Paris:20260925T160000
DTEND;TZID=Europe/Paris:20260925T173000
DTSTAMP:20260419T230411
CREATED:20251009T095659Z
LAST-MODIFIED:20251009T095659Z
UID:10095540-1790352000-1790357400@bonjourgeneve.ch
SUMMARY:Atelier de conversation en français - niveau débutant - A1
DESCRIPTION:
URL:https://bonjourgeneve.ch/en/evenement/atelier-de-conversation-en-francais-niveau-debutant-a1/2026-09-25/
LOCATION:Centre d’accueil de jour pour les personnes réfugiées\, 67C Rue de Lausanne\, Genève\, 1202
ATTACH;FMTTYPE=image/png:https://bonjourgeneve.ch/wp-content/uploads/2025/10/FR-A1vendredi.png
END:VEVENT
BEGIN:VEVENT
DTSTART;TZID=Europe/Paris:20260928T100000
DTEND;TZID=Europe/Paris:20260928T110000
DTSTAMP:20260419T230411
CREATED:20251008T093206Z
LAST-MODIFIED:20251008T093721Z
UID:10093190-1790589600-1790593200@bonjourgeneve.ch
SUMMARY:Petit-déjeuner
DESCRIPTION:
URL:https://bonjourgeneve.ch/en/evenement/petit-dejeuner/2026-09-28/
LOCATION:Centre d’accueil de jour pour les personnes réfugiées\, 67C Rue de Lausanne\, Genève\, 1202
ATTACH;FMTTYPE=image/png:https://bonjourgeneve.ch/wp-content/uploads/2025/10/Petit-dejeuner.png
END:VEVENT
BEGIN:VEVENT
DTSTART;TZID=Europe/Paris:20260928T103000
DTEND;TZID=Europe/Paris:20260928T120000
DTSTAMP:20260419T230411
CREATED:20251008T091522Z
LAST-MODIFIED:20251008T091614Z
UID:10092929-1790591400-1790596800@bonjourgeneve.ch
SUMMARY:Groupe de parole et mandala
DESCRIPTION:
URL:https://bonjourgeneve.ch/en/evenement/groupe-de-parole-et-mandala/2026-09-28/
LOCATION:Centre d’accueil de jour pour les personnes réfugiées\, 67C Rue de Lausanne\, Genève\, 1202
ATTACH;FMTTYPE=image/png:https://bonjourgeneve.ch/wp-content/uploads/2025/10/mandala.png
END:VEVENT
BEGIN:VEVENT
DTSTART;TZID=Europe/Paris:20260928T130000
DTEND;TZID=Europe/Paris:20260928T143000
DTSTAMP:20260419T230411
CREATED:20251009T101713Z
LAST-MODIFIED:20251009T101713Z
UID:10097106-1790600400-1790605800@bonjourgeneve.ch
SUMMARY:ФРАНЦУЗЬКА ДЛЯ ПОЧАТКІВЦІВ УКРАЇНСЬКОЮ\, РОСІЙСЬКОЮ ТА ФРАНЦУЗЬКОЮ РІВЕНЬ A0–A1
DESCRIPTION:
URL:https://bonjourgeneve.ch/en/evenement/%d1%84%d1%80%d0%b0%d0%bd%d1%86%d1%83%d0%b7%d1%8c%d0%ba%d0%b0-%d0%b4%d0%bb%d1%8f-%d0%bf%d0%be%d1%87%d0%b0%d1%82%d0%ba%d1%96%d0%b2%d1%86%d1%96%d0%b2-%d1%83%d0%ba%d1%80%d0%b0%d1%97%d0%bd%d1%81%d1%8c/2026-09-28/
LOCATION:Centre d’accueil de jour pour les personnes réfugiées\, 67C Rue de Lausanne\, Genève\, 1202
ATTACH;FMTTYPE=image/png:https://bonjourgeneve.ch/wp-content/uploads/2025/10/FR-UKR.png
END:VEVENT
BEGIN:VEVENT
DTSTART;TZID=Europe/Paris:20260928T143000
DTEND;TZID=Europe/Paris:20260928T160000
DTSTAMP:20260419T230411
CREATED:20251009T114958Z
LAST-MODIFIED:20251009T114958Z
UID:10097628-1790605800-1790611200@bonjourgeneve.ch
SUMMARY:Atelier de conversation en anglais - niveau débutant - A0 A1
DESCRIPTION:
URL:https://bonjourgeneve.ch/en/evenement/atelier-de-conversation-en-anglais-niveau-debutant-a0-a1/2026-09-28/
LOCATION:Centre d’accueil de jour pour les personnes réfugiées\, 67C Rue de Lausanne\, Genève\, 1202
ATTACH;FMTTYPE=image/png:https://bonjourgeneve.ch/wp-content/uploads/2025/10/Anglais-A1.png
END:VEVENT
BEGIN:VEVENT
DTSTART;TZID=Europe/Paris:20260928T143000
DTEND;TZID=Europe/Paris:20260928T160000
DTSTAMP:20260419T230411
CREATED:20251009T114727Z
LAST-MODIFIED:20251009T114727Z
UID:10097367-1790605800-1790611200@bonjourgeneve.ch
SUMMARY:Atelier de conversation en français - niveau avancé - B1
DESCRIPTION:
URL:https://bonjourgeneve.ch/en/evenement/atelier-de-conversation-en-francais-niveau-avance-b1/2026-09-28/
LOCATION:Centre d’accueil de jour pour les personnes réfugiées\, 67C Rue de Lausanne\, Genève\, 1202
ATTACH;FMTTYPE=image/png:https://bonjourgeneve.ch/wp-content/uploads/2025/10/FR-B1.png
END:VEVENT
BEGIN:VEVENT
DTSTART;TZID=Europe/Paris:20260928T160000
DTEND;TZID=Europe/Paris:20260928T173000
DTSTAMP:20260419T230411
CREATED:20251114T112114Z
LAST-MODIFIED:20251114T112114Z
UID:10101278-1790611200-1790616600@bonjourgeneve.ch
SUMMARY:Atolye ya destpêkê a fransî asta destpêk'ê
DESCRIPTION:
URL:https://bonjourgeneve.ch/en/evenement/atolye-ya-destpeke-a-fransi-asta-destpeke-2/2026-09-28/
LOCATION:Centre d’accueil de jour pour les personnes réfugiées\, 67C Rue de Lausanne\, Genève\, 1202
ATTACH;FMTTYPE=image/png:https://bonjourgeneve.ch/wp-content/uploads/2025/10/francais-kurde.png
END:VEVENT
BEGIN:VEVENT
DTSTART;TZID=Europe/Paris:20260928T163000
DTEND;TZID=Europe/Paris:20260928T180000
DTSTAMP:20260419T230411
CREATED:20251009T115127Z
LAST-MODIFIED:20251009T115127Z
UID:10097889-1790613000-1790618400@bonjourgeneve.ch
SUMMARY:Atelier de conversation en anglais - niveau intermédiaire - A2
DESCRIPTION:
URL:https://bonjourgeneve.ch/en/evenement/atelier-de-conversation-en-anglais-niveau-intermediaire-a2/2026-09-28/
LOCATION:Centre d’accueil de jour pour les personnes réfugiées\, 67C Rue de Lausanne\, Genève\, 1202
ATTACH;FMTTYPE=image/png:https://bonjourgeneve.ch/wp-content/uploads/2025/10/Anglais-A2.png
END:VEVENT
BEGIN:VEVENT
DTSTART;TZID=Europe/Paris:20260929T103000
DTEND;TZID=Europe/Paris:20260929T113000
DTSTAMP:20260419T230411
CREATED:20251009T115335Z
LAST-MODIFIED:20251009T115335Z
UID:10098150-1790677800-1790681400@bonjourgeneve.ch
SUMMARY:Atelier de français - niveau débutant - A0
DESCRIPTION:
URL:https://bonjourgeneve.ch/en/evenement/atelier-de-francais-niveau-debutant-a0/2026-09-29/
LOCATION:Centre d’accueil de jour pour les personnes réfugiées\, 67C Rue de Lausanne\, Genève\, 1202
ATTACH;FMTTYPE=image/png:https://bonjourgeneve.ch/wp-content/uploads/2025/10/FR-AO.png
END:VEVENT
BEGIN:VEVENT
DTSTART;TZID=Europe/Paris:20260929T103000
DTEND;TZID=Europe/Paris:20260929T123000
DTSTAMP:20260419T230411
CREATED:20251009T100805Z
LAST-MODIFIED:20251114T132738Z
UID:10096584-1790677800-1790685000@bonjourgeneve.ch
SUMMARY:Permanence aide à la recherche logement
DESCRIPTION:
URL:https://bonjourgeneve.ch/en/evenement/permanence-aide-a-la-recherche-logement-2-2/2026-09-29/
LOCATION:Centre d’accueil de jour pour les personnes réfugiées\, 67C Rue de Lausanne\, Genève\, 1202
ATTACH;FMTTYPE=image/png:https://bonjourgeneve.ch/wp-content/uploads/2025/10/logement-mardi.png
END:VEVENT
BEGIN:VEVENT
DTSTART;TZID=Europe/Paris:20260929T123000
DTEND;TZID=Europe/Paris:20260929T133000
DTSTAMP:20260419T230411
CREATED:20251009T094554Z
LAST-MODIFIED:20251009T094554Z
UID:10094756-1790685000-1790688600@bonjourgeneve.ch
SUMMARY:Atelier de mémoire (donné en ukrainien/russe))
DESCRIPTION:
URL:https://bonjourgeneve.ch/en/evenement/atelier-de-memoire-donne-en-ukrainien-russe/2026-09-29/
LOCATION:Centre d’accueil de jour pour les personnes réfugiées\, 67C Rue de Lausanne\, Genève\, 1202
ATTACH;FMTTYPE=image/png:https://bonjourgeneve.ch/wp-content/uploads/2025/10/Atelier-memoire-ukrainien.png
END:VEVENT
BEGIN:VEVENT
DTSTART;TZID=Europe/Paris:20260929T133000
DTEND;TZID=Europe/Paris:20260929T150000
DTSTAMP:20260419T230411
CREATED:20251009T115609Z
LAST-MODIFIED:20251009T115609Z
UID:10098411-1790688600-1790694000@bonjourgeneve.ch
SUMMARY:Atelier de conversation en français - niveau intermédiaire - A2
DESCRIPTION:
URL:https://bonjourgeneve.ch/en/evenement/atelier-de-conversation-en-francais-niveau-intermediaire-a2/2026-09-29/
LOCATION:Centre d’accueil de jour pour les personnes réfugiées\, 67C Rue de Lausanne\, Genève\, 1202
ATTACH;FMTTYPE=image/png:https://bonjourgeneve.ch/wp-content/uploads/2025/10/FR-A2mardi.png
END:VEVENT
BEGIN:VEVENT
DTSTART;TZID=Europe/Paris:20260929T150000
DTEND;TZID=Europe/Paris:20260929T163000
DTSTAMP:20260419T230411
CREATED:20251009T115959Z
LAST-MODIFIED:20251009T115959Z
UID:10098672-1790694000-1790699400@bonjourgeneve.ch
SUMMARY:Giris atölyesi franzisca - baslangiç seviyesi - A0 A1
DESCRIPTION:
URL:https://bonjourgeneve.ch/en/evenement/giris-atolyesi-franzisca-baslangic-seviyesi-a0-a1/2026-09-29/
LOCATION:Centre d’accueil de jour pour les personnes réfugiées\, 67C Rue de Lausanne\, Genève\, 1202
ATTACH;FMTTYPE=image/png:https://bonjourgeneve.ch/wp-content/uploads/2025/10/FR-TURC.png
END:VEVENT
BEGIN:VEVENT
DTSTART;TZID=Europe/Paris:20260929T163000
DTEND;TZID=Europe/Paris:20260929T180000
DTSTAMP:20260419T230411
CREATED:20251114T130521Z
LAST-MODIFIED:20251114T130521Z
UID:10101804-1790699400-1790704800@bonjourgeneve.ch
SUMMARY:ФРАНЦУЗЬКА ДЛЯ ПОЧАТКІВЦІВ УКРАЇНСЬКОЮ\, РОСІЙСЬКОЮ ТА ФРАНЦУЗЬКОЮ РІВЕНЬ A0–A1
DESCRIPTION:
URL:https://bonjourgeneve.ch/en/evenement/%d1%84%d1%80%d0%b0%d0%bd%d1%86%d1%83%d0%b7%d1%8c%d0%ba%d0%b0-%d0%b4%d0%bb%d1%8f-%d0%bf%d0%be%d1%87%d0%b0%d1%82%d0%ba%d1%96%d0%b2%d1%86%d1%96%d0%b2-%d1%83%d0%ba%d1%80%d0%b0%d1%97%d0%bd%d1%81%d1%8c-2/2026-09-29/
LOCATION:Centre d’accueil de jour pour les personnes réfugiées\, 67C Rue de Lausanne\, Genève\, 1202
ATTACH;FMTTYPE=image/png:https://bonjourgeneve.ch/wp-content/uploads/2025/11/francais-ukrainien2.png
END:VEVENT
BEGIN:VEVENT
DTSTART;TZID=Europe/Paris:20260930T103000
DTEND;TZID=Europe/Paris:20260930T120000
DTSTAMP:20260419T230411
CREATED:20251009T121217Z
LAST-MODIFIED:20251009T121217Z
UID:10099455-1790764200-1790769600@bonjourgeneve.ch
SUMMARY:Atelier de conversation en français - niveau débutant - A1
DESCRIPTION:
URL:https://bonjourgeneve.ch/en/evenement/atelier-de-conversation-en-francais-niveau-debutant-a1-2/2026-09-30/
LOCATION:Centre d’accueil de jour pour les personnes réfugiées\, 67C Rue de Lausanne\, Genève\, 1202
ATTACH;FMTTYPE=image/png:https://bonjourgeneve.ch/wp-content/uploads/2025/10/FR-A1mercredi.png
END:VEVENT
BEGIN:VEVENT
DTSTART;TZID=Europe/Paris:20260930T124500
DTEND;TZID=Europe/Paris:20260930T140000
DTSTAMP:20260419T230412
CREATED:20251009T120435Z
LAST-MODIFIED:20251009T120435Z
UID:10099194-1790772300-1790776800@bonjourgeneve.ch
SUMMARY:Chorale
DESCRIPTION:
URL:https://bonjourgeneve.ch/en/evenement/chorale/2026-09-30/
LOCATION:Centre d’accueil de jour pour les personnes réfugiées\, 67C Rue de Lausanne\, Genève\, 1202
ATTACH;FMTTYPE=image/png:https://bonjourgeneve.ch/wp-content/uploads/2025/10/Chorale.png
END:VEVENT
BEGIN:VEVENT
DTSTART;TZID=Europe/Paris:20260930T133000
DTEND;TZID=Europe/Paris:20260930T150000
DTSTAMP:20260419T230412
CREATED:20251009T123222Z
LAST-MODIFIED:20251009T123222Z
UID:10100498-1790775000-1790780400@bonjourgeneve.ch
SUMMARY:حصة لغة فرنسية – مستوى مبتدئ المستوى A0 A1
DESCRIPTION:
URL:https://bonjourgeneve.ch/en/evenement/%d8%ad%d8%b5%d8%a9-%d9%84%d8%ba%d8%a9-%d9%81%d8%b1%d9%86%d8%b3%d9%8a%d8%a9-%d9%85%d8%b3%d8%aa%d9%88%d9%89-%d9%85%d8%a8%d8%aa%d8%af%d8%a6-%d8%a7%d9%84%d9%85%d8%b3%d8%aa%d9%88%d9%89-a0-a1/2026-09-30/
LOCATION:Centre d’accueil de jour pour les personnes réfugiées\, 67C Rue de Lausanne\, Genève\, 1202
ATTACH;FMTTYPE=image/png:https://bonjourgeneve.ch/wp-content/uploads/2025/10/FR-ARABE.png
END:VEVENT
BEGIN:VEVENT
DTSTART;TZID=Europe/Paris:20260930T140000
DTEND;TZID=Europe/Paris:20260930T160000
DTSTAMP:20260419T230412
CREATED:20251008T094806Z
LAST-MODIFIED:20251008T094806Z
UID:10093974-1790776800-1790784000@bonjourgeneve.ch
SUMMARY:Atelier de couture
DESCRIPTION:
URL:https://bonjourgeneve.ch/en/evenement/atelier-de-couture/2026-09-30/
LOCATION:Centre d’accueil de jour pour les personnes réfugiées\, 67C Rue de Lausanne\, Genève\, 1202
ATTACH;FMTTYPE=image/png:https://bonjourgeneve.ch/wp-content/uploads/2025/10/Couture.png
END:VEVENT
END:VCALENDAR