BEGIN:VCALENDAR
VERSION:2.0
PRODID:-//Bonjour Genève - ECPv6.15.17//NONSGML v1.0//EN
CALSCALE:GREGORIAN
METHOD:PUBLISH
X-ORIGINAL-URL:https://bonjourgeneve.ch/en/
X-WR-CALDESC:Events for Bonjour Genève
REFRESH-INTERVAL;VALUE=DURATION:PT1H
X-Robots-Tag:noindex
X-PUBLISHED-TTL:PT1H
BEGIN:VTIMEZONE
TZID:Europe/Paris
BEGIN:DAYLIGHT
TZOFFSETFROM:+0100
TZOFFSETTO:+0200
TZNAME:CEST
DTSTART:20230326T010000
END:DAYLIGHT
BEGIN:STANDARD
TZOFFSETFROM:+0200
TZOFFSETTO:+0100
TZNAME:CET
DTSTART:20231029T010000
END:STANDARD
BEGIN:DAYLIGHT
TZOFFSETFROM:+0100
TZOFFSETTO:+0200
TZNAME:CEST
DTSTART:20240331T010000
END:DAYLIGHT
BEGIN:STANDARD
TZOFFSETFROM:+0200
TZOFFSETTO:+0100
TZNAME:CET
DTSTART:20241027T010000
END:STANDARD
BEGIN:DAYLIGHT
TZOFFSETFROM:+0100
TZOFFSETTO:+0200
TZNAME:CEST
DTSTART:20250330T010000
END:DAYLIGHT
BEGIN:STANDARD
TZOFFSETFROM:+0200
TZOFFSETTO:+0100
TZNAME:CET
DTSTART:20251026T010000
END:STANDARD
END:VTIMEZONE
BEGIN:VEVENT
DTSTART;TZID=Europe/Paris:20241107T163000
DTEND;TZID=Europe/Paris:20241107T180000
DTSTAMP:20260426T060359
CREATED:20241017T125127Z
LAST-MODIFIED:20251008T085047Z
UID:10078920-1730997000-1731002400@bonjourgeneve.ch
SUMMARY:Atelier "Buisness English" B1-B2
DESCRIPTION:
URL:https://bonjourgeneve.ch/en/evenement/atelier-interactive-english-for-career-personal-development-intermediate-level-b1/2024-11-07/
LOCATION:Centre d’accueil de jour pour les personnes réfugiées\, 67C Rue de Lausanne\, Genève\, 1202
ATTACH;FMTTYPE=image/png:https://bonjourgeneve.ch/wp-content/uploads/2025/10/Anglais-Buisness.png
END:VEVENT
BEGIN:VEVENT
DTSTART;TZID=Europe/Paris:20241114T163000
DTEND;TZID=Europe/Paris:20241114T180000
DTSTAMP:20260426T060359
CREATED:20241017T125127Z
LAST-MODIFIED:20251008T085047Z
UID:10078921-1731601800-1731607200@bonjourgeneve.ch
SUMMARY:Atelier "Buisness English" B1-B2
DESCRIPTION:
URL:https://bonjourgeneve.ch/en/evenement/atelier-interactive-english-for-career-personal-development-intermediate-level-b1/2024-11-14/
LOCATION:Centre d’accueil de jour pour les personnes réfugiées\, 67C Rue de Lausanne\, Genève\, 1202
ATTACH;FMTTYPE=image/png:https://bonjourgeneve.ch/wp-content/uploads/2025/10/Anglais-Buisness.png
END:VEVENT
BEGIN:VEVENT
DTSTART;TZID=Europe/Paris:20241121T163000
DTEND;TZID=Europe/Paris:20241121T180000
DTSTAMP:20260426T060359
CREATED:20241017T125127Z
LAST-MODIFIED:20251008T085047Z
UID:10078922-1732206600-1732212000@bonjourgeneve.ch
SUMMARY:Atelier "Buisness English" B1-B2
DESCRIPTION:
URL:https://bonjourgeneve.ch/en/evenement/atelier-interactive-english-for-career-personal-development-intermediate-level-b1/2024-11-21/
LOCATION:Centre d’accueil de jour pour les personnes réfugiées\, 67C Rue de Lausanne\, Genève\, 1202
ATTACH;FMTTYPE=image/png:https://bonjourgeneve.ch/wp-content/uploads/2025/10/Anglais-Buisness.png
END:VEVENT
BEGIN:VEVENT
DTSTART;TZID=Europe/Paris:20241128T163000
DTEND;TZID=Europe/Paris:20241128T180000
DTSTAMP:20260426T060359
CREATED:20241017T125127Z
LAST-MODIFIED:20251008T085047Z
UID:10078923-1732811400-1732816800@bonjourgeneve.ch
SUMMARY:Atelier "Buisness English" B1-B2
DESCRIPTION:
URL:https://bonjourgeneve.ch/en/evenement/atelier-interactive-english-for-career-personal-development-intermediate-level-b1/2024-11-28/
LOCATION:Centre d’accueil de jour pour les personnes réfugiées\, 67C Rue de Lausanne\, Genève\, 1202
ATTACH;FMTTYPE=image/png:https://bonjourgeneve.ch/wp-content/uploads/2025/10/Anglais-Buisness.png
END:VEVENT
END:VCALENDAR