BEGIN:VCALENDAR
VERSION:2.0
PRODID:-//Bonjour Genève - ECPv6.15.17//NONSGML v1.0//EN
CALSCALE:GREGORIAN
METHOD:PUBLISH
X-WR-CALNAME:Bonjour Genève
X-ORIGINAL-URL:https://bonjourgeneve.ch/en/
X-WR-CALDESC:Events for Bonjour Genève
REFRESH-INTERVAL;VALUE=DURATION:PT1H
X-Robots-Tag:noindex
X-PUBLISHED-TTL:PT1H
BEGIN:VTIMEZONE
TZID:Europe/Paris
BEGIN:DAYLIGHT
TZOFFSETFROM:+0100
TZOFFSETTO:+0200
TZNAME:CEST
DTSTART:20240331T010000
END:DAYLIGHT
BEGIN:STANDARD
TZOFFSETFROM:+0200
TZOFFSETTO:+0100
TZNAME:CET
DTSTART:20241027T010000
END:STANDARD
BEGIN:DAYLIGHT
TZOFFSETFROM:+0100
TZOFFSETTO:+0200
TZNAME:CEST
DTSTART:20250330T010000
END:DAYLIGHT
BEGIN:STANDARD
TZOFFSETFROM:+0200
TZOFFSETTO:+0100
TZNAME:CET
DTSTART:20251026T010000
END:STANDARD
BEGIN:DAYLIGHT
TZOFFSETFROM:+0100
TZOFFSETTO:+0200
TZNAME:CEST
DTSTART:20260329T010000
END:DAYLIGHT
BEGIN:STANDARD
TZOFFSETFROM:+0200
TZOFFSETTO:+0100
TZNAME:CET
DTSTART:20261025T010000
END:STANDARD
END:VTIMEZONE
BEGIN:VEVENT
DTSTART;TZID=Europe/Paris:20250605T163000
DTEND;TZID=Europe/Paris:20250605T180000
DTSTAMP:20260425T210306
CREATED:20241017T125127Z
LAST-MODIFIED:20251008T085047Z
UID:10078950-1749141000-1749146400@bonjourgeneve.ch
SUMMARY:Atelier "Buisness English" B1-B2
DESCRIPTION:
URL:https://bonjourgeneve.ch/en/evenement/atelier-interactive-english-for-career-personal-development-intermediate-level-b1/2025-06-05/
LOCATION:Centre d’accueil de jour pour les personnes réfugiées\, 67C Rue de Lausanne\, Genève\, 1202
ATTACH;FMTTYPE=image/png:https://bonjourgeneve.ch/wp-content/uploads/2025/10/Anglais-Buisness.png
END:VEVENT
BEGIN:VEVENT
DTSTART;TZID=Europe/Paris:20250612T163000
DTEND;TZID=Europe/Paris:20250612T180000
DTSTAMP:20260425T210306
CREATED:20241017T125127Z
LAST-MODIFIED:20251008T085047Z
UID:10078951-1749745800-1749751200@bonjourgeneve.ch
SUMMARY:Atelier "Buisness English" B1-B2
DESCRIPTION:
URL:https://bonjourgeneve.ch/en/evenement/atelier-interactive-english-for-career-personal-development-intermediate-level-b1/2025-06-12/
LOCATION:Centre d’accueil de jour pour les personnes réfugiées\, 67C Rue de Lausanne\, Genève\, 1202
ATTACH;FMTTYPE=image/png:https://bonjourgeneve.ch/wp-content/uploads/2025/10/Anglais-Buisness.png
END:VEVENT
BEGIN:VEVENT
DTSTART;TZID=Europe/Paris:20250619T163000
DTEND;TZID=Europe/Paris:20250619T180000
DTSTAMP:20260425T210306
CREATED:20241017T125127Z
LAST-MODIFIED:20251008T085047Z
UID:10078952-1750350600-1750356000@bonjourgeneve.ch
SUMMARY:Atelier "Buisness English" B1-B2
DESCRIPTION:
URL:https://bonjourgeneve.ch/en/evenement/atelier-interactive-english-for-career-personal-development-intermediate-level-b1/2025-06-19/
LOCATION:Centre d’accueil de jour pour les personnes réfugiées\, 67C Rue de Lausanne\, Genève\, 1202
ATTACH;FMTTYPE=image/png:https://bonjourgeneve.ch/wp-content/uploads/2025/10/Anglais-Buisness.png
END:VEVENT
BEGIN:VEVENT
DTSTART;TZID=Europe/Paris:20250626T163000
DTEND;TZID=Europe/Paris:20250626T180000
DTSTAMP:20260425T210306
CREATED:20241017T125127Z
LAST-MODIFIED:20251008T085047Z
UID:10078953-1750955400-1750960800@bonjourgeneve.ch
SUMMARY:Atelier "Buisness English" B1-B2
DESCRIPTION:
URL:https://bonjourgeneve.ch/en/evenement/atelier-interactive-english-for-career-personal-development-intermediate-level-b1/2025-06-26/
LOCATION:Centre d’accueil de jour pour les personnes réfugiées\, 67C Rue de Lausanne\, Genève\, 1202
ATTACH;FMTTYPE=image/png:https://bonjourgeneve.ch/wp-content/uploads/2025/10/Anglais-Buisness.png
END:VEVENT
END:VCALENDAR