BEGIN:VCALENDAR
VERSION:2.0
PRODID:-//Bonjour Genève - ECPv6.15.17//NONSGML v1.0//EN
CALSCALE:GREGORIAN
METHOD:PUBLISH
X-WR-CALNAME:Bonjour Genève
X-ORIGINAL-URL:https://bonjourgeneve.ch
X-WR-CALDESC:Évènements pour Bonjour Genève
REFRESH-INTERVAL;VALUE=DURATION:PT1H
X-Robots-Tag:noindex
X-PUBLISHED-TTL:PT1H
BEGIN:VTIMEZONE
TZID:Europe/Paris
BEGIN:DAYLIGHT
TZOFFSETFROM:+0100
TZOFFSETTO:+0200
TZNAME:CEST
DTSTART:20260329T010000
END:DAYLIGHT
BEGIN:STANDARD
TZOFFSETFROM:+0200
TZOFFSETTO:+0100
TZNAME:CET
DTSTART:20261025T010000
END:STANDARD
BEGIN:DAYLIGHT
TZOFFSETFROM:+0100
TZOFFSETTO:+0200
TZNAME:CEST
DTSTART:20270328T010000
END:DAYLIGHT
BEGIN:STANDARD
TZOFFSETFROM:+0200
TZOFFSETTO:+0100
TZNAME:CET
DTSTART:20271031T010000
END:STANDARD
BEGIN:DAYLIGHT
TZOFFSETFROM:+0100
TZOFFSETTO:+0200
TZNAME:CEST
DTSTART:20280326T010000
END:DAYLIGHT
BEGIN:STANDARD
TZOFFSETFROM:+0200
TZOFFSETTO:+0100
TZNAME:CET
DTSTART:20281029T010000
END:STANDARD
END:VTIMEZONE
BEGIN:VEVENT
DTSTART;TZID=Europe/Paris:20271101T100000
DTEND;TZID=Europe/Paris:20271101T110000
DTSTAMP:20260423T202330
CREATED:20251008T093206Z
LAST-MODIFIED:20251008T093721Z
UID:10093247-1825063200-1825066800@bonjourgeneve.ch
SUMMARY:Petit-déjeuner
DESCRIPTION:
URL:https://bonjourgeneve.ch/evenement/petit-dejeuner/2027-11-01/
LOCATION:Centre d’accueil de jour pour les personnes réfugiées\, 67C Rue de Lausanne\, Genève\, 1202
ATTACH;FMTTYPE=image/png:https://bonjourgeneve.ch/wp-content/uploads/2025/10/Petit-dejeuner.png
END:VEVENT
BEGIN:VEVENT
DTSTART;TZID=Europe/Paris:20271101T130000
DTEND;TZID=Europe/Paris:20271101T143000
DTSTAMP:20260423T202330
CREATED:20251009T101713Z
LAST-MODIFIED:20251009T101713Z
UID:10097163-1825074000-1825079400@bonjourgeneve.ch
SUMMARY:ФРАНЦУЗЬКА ДЛЯ ПОЧАТКІВЦІВ УКРАЇНСЬКОЮ\, РОСІЙСЬКОЮ ТА ФРАНЦУЗЬКОЮ РІВЕНЬ A0–A1
DESCRIPTION:
URL:https://bonjourgeneve.ch/evenement/%d1%84%d1%80%d0%b0%d0%bd%d1%86%d1%83%d0%b7%d1%8c%d0%ba%d0%b0-%d0%b4%d0%bb%d1%8f-%d0%bf%d0%be%d1%87%d0%b0%d1%82%d0%ba%d1%96%d0%b2%d1%86%d1%96%d0%b2-%d1%83%d0%ba%d1%80%d0%b0%d1%97%d0%bd%d1%81%d1%8c/2027-11-01/
LOCATION:Centre d’accueil de jour pour les personnes réfugiées\, 67C Rue de Lausanne\, Genève\, 1202
ATTACH;FMTTYPE=image/png:https://bonjourgeneve.ch/wp-content/uploads/2025/10/FR-UKR.png
END:VEVENT
BEGIN:VEVENT
DTSTART;TZID=Europe/Paris:20271101T143000
DTEND;TZID=Europe/Paris:20271101T160000
DTSTAMP:20260423T202330
CREATED:20251009T114958Z
LAST-MODIFIED:20251009T114958Z
UID:10097685-1825079400-1825084800@bonjourgeneve.ch
SUMMARY:Atelier de conversation en anglais - niveau débutant - A0 A1
DESCRIPTION:
URL:https://bonjourgeneve.ch/evenement/atelier-de-conversation-en-anglais-niveau-debutant-a0-a1/2027-11-01/
LOCATION:Centre d’accueil de jour pour les personnes réfugiées\, 67C Rue de Lausanne\, Genève\, 1202
ATTACH;FMTTYPE=image/png:https://bonjourgeneve.ch/wp-content/uploads/2025/10/Anglais-A1.png
END:VEVENT
BEGIN:VEVENT
DTSTART;TZID=Europe/Paris:20271101T143000
DTEND;TZID=Europe/Paris:20271101T160000
DTSTAMP:20260423T202330
CREATED:20251009T114727Z
LAST-MODIFIED:20251009T114727Z
UID:10097424-1825079400-1825084800@bonjourgeneve.ch
SUMMARY:Atelier de conversation en français - niveau avancé - B1
DESCRIPTION:
URL:https://bonjourgeneve.ch/evenement/atelier-de-conversation-en-francais-niveau-avance-b1/2027-11-01/
LOCATION:Centre d’accueil de jour pour les personnes réfugiées\, 67C Rue de Lausanne\, Genève\, 1202
ATTACH;FMTTYPE=image/png:https://bonjourgeneve.ch/wp-content/uploads/2025/10/FR-B1.png
END:VEVENT
BEGIN:VEVENT
DTSTART;TZID=Europe/Paris:20271101T160000
DTEND;TZID=Europe/Paris:20271101T173000
DTSTAMP:20260423T202330
CREATED:20251114T112114Z
LAST-MODIFIED:20251114T112114Z
UID:10101335-1825084800-1825090200@bonjourgeneve.ch
SUMMARY:Atolye ya destpêkê a fransî asta destpêk'ê
DESCRIPTION:
URL:https://bonjourgeneve.ch/evenement/atolye-ya-destpeke-a-fransi-asta-destpeke-2/2027-11-01/
LOCATION:Centre d’accueil de jour pour les personnes réfugiées\, 67C Rue de Lausanne\, Genève\, 1202
ATTACH;FMTTYPE=image/png:https://bonjourgeneve.ch/wp-content/uploads/2025/10/francais-kurde.png
END:VEVENT
BEGIN:VEVENT
DTSTART;TZID=Europe/Paris:20271101T163000
DTEND;TZID=Europe/Paris:20271101T180000
DTSTAMP:20260423T202330
CREATED:20251009T115127Z
LAST-MODIFIED:20251009T115127Z
UID:10097946-1825086600-1825092000@bonjourgeneve.ch
SUMMARY:Atelier de conversation en anglais - niveau intermédiaire - A2
DESCRIPTION:
URL:https://bonjourgeneve.ch/evenement/atelier-de-conversation-en-anglais-niveau-intermediaire-a2/2027-11-01/
LOCATION:Centre d’accueil de jour pour les personnes réfugiées\, 67C Rue de Lausanne\, Genève\, 1202
ATTACH;FMTTYPE=image/png:https://bonjourgeneve.ch/wp-content/uploads/2025/10/Anglais-A2.png
END:VEVENT
BEGIN:VEVENT
DTSTART;TZID=Europe/Paris:20271102T103000
DTEND;TZID=Europe/Paris:20271102T113000
DTSTAMP:20260423T202330
CREATED:20251009T115335Z
LAST-MODIFIED:20251009T115335Z
UID:10098207-1825151400-1825155000@bonjourgeneve.ch
SUMMARY:Atelier de français - niveau débutant - A0
DESCRIPTION:
URL:https://bonjourgeneve.ch/evenement/atelier-de-francais-niveau-debutant-a0/2027-11-02/
LOCATION:Centre d’accueil de jour pour les personnes réfugiées\, 67C Rue de Lausanne\, Genève\, 1202
ATTACH;FMTTYPE=image/png:https://bonjourgeneve.ch/wp-content/uploads/2025/10/FR-AO.png
END:VEVENT
BEGIN:VEVENT
DTSTART;TZID=Europe/Paris:20271102T103000
DTEND;TZID=Europe/Paris:20271102T123000
DTSTAMP:20260423T202330
CREATED:20251009T100805Z
LAST-MODIFIED:20251114T132738Z
UID:10096641-1825151400-1825158600@bonjourgeneve.ch
SUMMARY:Permanence aide à la recherche logement
DESCRIPTION:
URL:https://bonjourgeneve.ch/evenement/permanence-aide-a-la-recherche-logement-2-2/2027-11-02/
LOCATION:Centre d’accueil de jour pour les personnes réfugiées\, 67C Rue de Lausanne\, Genève\, 1202
ATTACH;FMTTYPE=image/png:https://bonjourgeneve.ch/wp-content/uploads/2025/10/logement-mardi.png
END:VEVENT
BEGIN:VEVENT
DTSTART;TZID=Europe/Paris:20271102T123000
DTEND;TZID=Europe/Paris:20271102T133000
DTSTAMP:20260423T202330
CREATED:20251009T094554Z
LAST-MODIFIED:20251009T094554Z
UID:10094813-1825158600-1825162200@bonjourgeneve.ch
SUMMARY:Atelier de mémoire (donné en ukrainien/russe))
DESCRIPTION:
URL:https://bonjourgeneve.ch/evenement/atelier-de-memoire-donne-en-ukrainien-russe/2027-11-02/
LOCATION:Centre d’accueil de jour pour les personnes réfugiées\, 67C Rue de Lausanne\, Genève\, 1202
ATTACH;FMTTYPE=image/png:https://bonjourgeneve.ch/wp-content/uploads/2025/10/Atelier-memoire-ukrainien.png
END:VEVENT
BEGIN:VEVENT
DTSTART;TZID=Europe/Paris:20271102T133000
DTEND;TZID=Europe/Paris:20271102T150000
DTSTAMP:20260423T202330
CREATED:20251009T115609Z
LAST-MODIFIED:20251009T115609Z
UID:10098468-1825162200-1825167600@bonjourgeneve.ch
SUMMARY:Atelier de conversation en français - niveau intermédiaire - A2
DESCRIPTION:
URL:https://bonjourgeneve.ch/evenement/atelier-de-conversation-en-francais-niveau-intermediaire-a2/2027-11-02/
LOCATION:Centre d’accueil de jour pour les personnes réfugiées\, 67C Rue de Lausanne\, Genève\, 1202
ATTACH;FMTTYPE=image/png:https://bonjourgeneve.ch/wp-content/uploads/2025/10/FR-A2mardi.png
END:VEVENT
BEGIN:VEVENT
DTSTART;TZID=Europe/Paris:20271102T150000
DTEND;TZID=Europe/Paris:20271102T163000
DTSTAMP:20260423T202330
CREATED:20251009T115959Z
LAST-MODIFIED:20251009T115959Z
UID:10098729-1825167600-1825173000@bonjourgeneve.ch
SUMMARY:Giris atölyesi franzisca - baslangiç seviyesi - A0 A1
DESCRIPTION:
URL:https://bonjourgeneve.ch/evenement/giris-atolyesi-franzisca-baslangic-seviyesi-a0-a1/2027-11-02/
LOCATION:Centre d’accueil de jour pour les personnes réfugiées\, 67C Rue de Lausanne\, Genève\, 1202
ATTACH;FMTTYPE=image/png:https://bonjourgeneve.ch/wp-content/uploads/2025/10/FR-TURC.png
END:VEVENT
BEGIN:VEVENT
DTSTART;TZID=Europe/Paris:20271102T163000
DTEND;TZID=Europe/Paris:20271102T180000
DTSTAMP:20260423T202330
CREATED:20251114T130521Z
LAST-MODIFIED:20251114T130521Z
UID:10101861-1825173000-1825178400@bonjourgeneve.ch
SUMMARY:ФРАНЦУЗЬКА ДЛЯ ПОЧАТКІВЦІВ УКРАЇНСЬКОЮ\, РОСІЙСЬКОЮ ТА ФРАНЦУЗЬКОЮ РІВЕНЬ A0–A1
DESCRIPTION:
URL:https://bonjourgeneve.ch/evenement/%d1%84%d1%80%d0%b0%d0%bd%d1%86%d1%83%d0%b7%d1%8c%d0%ba%d0%b0-%d0%b4%d0%bb%d1%8f-%d0%bf%d0%be%d1%87%d0%b0%d1%82%d0%ba%d1%96%d0%b2%d1%86%d1%96%d0%b2-%d1%83%d0%ba%d1%80%d0%b0%d1%97%d0%bd%d1%81%d1%8c-2/2027-11-02/
LOCATION:Centre d’accueil de jour pour les personnes réfugiées\, 67C Rue de Lausanne\, Genève\, 1202
ATTACH;FMTTYPE=image/png:https://bonjourgeneve.ch/wp-content/uploads/2025/11/francais-ukrainien2.png
END:VEVENT
BEGIN:VEVENT
DTSTART;TZID=Europe/Paris:20271103T103000
DTEND;TZID=Europe/Paris:20271103T120000
DTSTAMP:20260423T202330
CREATED:20251009T121217Z
LAST-MODIFIED:20251009T121217Z
UID:10099512-1825237800-1825243200@bonjourgeneve.ch
SUMMARY:Atelier de conversation en français - niveau débutant - A1
DESCRIPTION:
URL:https://bonjourgeneve.ch/evenement/atelier-de-conversation-en-francais-niveau-debutant-a1-2/2027-11-03/
LOCATION:Centre d’accueil de jour pour les personnes réfugiées\, 67C Rue de Lausanne\, Genève\, 1202
ATTACH;FMTTYPE=image/png:https://bonjourgeneve.ch/wp-content/uploads/2025/10/FR-A1mercredi.png
END:VEVENT
BEGIN:VEVENT
DTSTART;TZID=Europe/Paris:20271103T124500
DTEND;TZID=Europe/Paris:20271103T140000
DTSTAMP:20260423T202330
CREATED:20251009T120435Z
LAST-MODIFIED:20251009T120435Z
UID:10099251-1825245900-1825250400@bonjourgeneve.ch
SUMMARY:Chorale
DESCRIPTION:
URL:https://bonjourgeneve.ch/evenement/chorale/2027-11-03/
LOCATION:Centre d’accueil de jour pour les personnes réfugiées\, 67C Rue de Lausanne\, Genève\, 1202
ATTACH;FMTTYPE=image/png:https://bonjourgeneve.ch/wp-content/uploads/2025/10/Chorale.png
END:VEVENT
BEGIN:VEVENT
DTSTART;TZID=Europe/Paris:20271103T133000
DTEND;TZID=Europe/Paris:20271103T150000
DTSTAMP:20260423T202330
CREATED:20251009T123222Z
LAST-MODIFIED:20251009T123222Z
UID:10100555-1825248600-1825254000@bonjourgeneve.ch
SUMMARY:حصة لغة فرنسية – مستوى مبتدئ المستوى A0 A1
DESCRIPTION:
URL:https://bonjourgeneve.ch/evenement/%d8%ad%d8%b5%d8%a9-%d9%84%d8%ba%d8%a9-%d9%81%d8%b1%d9%86%d8%b3%d9%8a%d8%a9-%d9%85%d8%b3%d8%aa%d9%88%d9%89-%d9%85%d8%a8%d8%aa%d8%af%d8%a6-%d8%a7%d9%84%d9%85%d8%b3%d8%aa%d9%88%d9%89-a0-a1/2027-11-03/
LOCATION:Centre d’accueil de jour pour les personnes réfugiées\, 67C Rue de Lausanne\, Genève\, 1202
ATTACH;FMTTYPE=image/png:https://bonjourgeneve.ch/wp-content/uploads/2025/10/FR-ARABE.png
END:VEVENT
BEGIN:VEVENT
DTSTART;TZID=Europe/Paris:20271103T140000
DTEND;TZID=Europe/Paris:20271103T160000
DTSTAMP:20260423T202330
CREATED:20251008T094806Z
LAST-MODIFIED:20251008T094806Z
UID:10093770-1825250400-1825257600@bonjourgeneve.ch
SUMMARY:Atelier de couture
DESCRIPTION:
URL:https://bonjourgeneve.ch/evenement/atelier-de-couture/2027-11-03/
LOCATION:Centre d’accueil de jour pour les personnes réfugiées\, 67C Rue de Lausanne\, Genève\, 1202
ATTACH;FMTTYPE=image/png:https://bonjourgeneve.ch/wp-content/uploads/2025/10/Couture.png
END:VEVENT
BEGIN:VEVENT
DTSTART;TZID=Europe/Paris:20271103T150000
DTEND;TZID=Europe/Paris:20271103T163000
DTSTAMP:20260423T202330
CREATED:20260122T102706Z
LAST-MODIFIED:20260122T103129Z
UID:10102887-1825254000-1825259400@bonjourgeneve.ch
SUMMARY:Atelier de français en vidéo – niveau intermédiaire – A2
DESCRIPTION:
URL:https://bonjourgeneve.ch/evenement/atelier-de-francais-en-video-niveau-intermediaire-a2/2027-11-03/
LOCATION:Centre d’accueil de jour pour les personnes réfugiées\, 67C Rue de Lausanne\, Genève\, 1202
ATTACH;FMTTYPE=image/png:https://bonjourgeneve.ch/wp-content/uploads/2026/01/atelier-farncais-video.png
END:VEVENT
BEGIN:VEVENT
DTSTART;TZID=Europe/Paris:20271103T160000
DTEND;TZID=Europe/Paris:20271103T170000
DTSTAMP:20260423T202330
CREATED:20251008T095228Z
LAST-MODIFIED:20251008T095228Z
UID:10094292-1825257600-1825261200@bonjourgeneve.ch
SUMMARY:Atelier artistique pour adultes et enfants (à partir de 4 ans)
DESCRIPTION:
URL:https://bonjourgeneve.ch/evenement/atelier-artistique-pour-adultes-et-enfants-a-partir-de-4-ans/2027-11-03/
LOCATION:Centre d’accueil de jour pour les personnes réfugiées\, 67C Rue de Lausanne\, Genève\, 1202
ATTACH;FMTTYPE=image/png:https://bonjourgeneve.ch/wp-content/uploads/2025/10/Atelier-Artistique.png
END:VEVENT
BEGIN:VEVENT
DTSTART;TZID=Europe/Paris:20271103T160000
DTEND;TZID=Europe/Paris:20271103T180000
DTSTAMP:20260423T202330
CREATED:20251009T122004Z
LAST-MODIFIED:20251114T111850Z
UID:10100033-1825257600-1825264800@bonjourgeneve.ch
SUMMARY:Pratique libre d'échecs
DESCRIPTION:
URL:https://bonjourgeneve.ch/evenement/atelier-dechecs/2027-11-03/
LOCATION:Centre d’accueil de jour pour les personnes réfugiées\, 67C Rue de Lausanne\, Genève\, 1202
ATTACH;FMTTYPE=image/png:https://bonjourgeneve.ch/wp-content/uploads/2025/10/echecs-1.png
END:VEVENT
BEGIN:VEVENT
DTSTART;TZID=Europe/Paris:20271103T180000
DTEND;TZID=Europe/Paris:20271103T190000
DTSTAMP:20260423T202330
CREATED:20251114T110937Z
LAST-MODIFIED:20251114T111537Z
UID:10101070-1825264800-1825268400@bonjourgeneve.ch
SUMMARY:Atelier de Yoga
DESCRIPTION:
URL:https://bonjourgeneve.ch/evenement/atelier-de-yoga-2/2027-11-03/
LOCATION:Cycle d’orientation des Sécheron\, Avenue Blanc 1\, Genève\, 1202\, Suisse
ATTACH;FMTTYPE=image/png:https://bonjourgeneve.ch/wp-content/uploads/2025/10/yoga-1.png
END:VEVENT
BEGIN:VEVENT
DTSTART;TZID=Europe/Paris:20271103T190000
DTEND;TZID=Europe/Paris:20271103T200000
DTSTAMP:20260423T202330
CREATED:20251009T122154Z
LAST-MODIFIED:20251009T122154Z
UID:10100294-1825268400-1825272000@bonjourgeneve.ch
SUMMARY:Volley-ball
DESCRIPTION:
URL:https://bonjourgeneve.ch/evenement/volley-ball/2027-11-03/
LOCATION:Cycle d’orientation des Sécheron\, Avenue Blanc 1\, Genève\, 1202\, Suisse
ATTACH;FMTTYPE=image/png:https://bonjourgeneve.ch/wp-content/uploads/2025/10/Volley-ball.png
END:VEVENT
BEGIN:VEVENT
DTSTART;TZID=Europe/Paris:20271104T103000
DTEND;TZID=Europe/Paris:20271104T120000
DTSTAMP:20260423T202330
CREATED:20251009T121533Z
LAST-MODIFIED:20251009T121533Z
UID:10099773-1825324200-1825329600@bonjourgeneve.ch
SUMMARY:Atelier de conversation en français – niveau intermédiaire – A2
DESCRIPTION:
URL:https://bonjourgeneve.ch/evenement/atelier-de-conversation-en-francais-niveau-intermediaire-a2-2/2027-11-04/
LOCATION:Centre d’accueil de jour pour les personnes réfugiées\, 67C Rue de Lausanne\, Genève\, 1202
ATTACH;FMTTYPE=image/png:https://bonjourgeneve.ch/wp-content/uploads/2025/10/FR-A2.png
END:VEVENT
BEGIN:VEVENT
DTSTART;TZID=Europe/Paris:20271104T140000
DTEND;TZID=Europe/Paris:20271104T160000
DTSTAMP:20260423T202330
CREATED:20251009T095355Z
LAST-MODIFIED:20251009T095355Z
UID:10095337-1825336800-1825344000@bonjourgeneve.ch
SUMMARY:Atelier de français « Citoyenneté et écriture »
DESCRIPTION:
URL:https://bonjourgeneve.ch/evenement/atelier-de-francais-citoyennete-et-ecriture/2027-11-04/
LOCATION:Centre d’accueil de jour pour les personnes réfugiées\, 67C Rue de Lausanne\, Genève\, 1202
ATTACH;FMTTYPE=image/png:https://bonjourgeneve.ch/wp-content/uploads/2025/10/FR-B2C1.png
END:VEVENT
BEGIN:VEVENT
DTSTART;TZID=Europe/Paris:20271104T163000
DTEND;TZID=Europe/Paris:20271104T180000
DTSTAMP:20260423T202330
CREATED:20241017T125127Z
LAST-MODIFIED:20251008T084652Z
UID:10078815-1825345800-1825351200@bonjourgeneve.ch
SUMMARY:Atelier "Buisness English" B1-B2
DESCRIPTION:
URL:https://bonjourgeneve.ch/evenement/atelier-buisness-english-b1-b2/2027-11-04/
LOCATION:Centre d’accueil de jour pour les personnes réfugiées\, 67C Rue de Lausanne\, Genève\, 1202
ATTACH;FMTTYPE=image/png:https://bonjourgeneve.ch/wp-content/uploads/2025/10/Anglais-Buisness.png
END:VEVENT
BEGIN:VEVENT
DTSTART;TZID=Europe/Paris:20271104T170000
DTEND;TZID=Europe/Paris:20271104T180000
DTSTAMP:20260423T202330
CREATED:20251009T094928Z
LAST-MODIFIED:20251009T094928Z
UID:10095075-1825347600-1825351200@bonjourgeneve.ch
SUMMARY:Atelier d'anglais pour les enfants (de 5 à 8 ans)
DESCRIPTION:
URL:https://bonjourgeneve.ch/evenement/atelier-danglais-pour-les-enfants-de-5-a-8-ans/2027-11-04/
LOCATION:Centre d’accueil de jour pour les personnes réfugiées\, 67C Rue de Lausanne\, Genève\, 1202
ATTACH;FMTTYPE=image/png:https://bonjourgeneve.ch/wp-content/uploads/2025/10/Anglais-enfants.png
END:VEVENT
BEGIN:VEVENT
DTSTART;TZID=Europe/Paris:20271105T120000
DTEND;TZID=Europe/Paris:20271105T130000
DTSTAMP:20260423T202330
CREATED:20251009T095914Z
LAST-MODIFIED:20251009T095914Z
UID:10095859-1825416000-1825419600@bonjourgeneve.ch
SUMMARY:Atelier de danse pour femmes
DESCRIPTION:
URL:https://bonjourgeneve.ch/evenement/atelier-de-danse-pour-femmes/2027-11-05/
LOCATION:Centre d’accueil de jour pour les personnes réfugiées\, 67C Rue de Lausanne\, Genève\, 1202
ATTACH;FMTTYPE=image/png:https://bonjourgeneve.ch/wp-content/uploads/2025/10/Danse.png
END:VEVENT
BEGIN:VEVENT
DTSTART;TZID=Europe/Paris:20271105T140000
DTEND;TZID=Europe/Paris:20271105T160000
DTSTAMP:20260423T202330
CREATED:20251009T100640Z
LAST-MODIFIED:20251114T132623Z
UID:10096381-1825423200-1825430400@bonjourgeneve.ch
SUMMARY:Permanence aide à la recherche logement
DESCRIPTION:
URL:https://bonjourgeneve.ch/evenement/permanence-aide-a-la-recherche-logement-3/2027-11-05/
LOCATION:Centre d’accueil de jour pour les personnes réfugiées\, 67C Rue de Lausanne\, Genève\, 1202
ATTACH;FMTTYPE=image/png:https://bonjourgeneve.ch/wp-content/uploads/2025/10/logement-vendredi.png
END:VEVENT
BEGIN:VEVENT
DTSTART;TZID=Europe/Paris:20271105T160000
DTEND;TZID=Europe/Paris:20271105T173000
DTSTAMP:20260423T202330
CREATED:20251009T095659Z
LAST-MODIFIED:20251009T095659Z
UID:10095598-1825430400-1825435800@bonjourgeneve.ch
SUMMARY:Atelier de conversation en français - niveau débutant - A1
DESCRIPTION:
URL:https://bonjourgeneve.ch/evenement/atelier-de-conversation-en-francais-niveau-debutant-a1/2027-11-05/
LOCATION:Centre d’accueil de jour pour les personnes réfugiées\, 67C Rue de Lausanne\, Genève\, 1202
ATTACH;FMTTYPE=image/png:https://bonjourgeneve.ch/wp-content/uploads/2025/10/FR-A1vendredi.png
END:VEVENT
BEGIN:VEVENT
DTSTART;TZID=Europe/Paris:20271108T100000
DTEND;TZID=Europe/Paris:20271108T110000
DTSTAMP:20260423T202330
CREATED:20251008T093206Z
LAST-MODIFIED:20251008T093721Z
UID:10093248-1825668000-1825671600@bonjourgeneve.ch
SUMMARY:Petit-déjeuner
DESCRIPTION:
URL:https://bonjourgeneve.ch/evenement/petit-dejeuner/2027-11-08/
LOCATION:Centre d’accueil de jour pour les personnes réfugiées\, 67C Rue de Lausanne\, Genève\, 1202
ATTACH;FMTTYPE=image/png:https://bonjourgeneve.ch/wp-content/uploads/2025/10/Petit-dejeuner.png
END:VEVENT
BEGIN:VEVENT
DTSTART;TZID=Europe/Paris:20271108T130000
DTEND;TZID=Europe/Paris:20271108T143000
DTSTAMP:20260423T202330
CREATED:20251009T101713Z
LAST-MODIFIED:20251009T101713Z
UID:10097164-1825678800-1825684200@bonjourgeneve.ch
SUMMARY:ФРАНЦУЗЬКА ДЛЯ ПОЧАТКІВЦІВ УКРАЇНСЬКОЮ\, РОСІЙСЬКОЮ ТА ФРАНЦУЗЬКОЮ РІВЕНЬ A0–A1
DESCRIPTION:
URL:https://bonjourgeneve.ch/evenement/%d1%84%d1%80%d0%b0%d0%bd%d1%86%d1%83%d0%b7%d1%8c%d0%ba%d0%b0-%d0%b4%d0%bb%d1%8f-%d0%bf%d0%be%d1%87%d0%b0%d1%82%d0%ba%d1%96%d0%b2%d1%86%d1%96%d0%b2-%d1%83%d0%ba%d1%80%d0%b0%d1%97%d0%bd%d1%81%d1%8c/2027-11-08/
LOCATION:Centre d’accueil de jour pour les personnes réfugiées\, 67C Rue de Lausanne\, Genève\, 1202
ATTACH;FMTTYPE=image/png:https://bonjourgeneve.ch/wp-content/uploads/2025/10/FR-UKR.png
END:VEVENT
END:VCALENDAR