BEGIN:VCALENDAR
VERSION:2.0
PRODID:-//Bonjour Genève - ECPv6.15.17//NONSGML v1.0//EN
CALSCALE:GREGORIAN
METHOD:PUBLISH
X-ORIGINAL-URL:https://bonjourgeneve.ch
X-WR-CALDESC:Évènements pour Bonjour Genève
REFRESH-INTERVAL;VALUE=DURATION:PT1H
X-Robots-Tag:noindex
X-PUBLISHED-TTL:PT1H
BEGIN:VTIMEZONE
TZID:Europe/Paris
BEGIN:DAYLIGHT
TZOFFSETFROM:+0100
TZOFFSETTO:+0200
TZNAME:CEST
DTSTART:20250330T010000
END:DAYLIGHT
BEGIN:STANDARD
TZOFFSETFROM:+0200
TZOFFSETTO:+0100
TZNAME:CET
DTSTART:20251026T010000
END:STANDARD
BEGIN:DAYLIGHT
TZOFFSETFROM:+0100
TZOFFSETTO:+0200
TZNAME:CEST
DTSTART:20260329T010000
END:DAYLIGHT
BEGIN:STANDARD
TZOFFSETFROM:+0200
TZOFFSETTO:+0100
TZNAME:CET
DTSTART:20261025T010000
END:STANDARD
BEGIN:DAYLIGHT
TZOFFSETFROM:+0100
TZOFFSETTO:+0200
TZNAME:CEST
DTSTART:20270328T010000
END:DAYLIGHT
BEGIN:STANDARD
TZOFFSETFROM:+0200
TZOFFSETTO:+0100
TZNAME:CET
DTSTART:20271031T010000
END:STANDARD
END:VTIMEZONE
BEGIN:VEVENT
DTSTART;TZID=Europe/Paris:20260706T080000
DTEND;TZID=Europe/Paris:20260711T170000
DTSTAMP:20260423T092210
CREATED:20260116T112406Z
LAST-MODIFIED:20260116T125441Z
UID:10102794-1783324800-1783789200@bonjourgeneve.ch
SUMMARY:Ramène ta pêche aux Charmilles - Centre aéré
DESCRIPTION:Ramène ta pêche – Centre aéré d’été en alimentation\n  \nAu mois de juillet\, l’équipe de Swiss Food Academy accueillera les enfants pour les plonger dans l’univers de l’alimentation. On se retrouve du lundi 6 au vendredi 10 juillet du côté des Charmilles\, à l’espace de quartier 99 pour une semaine d’activités colorées\, fruitées et sportives. En cuisine\, en visite dans le quartier au travers de jeux collectifs sportifs ou de réflexion\, les objectifs sont clairs : se reconnecter avec son assiette !!! \nComme chaque année\, nous changeons de quartier pour rencontrer de nouveaux enfants curieux et gourmands\, cette année nous déposons nos valises estivales dans le quartier des Charmilles. \nOn va en voir et en faire de TOUTES LES COULEURS car chaque jour on met à l’honneur un fruit ou un légume de saison ! \n  \nCette activité est destinée aux enfants âgés de 6 à 12 ans \nTarif de la semaine : 350.- par enfant \nAdresse : 📍Espace de quartier Le 99\, Rue de Lyon 99\, 1203 Genève \nInscrivez vous via la fiche d’inscription sur le site \n  \nPour plus d’informations sur notre centre aéré : reservation@swissfoodacademy.ch ou +41 22 558 06 56 \n 
URL:https://bonjourgeneve.ch/evenement/ramene-ta-peche-aux-charmilles-centre-aere/
LOCATION:Espace de Quartier 99\, Rue de Lyon 99\, Genève\, 1203\, Switzerland
ATTACH;FMTTYPE=image/png:https://bonjourgeneve.ch/wp-content/uploads/2026/01/centre-aere.png
END:VEVENT
END:VCALENDAR